BEGIN:VCALENDAR
VERSION:2.0
PRODID:-//STMAmom.com - ECPv6.15.16.1//NONSGML v1.0//EN
CALSCALE:GREGORIAN
METHOD:PUBLISH
X-ORIGINAL-URL:https://stmamom.com
X-WR-CALDESC:Events for STMAmom.com
REFRESH-INTERVAL;VALUE=DURATION:PT1H
X-Robots-Tag:noindex
X-PUBLISHED-TTL:PT1H
BEGIN:VTIMEZONE
TZID:America/Chicago
BEGIN:DAYLIGHT
TZOFFSETFROM:-0600
TZOFFSETTO:-0500
TZNAME:CDT
DTSTART:20230312T080000
END:DAYLIGHT
BEGIN:STANDARD
TZOFFSETFROM:-0500
TZOFFSETTO:-0600
TZNAME:CST
DTSTART:20231105T070000
END:STANDARD
BEGIN:DAYLIGHT
TZOFFSETFROM:-0600
TZOFFSETTO:-0500
TZNAME:CDT
DTSTART:20240310T080000
END:DAYLIGHT
BEGIN:STANDARD
TZOFFSETFROM:-0500
TZOFFSETTO:-0600
TZNAME:CST
DTSTART:20241103T070000
END:STANDARD
BEGIN:DAYLIGHT
TZOFFSETFROM:-0600
TZOFFSETTO:-0500
TZNAME:CDT
DTSTART:20250309T080000
END:DAYLIGHT
BEGIN:STANDARD
TZOFFSETFROM:-0500
TZOFFSETTO:-0600
TZNAME:CST
DTSTART:20251102T070000
END:STANDARD
END:VTIMEZONE
BEGIN:VEVENT
DTSTART;VALUE=DATE:20240720
DTEND;VALUE=DATE:20240726
DTSTAMP:20260425T180615
CREATED:20240526T201238Z
LAST-MODIFIED:20240526T202435Z
UID:8318-1721433600-1721951999@stmamom.com
SUMMARY:$1 Kids Movie: Trolls Band Together
DESCRIPTION:Visit St. Michael Cinema for great kids movies all summer long for just $1 per person! Tickets available at stmichaelcinema.com. \nThis week’s movie is Trolls Band Together. \nShowtimes: \n\nSaturdays – 11:30am\nSundays – 12pm & 6pm\nMondays – 10am\nTuesdays – 2pm & 6:30pm\nWednesdays – 11:30am\nThursdays – 1pm\n\nComplete list of movies:
URL:https://stmamom.com/event/1-kids-movie-2024-07-20/
LOCATION:St. Michael Cinema\, 4300 O'Day Ave NE\, St. Michael\, MN\, 55376\, United States
ATTACH;FMTTYPE=image/jpeg:https://stmamom.com/wp-content/uploads/2024/05/summermovies-header-e1716754266575.jpg
END:VEVENT
BEGIN:VEVENT
DTSTART;TZID=America/Chicago:20240722T100000
DTEND;TZID=America/Chicago:20240722T190000
DTSTAMP:20260425T180615
CREATED:20240526T211934Z
LAST-MODIFIED:20240526T211934Z
UID:8391-1721642400-1721674800@stmamom.com
SUMMARY:Library Make & Take
DESCRIPTION:Kids ages 5–12 are invited to the library to make a free craft to take home\, while supplies last! Crafts will go along with the theme of the summer reading program: Read\, Renew\, Repeat
URL:https://stmamom.com/event/library-make-take-2024-07-22/
LOCATION:St. Michael Public Library\, 11800 Town Center Dr NE\, St. Michael\, MN\, 55376\, United States
ATTACH;FMTTYPE=image/jpeg:https://stmamom.com/wp-content/uploads/2019/09/st-michael-library.jpg
END:VEVENT
BEGIN:VEVENT
DTSTART;TZID=America/Chicago:20240722T103000
DTEND;TZID=America/Chicago:20240722T113000
DTSTAMP:20260425T180615
CREATED:20240526T212351Z
LAST-MODIFIED:20240526T212351Z
UID:8396-1721644200-1721647800@stmamom.com
SUMMARY:Library Storytime: Habitats Series
DESCRIPTION:Kids ages 3–7 are invited to the library for a special summer series featuring stories\, crafts\, and hands-on learning! \nLearn about what makes different habitats around the world special and find out what animals live there. Kids will explore Oceans\, Jungles\, the Artic\, and Deserts at this fun bimonthly program.
URL:https://stmamom.com/event/library-storytime-habitats-series-2024-07-22/
LOCATION:St. Michael Public Library\, 11800 Town Center Dr NE\, St. Michael\, MN\, 55376\, United States
ATTACH;FMTTYPE=image/jpeg:https://stmamom.com/wp-content/uploads/2019/09/st-michael-library.jpg
END:VEVENT
BEGIN:VEVENT
DTSTART;TZID=America/Chicago:20240722T190000
DTEND;TZID=America/Chicago:20240722T200000
DTSTAMP:20260425T180615
CREATED:20240526T214955Z
LAST-MODIFIED:20240526T214955Z
UID:8413-1721674800-1721678400@stmamom.com
SUMMARY:Otsego Evening in the Park
DESCRIPTION:Mark your calendar and plan a family fun night at Otsego’s Prairie Park. Bring a picnic\, play at the playground\, cool off at the splash pad\, and then enjoy some free family entertainment. All performances take place at the Prairie Park Shelter
URL:https://stmamom.com/event/otsego-evening-in-the-park-2024-07-22/
LOCATION:Prairie Park\, Otsego\, 13355 90th Street NE\, Otsego\, MN\, 55330\, United States
ATTACH;FMTTYPE=image/png:https://stmamom.com/wp-content/uploads/2021/04/otsego-parks-rec-e1619580266549.png
ORGANIZER;CN="Otsego Parks & Recreation":MAILTO:recreation@ci.otsego.mn.us
END:VEVENT
END:VCALENDAR