BEGIN:VCALENDAR
VERSION:2.0
PRODID:-//STMAmom.com - ECPv6.15.16.1//NONSGML v1.0//EN
CALSCALE:GREGORIAN
METHOD:PUBLISH
X-ORIGINAL-URL:https://stmamom.com
X-WR-CALDESC:Events for STMAmom.com
REFRESH-INTERVAL;VALUE=DURATION:PT1H
X-Robots-Tag:noindex
X-PUBLISHED-TTL:PT1H
BEGIN:VTIMEZONE
TZID:America/Chicago
BEGIN:DAYLIGHT
TZOFFSETFROM:-0600
TZOFFSETTO:-0500
TZNAME:CDT
DTSTART:20230312T080000
END:DAYLIGHT
BEGIN:STANDARD
TZOFFSETFROM:-0500
TZOFFSETTO:-0600
TZNAME:CST
DTSTART:20231105T070000
END:STANDARD
BEGIN:DAYLIGHT
TZOFFSETFROM:-0600
TZOFFSETTO:-0500
TZNAME:CDT
DTSTART:20240310T080000
END:DAYLIGHT
BEGIN:STANDARD
TZOFFSETFROM:-0500
TZOFFSETTO:-0600
TZNAME:CST
DTSTART:20241103T070000
END:STANDARD
BEGIN:DAYLIGHT
TZOFFSETFROM:-0600
TZOFFSETTO:-0500
TZNAME:CDT
DTSTART:20250309T080000
END:DAYLIGHT
BEGIN:STANDARD
TZOFFSETFROM:-0500
TZOFFSETTO:-0600
TZNAME:CST
DTSTART:20251102T070000
END:STANDARD
END:VTIMEZONE
BEGIN:VEVENT
DTSTART;VALUE=DATE:20240720
DTEND;VALUE=DATE:20240726
DTSTAMP:20260425T205841
CREATED:20240526T201238Z
LAST-MODIFIED:20240526T202435Z
UID:8318-1721433600-1721951999@stmamom.com
SUMMARY:$1 Kids Movie: Trolls Band Together
DESCRIPTION:Visit St. Michael Cinema for great kids movies all summer long for just $1 per person! Tickets available at stmichaelcinema.com. \nThis week’s movie is Trolls Band Together. \nShowtimes: \n\nSaturdays – 11:30am\nSundays – 12pm & 6pm\nMondays – 10am\nTuesdays – 2pm & 6:30pm\nWednesdays – 11:30am\nThursdays – 1pm\n\nComplete list of movies:
URL:https://stmamom.com/event/1-kids-movie-2024-07-20/
LOCATION:St. Michael Cinema\, 4300 O'Day Ave NE\, St. Michael\, MN\, 55376\, United States
ATTACH;FMTTYPE=image/jpeg:https://stmamom.com/wp-content/uploads/2024/05/summermovies-header-e1716754266575.jpg
END:VEVENT
BEGIN:VEVENT
DTSTART;VALUE=DATE:20240724
DTEND;VALUE=DATE:20240729
DTSTAMP:20260425T205841
CREATED:20240626T195007Z
LAST-MODIFIED:20240626T195007Z
UID:8482-1721779200-1722211199@stmamom.com
SUMMARY:Wright County Fair
DESCRIPTION:The Wright County Fair in Howard Lake\, Minnesota provides entertainment\, education and competition for all\, annually since 1870. Come for the undeniably delicious fair food\, stay for the rides\, the demolition derby or live entertainment. Support the youth of Wright County by visiting the junior livestock show or experience the hard work of local 4-H kids. There’s just so much to see and do\, here in the heart of the great state of Minnesota! \nFull schedule: https://www.wrightcountyfair.org/events \nAdmission: https://www.wrightcountyfair.org/p/about/tickets–admission
URL:https://stmamom.com/event/wright-county-fair-2024/
LOCATION:Wright County Fair\, 5912 County Rd 6 SW\, Howard Lake\, MN\, 55349\, United States
END:VEVENT
BEGIN:VEVENT
DTSTART;TZID=America/Chicago:20240724T090000
DTEND;TZID=America/Chicago:20240724T100000
DTSTAMP:20260425T205841
CREATED:20240526T203930Z
LAST-MODIFIED:20240526T203930Z
UID:8350-1721811600-1721815200@stmamom.com
SUMMARY:Reading in the Park (Albertville)
DESCRIPTION:Join FYCC at Central Park in Albertville to hear some great stories read by local community leaders. After storytime\, each child will get to take home a free book! \nThis event is for infants through 8th grade. Please register at myfycc.com
URL:https://stmamom.com/event/reading-in-the-park-albertville-2024-2024-07-24/
LOCATION:Albertville Central Park\, 5801 Main Ave NE\, Albertville\, MN\, 55301\, United States
ATTACH;FMTTYPE=image/png:https://stmamom.com/wp-content/uploads/2021/04/fycc-e1697061396286.png
ORGANIZER;CN="FYCC":MAILTO:FYCCinformation@gmail.com
END:VEVENT
BEGIN:VEVENT
DTSTART;TZID=America/Chicago:20240724T110000
DTEND;TZID=America/Chicago:20240724T150000
DTSTAMP:20260425T205841
CREATED:20240526T231847Z
LAST-MODIFIED:20240526T231847Z
UID:8454-1721818800-1721833200@stmamom.com
SUMMARY:The SPOT
DESCRIPTION:FYCC’s “The SPOT” is a program where 5th\, 6th & 7th graders can hang out with friends in a safe\, social environment. Each SPOT session will offer a unique class or fun field trip at varying times and prices ranging from $15 to $30. This summer’s activities include bowling\, rock climbing\, Bunker Beach\, and more! \nVisit myfycc.com to view activities and sign up.
URL:https://stmamom.com/event/the-spot-2024-2024-07-24/
LOCATION:FYCC Building\, 5975 Main Ave NE\, Albertville\, MN\, 55301\, United States
ORGANIZER;CN="FYCC":MAILTO:FYCCinformation@gmail.com
END:VEVENT
BEGIN:VEVENT
DTSTART;TZID=America/Chicago:20240724T183000
DTEND;TZID=America/Chicago:20240724T193000
DTSTAMP:20260425T205841
CREATED:20240626T235320Z
LAST-MODIFIED:20240626T235320Z
UID:8503-1721845800-1721849400@stmamom.com
SUMMARY:Mixed Nuts Family Comedy Show
DESCRIPTION:Bring the family down to Rogers Lions Central Park to enjoy great outdoor entertainment. This week they are featuring the kids comedy act\, Mixed Nuts. Bring a lawn chair or blanket to enjoy the show! \nThis event is part of Rogers Entertainment in the Park. Full schedule below:
URL:https://stmamom.com/event/mixed-nuts-family-comedy-show/
LOCATION:Rogers Lions Central Park\, 21354 Rouillard Ave\, Rogers\, MN\, 55374\, United States
ORGANIZER;CN="City of Rogers":MAILTO:info@rogersmn.gov
END:VEVENT
END:VCALENDAR