BEGIN:VCALENDAR
VERSION:2.0
PRODID:-//STMAmom.com - ECPv6.15.16.1//NONSGML v1.0//EN
CALSCALE:GREGORIAN
METHOD:PUBLISH
X-ORIGINAL-URL:https://stmamom.com
X-WR-CALDESC:Events for STMAmom.com
REFRESH-INTERVAL;VALUE=DURATION:PT1H
X-Robots-Tag:noindex
X-PUBLISHED-TTL:PT1H
BEGIN:VTIMEZONE
TZID:America/Chicago
BEGIN:DAYLIGHT
TZOFFSETFROM:-0600
TZOFFSETTO:-0500
TZNAME:CDT
DTSTART:20230312T080000
END:DAYLIGHT
BEGIN:STANDARD
TZOFFSETFROM:-0500
TZOFFSETTO:-0600
TZNAME:CST
DTSTART:20231105T070000
END:STANDARD
BEGIN:DAYLIGHT
TZOFFSETFROM:-0600
TZOFFSETTO:-0500
TZNAME:CDT
DTSTART:20240310T080000
END:DAYLIGHT
BEGIN:STANDARD
TZOFFSETFROM:-0500
TZOFFSETTO:-0600
TZNAME:CST
DTSTART:20241103T070000
END:STANDARD
BEGIN:DAYLIGHT
TZOFFSETFROM:-0600
TZOFFSETTO:-0500
TZNAME:CDT
DTSTART:20250309T080000
END:DAYLIGHT
BEGIN:STANDARD
TZOFFSETFROM:-0500
TZOFFSETTO:-0600
TZNAME:CST
DTSTART:20251102T070000
END:STANDARD
END:VTIMEZONE
BEGIN:VEVENT
DTSTART;VALUE=DATE:20240727
DTEND;VALUE=DATE:20240802
DTSTAMP:20260425T145205
CREATED:20240526T201238Z
LAST-MODIFIED:20240526T202526Z
UID:8319-1722038400-1722556799@stmamom.com
SUMMARY:$1 Kids Movie: The Bad Guys
DESCRIPTION:Visit St. Michael Cinema for great kids movies all summer long for just $1 per person! Tickets available at stmichaelcinema.com. \nThis week’s movie is The Bad Guys. \nShowtimes: \n\nSaturdays – 11:30am\nSundays – 12pm & 6pm\nMondays – 10am\nTuesdays – 2pm & 6:30pm\nWednesdays – 11:30am\nThursdays – 1pm\n\nComplete list of movies:
URL:https://stmamom.com/event/1-kids-movie-2024-07-27/
LOCATION:St. Michael Cinema\, 4300 O'Day Ave NE\, St. Michael\, MN\, 55376\, United States
ATTACH;FMTTYPE=image/jpeg:https://stmamom.com/wp-content/uploads/2024/05/summermovies-header-e1716754266575.jpg
END:VEVENT
BEGIN:VEVENT
DTSTART;TZID=America/Chicago:20240730T090000
DTEND;TZID=America/Chicago:20240730T103000
DTSTAMP:20260425T145205
CREATED:20240605T145616Z
LAST-MODIFIED:20240605T145616Z
UID:8465-1722330000-1722335400@stmamom.com
SUMMARY:Breakfast at the Playground (Albertville Primary)
DESCRIPTION:All school-aged children and adolescents in the STMA community are welcome to a FREE breakfast every Tuesday this summer. You can “grab and go” your breakfast or stay and hang out to play on the playground!\n\nIf you would like to donate towards breakfast items\, visit the Amazon Wish List: https://a.co/12WEmde\n\nAlbertville Primary\nJune 18\, July 2\, July 16\, July 30\, August 13\n\nSt. Michael Elementary\n\nJune 11\, June 25\, July 9\, July 23\, August 6
URL:https://stmamom.com/event/breakfast-at-the-playground-albertville-primary-2024-07-30/
LOCATION:Albertville Primary School\, 5386 Main Avenue NE\, Albertville\, MN\, 55301\, United States
ATTACH;FMTTYPE=image/jpeg:https://stmamom.com/wp-content/uploads/2024/06/batp-e1717596669906.jpg
ORGANIZER;CN="Alleluia Lutheran Church":MAILTO:office@alleluialutheranchurch.org
END:VEVENT
BEGIN:VEVENT
DTSTART;TZID=America/Chicago:20240730T100000
DTEND;TZID=America/Chicago:20240730T110000
DTSTAMP:20260425T145205
CREATED:20240526T214302Z
LAST-MODIFIED:20240526T214302Z
UID:8405-1722333600-1722337200@stmamom.com
SUMMARY:Splash & Play Tuesday (Otsego)
DESCRIPTION:Cool off at the Otsego Splash Pad and enjoy free family entertainment at Otsego’s Splash & Play Tuesdays. \nEntertainment will take place in the park shelter (or move inside the Prairie Center if there is inclement weather).
URL:https://stmamom.com/event/splash-play-tuesdays-2024-2024-07-30/
LOCATION:Prairie Park\, Otsego\, 13355 90th Street NE\, Otsego\, MN\, 55330\, United States
ATTACH;FMTTYPE=image/png:https://stmamom.com/wp-content/uploads/2021/04/otsego-parks-rec-e1619580266549.png
ORGANIZER;CN="Otsego Parks & Recreation":MAILTO:recreation@ci.otsego.mn.us
END:VEVENT
END:VCALENDAR