BEGIN:VCALENDAR
VERSION:2.0
PRODID:-//STMAmom.com - ECPv6.15.16.1//NONSGML v1.0//EN
CALSCALE:GREGORIAN
METHOD:PUBLISH
X-ORIGINAL-URL:https://stmamom.com
X-WR-CALDESC:Events for STMAmom.com
REFRESH-INTERVAL;VALUE=DURATION:PT1H
X-Robots-Tag:noindex
X-PUBLISHED-TTL:PT1H
BEGIN:VTIMEZONE
TZID:America/Chicago
BEGIN:DAYLIGHT
TZOFFSETFROM:-0600
TZOFFSETTO:-0500
TZNAME:CDT
DTSTART:20230312T080000
END:DAYLIGHT
BEGIN:STANDARD
TZOFFSETFROM:-0500
TZOFFSETTO:-0600
TZNAME:CST
DTSTART:20231105T070000
END:STANDARD
BEGIN:DAYLIGHT
TZOFFSETFROM:-0600
TZOFFSETTO:-0500
TZNAME:CDT
DTSTART:20240310T080000
END:DAYLIGHT
BEGIN:STANDARD
TZOFFSETFROM:-0500
TZOFFSETTO:-0600
TZNAME:CST
DTSTART:20241103T070000
END:STANDARD
BEGIN:DAYLIGHT
TZOFFSETFROM:-0600
TZOFFSETTO:-0500
TZNAME:CDT
DTSTART:20250309T080000
END:DAYLIGHT
BEGIN:STANDARD
TZOFFSETFROM:-0500
TZOFFSETTO:-0600
TZNAME:CST
DTSTART:20251102T070000
END:STANDARD
END:VTIMEZONE
BEGIN:VEVENT
DTSTART;VALUE=DATE:20240803
DTEND;VALUE=DATE:20240809
DTSTAMP:20260425T131519
CREATED:20240526T201238Z
LAST-MODIFIED:20240526T202613Z
UID:8320-1722643200-1723161599@stmamom.com
SUMMARY:$1 Kids Movie: Kung Fu Panda
DESCRIPTION:Visit St. Michael Cinema for great kids movies all summer long for just $1 per person! Tickets available at stmichaelcinema.com. \nThis week’s movie is Kung Fu Panda. \nShowtimes: \n\nSaturdays – 11:30am\nSundays – 12pm & 6pm\nMondays – 10am\nTuesdays – 2pm & 6:30pm\nWednesdays – 11:30am\nThursdays – 1pm\n\nComplete list of movies:
URL:https://stmamom.com/event/1-kids-movie-2024-08-03/
LOCATION:St. Michael Cinema\, 4300 O'Day Ave NE\, St. Michael\, MN\, 55376\, United States
ATTACH;FMTTYPE=image/jpeg:https://stmamom.com/wp-content/uploads/2024/05/summermovies-header-e1716754266575.jpg
END:VEVENT
BEGIN:VEVENT
DTSTART;TZID=America/Chicago:20240807T090000
DTEND;TZID=America/Chicago:20240807T100000
DTSTAMP:20260425T131519
CREATED:20240526T203930Z
LAST-MODIFIED:20240526T203930Z
UID:8351-1723021200-1723024800@stmamom.com
SUMMARY:Reading in the Park (Albertville)
DESCRIPTION:Join FYCC at Central Park in Albertville to hear some great stories read by local community leaders. After storytime\, each child will get to take home a free book! \nThis event is for infants through 8th grade. Please register at myfycc.com
URL:https://stmamom.com/event/reading-in-the-park-albertville-2024-2024-08-07/
LOCATION:Albertville Central Park\, 5801 Main Ave NE\, Albertville\, MN\, 55301\, United States
ATTACH;FMTTYPE=image/png:https://stmamom.com/wp-content/uploads/2021/04/fycc-e1697061396286.png
ORGANIZER;CN="FYCC":MAILTO:FYCCinformation@gmail.com
END:VEVENT
BEGIN:VEVENT
DTSTART;TZID=America/Chicago:20240807T183000
DTEND;TZID=America/Chicago:20240807T193000
DTSTAMP:20260425T131519
CREATED:20240626T235608Z
LAST-MODIFIED:20240626T235608Z
UID:8507-1723055400-1723059000@stmamom.com
SUMMARY:Tricia & the Toonies
DESCRIPTION:Bring the family down to Rogers Lions Central Park to enjoy great outdoor entertainment. This week they will be featuring kids’ band\, Tricia & the Toonies. Bring a lawn chair or blanket to enjoy the show! \nThis event is part of Rogers Entertainment in the Park. Full schedule below:
URL:https://stmamom.com/event/tricia-the-toonies-2/
LOCATION:Rogers Lions Central Park\, 21354 Rouillard Ave\, Rogers\, MN\, 55374\, United States
ORGANIZER;CN="City of Rogers":MAILTO:info@rogersmn.gov
END:VEVENT
END:VCALENDAR