BEGIN:VCALENDAR
VERSION:2.0
PRODID:-//STMAmom.com - ECPv6.15.16.1//NONSGML v1.0//EN
CALSCALE:GREGORIAN
METHOD:PUBLISH
X-ORIGINAL-URL:https://stmamom.com
X-WR-CALDESC:Events for STMAmom.com
REFRESH-INTERVAL;VALUE=DURATION:PT1H
X-Robots-Tag:noindex
X-PUBLISHED-TTL:PT1H
BEGIN:VTIMEZONE
TZID:America/Chicago
BEGIN:DAYLIGHT
TZOFFSETFROM:-0600
TZOFFSETTO:-0500
TZNAME:CDT
DTSTART:20230312T080000
END:DAYLIGHT
BEGIN:STANDARD
TZOFFSETFROM:-0500
TZOFFSETTO:-0600
TZNAME:CST
DTSTART:20231105T070000
END:STANDARD
BEGIN:DAYLIGHT
TZOFFSETFROM:-0600
TZOFFSETTO:-0500
TZNAME:CDT
DTSTART:20240310T080000
END:DAYLIGHT
BEGIN:STANDARD
TZOFFSETFROM:-0500
TZOFFSETTO:-0600
TZNAME:CST
DTSTART:20241103T070000
END:STANDARD
BEGIN:DAYLIGHT
TZOFFSETFROM:-0600
TZOFFSETTO:-0500
TZNAME:CDT
DTSTART:20250309T080000
END:DAYLIGHT
BEGIN:STANDARD
TZOFFSETFROM:-0500
TZOFFSETTO:-0600
TZNAME:CST
DTSTART:20251102T070000
END:STANDARD
END:VTIMEZONE
BEGIN:VEVENT
DTSTART;VALUE=DATE:20240810
DTEND;VALUE=DATE:20240816
DTSTAMP:20260425T131514
CREATED:20240526T201238Z
LAST-MODIFIED:20240526T202922Z
UID:8321-1723248000-1723766399@stmamom.com
SUMMARY:$1 Kids Movie: Migration
DESCRIPTION:Visit St. Michael Cinema for great kids movies all summer long for just $1 per person! Tickets available at stmichaelcinema.com. \nThis week’s movie is Migration. \nShowtimes: \n\nSaturdays – 11:30am\nSundays – 12pm & 6pm\nMondays – 10am\nTuesdays – 2pm & 6:30pm\nWednesdays – 11:30am\nThursdays – 1pm\n\nComplete list of movies:
URL:https://stmamom.com/event/1-kids-movie-2024-08-10/
LOCATION:St. Michael Cinema\, 4300 O'Day Ave NE\, St. Michael\, MN\, 55376\, United States
ATTACH;FMTTYPE=image/jpeg:https://stmamom.com/wp-content/uploads/2024/05/summermovies-header-e1716754266575.jpg
END:VEVENT
BEGIN:VEVENT
DTSTART;TZID=America/Chicago:20240814T180000
DTEND;TZID=America/Chicago:20240814T193000
DTSTAMP:20260425T131514
CREATED:20240626T192826Z
LAST-MODIFIED:20240626T192826Z
UID:8474-1723658400-1723663800@stmamom.com
SUMMARY:Family Night in the Park: KidPower w/ Rachael
DESCRIPTION:Bring the family to Town Center Park for an evening of kid-friendly\, musical fun! KidPower with Rachael combines interactive music with humor\, puppetry\, and more.
URL:https://stmamom.com/event/family-night-in-the-park-kidpower-w-rachael/
LOCATION:Town Center Park\, 11800 Town Center Drive NE\, St. Michael\, MN\, 55376\, United States
END:VEVENT
BEGIN:VEVENT
DTSTART;TZID=America/Chicago:20240814T183000
DTEND;TZID=America/Chicago:20240814T193000
DTSTAMP:20260425T131514
CREATED:20240626T235723Z
LAST-MODIFIED:20240626T235723Z
UID:8509-1723660200-1723663800@stmamom.com
SUMMARY:The Teddy Bear Band
DESCRIPTION:Bring the family down to Rogers Lions Central Park to enjoy great outdoor entertainment. This week they will be featuring kids’ musical act\, the Teddy Bear Band. Bring a lawn chair or blanket to enjoy the show\, and don’t forget your teddy bear! \nThis event is part of Rogers Entertainment in the Park. Full schedule below:
URL:https://stmamom.com/event/the-teddy-bear-band/
LOCATION:Rogers Lions Central Park\, 21354 Rouillard Ave\, Rogers\, MN\, 55374\, United States
ORGANIZER;CN="City of Rogers":MAILTO:info@rogersmn.gov
END:VEVENT
END:VCALENDAR