BEGIN:VCALENDAR
VERSION:2.0
PRODID:-//STMAmom.com - ECPv6.15.16.1//NONSGML v1.0//EN
CALSCALE:GREGORIAN
METHOD:PUBLISH
X-ORIGINAL-URL:https://stmamom.com
X-WR-CALDESC:Events for STMAmom.com
REFRESH-INTERVAL;VALUE=DURATION:PT1H
X-Robots-Tag:noindex
X-PUBLISHED-TTL:PT1H
BEGIN:VTIMEZONE
TZID:America/Chicago
BEGIN:DAYLIGHT
TZOFFSETFROM:-0600
TZOFFSETTO:-0500
TZNAME:CDT
DTSTART:20230312T080000
END:DAYLIGHT
BEGIN:STANDARD
TZOFFSETFROM:-0500
TZOFFSETTO:-0600
TZNAME:CST
DTSTART:20231105T070000
END:STANDARD
BEGIN:DAYLIGHT
TZOFFSETFROM:-0600
TZOFFSETTO:-0500
TZNAME:CDT
DTSTART:20240310T080000
END:DAYLIGHT
BEGIN:STANDARD
TZOFFSETFROM:-0500
TZOFFSETTO:-0600
TZNAME:CST
DTSTART:20241103T070000
END:STANDARD
BEGIN:DAYLIGHT
TZOFFSETFROM:-0600
TZOFFSETTO:-0500
TZNAME:CDT
DTSTART:20250309T080000
END:DAYLIGHT
BEGIN:STANDARD
TZOFFSETFROM:-0500
TZOFFSETTO:-0600
TZNAME:CST
DTSTART:20251102T070000
END:STANDARD
END:VTIMEZONE
BEGIN:VEVENT
DTSTART;VALUE=DATE:20240817
DTEND;VALUE=DATE:20240823
DTSTAMP:20260425T181126
CREATED:20240526T201238Z
LAST-MODIFIED:20240526T203014Z
UID:8342-1723852800-1724371199@stmamom.com
SUMMARY:$1 Kids Movie: Shrek
DESCRIPTION:Visit St. Michael Cinema for great kids movies all summer long for just $1 per person! Tickets available at stmichaelcinema.com. \nThis week’s movie is Shrek. \nShowtimes: \n\nSaturdays – 11:30am\nSundays – 12pm & 6pm\nMondays – 10am\nTuesdays – 2pm & 6:30pm\nWednesdays – 11:30am\nThursdays – 1pm\n\nComplete list of movies:
URL:https://stmamom.com/event/1-kids-movie-2024-08-17/
LOCATION:St. Michael Cinema\, 4300 O'Day Ave NE\, St. Michael\, MN\, 55376\, United States
ATTACH;FMTTYPE=image/jpeg:https://stmamom.com/wp-content/uploads/2024/05/summermovies-header-e1716754266575.jpg
END:VEVENT
BEGIN:VEVENT
DTSTART;TZID=America/Chicago:20240822T130000
DTEND;TZID=America/Chicago:20240822T140000
DTSTAMP:20260425T181126
CREATED:20240526T230925Z
LAST-MODIFIED:20240626T201304Z
UID:8448-1724331600-1724335200@stmamom.com
SUMMARY:Open Swim
DESCRIPTION:Bring your family to enjoy lifeguard-supervised recreational swimming at STMA Middle School East. You can choose either to pay per visit or purchase a season pass. No registration required; pay on site at the pool. \nChildren 7 and under MUST be accompanied by an adult in the water. \nDaily Admission: \n\nChildren 4 and under – Free\nStudents and Adults – $3\nFamily (immediate family only) – $6\nActivity Center members – Free\n\nSummer Pool Pass: \n\nIndividual Pass – $50\nFamily Pass – $75
URL:https://stmamom.com/event/open-swim-2024-08-22/
LOCATION:STMA Middle School East\, 4862 Naber Avenue NE\, St. Michael\, MN\, 55376\, United States
ATTACH;FMTTYPE=image/png:https://stmamom.com/wp-content/uploads/2023/07/swim-e1689015869465.png
ORGANIZER;CN="STMA Community Education":MAILTO:janetm@mystma.org
END:VEVENT
BEGIN:VEVENT
DTSTART;TZID=America/Chicago:20240822T150000
DTEND;TZID=America/Chicago:20240822T183000
DTSTAMP:20260425T181126
CREATED:20240526T210415Z
LAST-MODIFIED:20240526T210415Z
UID:8383-1724338800-1724351400@stmamom.com
SUMMARY:Power of Produce
DESCRIPTION:FYCC’s free “Power of Produce” program is open to kids ages 2–17. Each week that they visit the Albertville Farmer’s Market\, kids will receive a free fruit or vegetable of their choice that was provided by farmers from the market. The P.O.P. program runs every Thursday\, from July 11 through August 29. \nParent or guardian permission/signature required at signup.\nRegister in advance at https://secure.rec1.com/MN/family-youth-community-connections/catalog
URL:https://stmamom.com/event/power-of-produce-2024-2024-08-22/
LOCATION:Albertville Central Park\, 5801 Main Ave NE\, Albertville\, MN\, 55301\, United States
ATTACH;FMTTYPE=image/jpeg:https://stmamom.com/wp-content/uploads/2023/06/pop-e1686777338415.jpg
ORGANIZER;CN="FYCC":MAILTO:FYCCinformation@gmail.com
END:VEVENT
BEGIN:VEVENT
DTSTART;TZID=America/Chicago:20240822T200000
DTEND;TZID=America/Chicago:20240822T220000
DTSTAMP:20260425T181126
CREATED:20240627T000358Z
LAST-MODIFIED:20240627T000358Z
UID:8515-1724356800-1724364000@stmamom.com
SUMMARY:Rogers Movie in the Park
DESCRIPTION:Bring a chair or blanket to Lions Central Park in Rogers to enjoy a free family movie every Thursday night in August! Movies begin at dusk. \nAugust 8 – The Little Mermaid (2023)\nAugust 15 – The Parent Trap (1998)\nAugust 22 – Zootopia\nAugust 29 – Spy Kids \nThis event is part of Rogers Entertainment in the Park. Full schedule below:
URL:https://stmamom.com/event/rogers-movie-in-the-park-2024-08-22/
LOCATION:Rogers Lions Central Park\, 21354 Rouillard Ave\, Rogers\, MN\, 55374\, United States
ORGANIZER;CN="City of Rogers":MAILTO:info@rogersmn.gov
END:VEVENT
END:VCALENDAR