BEGIN:VCALENDAR
VERSION:2.0
PRODID:-//STMAmom.com - ECPv6.15.16.1//NONSGML v1.0//EN
CALSCALE:GREGORIAN
METHOD:PUBLISH
X-WR-CALNAME:STMAmom.com
X-ORIGINAL-URL:https://stmamom.com
X-WR-CALDESC:Events for STMAmom.com
REFRESH-INTERVAL;VALUE=DURATION:PT1H
X-Robots-Tag:noindex
X-PUBLISHED-TTL:PT1H
BEGIN:VTIMEZONE
TZID:America/Chicago
BEGIN:DAYLIGHT
TZOFFSETFROM:-0600
TZOFFSETTO:-0500
TZNAME:CDT
DTSTART:20230312T080000
END:DAYLIGHT
BEGIN:STANDARD
TZOFFSETFROM:-0500
TZOFFSETTO:-0600
TZNAME:CST
DTSTART:20231105T070000
END:STANDARD
BEGIN:DAYLIGHT
TZOFFSETFROM:-0600
TZOFFSETTO:-0500
TZNAME:CDT
DTSTART:20240310T080000
END:DAYLIGHT
BEGIN:STANDARD
TZOFFSETFROM:-0500
TZOFFSETTO:-0600
TZNAME:CST
DTSTART:20241103T070000
END:STANDARD
BEGIN:DAYLIGHT
TZOFFSETFROM:-0600
TZOFFSETTO:-0500
TZNAME:CDT
DTSTART:20250309T080000
END:DAYLIGHT
BEGIN:STANDARD
TZOFFSETFROM:-0500
TZOFFSETTO:-0600
TZNAME:CST
DTSTART:20251102T070000
END:STANDARD
END:VTIMEZONE
BEGIN:VEVENT
DTSTART;TZID=America/Chicago:20241015T180000
DTEND;TZID=America/Chicago:20241015T200000
DTSTAMP:20260425T191659
CREATED:20240927T212351Z
LAST-MODIFIED:20240927T212351Z
UID:8653-1729015200-1729022400@stmamom.com
SUMMARY:Nerf Night at Avery's Adventures
DESCRIPTION:Join Avery’s Adventures for a spooktacular\, Halloween-themed Nerf Night! Bring your favorite Nerf Gun. They’ll provide the Nerf bullets\, safety glasses\, and fun targets. Costumes are highly suggested for the October event!\n\nCost: $13/child\, adults free\n\nSign up by emailing averysadventuresmn@gmail.com\nSet up an account through the Avery’s Adventures app for waiver and to facilitate payment at the door
URL:https://stmamom.com/event/nerf-night-at-averys-adventures-2/
LOCATION:Avery’s Adventures\, 19138 Freeport St NW\, Elk River\, MN\, 55330\, United States
END:VEVENT
END:VCALENDAR