BEGIN:VCALENDAR
VERSION:2.0
PRODID:-//STMAmom.com - ECPv6.15.16.1//NONSGML v1.0//EN
CALSCALE:GREGORIAN
METHOD:PUBLISH
X-WR-CALNAME:STMAmom.com
X-ORIGINAL-URL:https://stmamom.com
X-WR-CALDESC:Events for STMAmom.com
REFRESH-INTERVAL;VALUE=DURATION:PT1H
X-Robots-Tag:noindex
X-PUBLISHED-TTL:PT1H
BEGIN:VTIMEZONE
TZID:America/Chicago
BEGIN:DAYLIGHT
TZOFFSETFROM:-0600
TZOFFSETTO:-0500
TZNAME:CDT
DTSTART:20230312T080000
END:DAYLIGHT
BEGIN:STANDARD
TZOFFSETFROM:-0500
TZOFFSETTO:-0600
TZNAME:CST
DTSTART:20231105T070000
END:STANDARD
BEGIN:DAYLIGHT
TZOFFSETFROM:-0600
TZOFFSETTO:-0500
TZNAME:CDT
DTSTART:20240310T080000
END:DAYLIGHT
BEGIN:STANDARD
TZOFFSETFROM:-0500
TZOFFSETTO:-0600
TZNAME:CST
DTSTART:20241103T070000
END:STANDARD
BEGIN:DAYLIGHT
TZOFFSETFROM:-0600
TZOFFSETTO:-0500
TZNAME:CDT
DTSTART:20250309T080000
END:DAYLIGHT
BEGIN:STANDARD
TZOFFSETFROM:-0500
TZOFFSETTO:-0600
TZNAME:CST
DTSTART:20251102T070000
END:STANDARD
END:VTIMEZONE
BEGIN:VEVENT
DTSTART;VALUE=DATE:20241017
DTEND;VALUE=DATE:20241020
DTSTAMP:20260425T130254
CREATED:20240830T193050Z
LAST-MODIFIED:20240830T193050Z
UID:8558-1729123200-1729382399@stmamom.com
SUMMARY:NO SCHOOL (MEA Break)
DESCRIPTION:
URL:https://stmamom.com/event/no-school-mea-break/
LOCATION:MN
END:VEVENT
BEGIN:VEVENT
DTSTART;TZID=America/Chicago:20241017T100000
DTEND;TZID=America/Chicago:20241017T103000
DTSTAMP:20260425T130254
CREATED:20240830T193848Z
LAST-MODIFIED:20250424T132125Z
UID:8707-1729159200-1729161000@stmamom.com
SUMMARY:ECFE Storytime at the Library
DESCRIPTION:Come hang out at the library with your friends from ECFE! A staff member from STMA’s Early Childhood program will lead storytime along with crafts\, games\, songs. This event is intended for ages 0 to 6 along with their parent or caregiver.
URL:https://stmamom.com/event/ecfe-storytime-at-the-library-2024-2024-10-17/
LOCATION:St. Michael Public Library\, 11800 Town Center Dr NE\, St. Michael\, MN\, 55376\, United States
ATTACH;FMTTYPE=image/jpeg:https://stmamom.com/wp-content/uploads/2021/04/ecfe-e1619575280453.jpg
END:VEVENT
BEGIN:VEVENT
DTSTART;TZID=America/Chicago:20241017T100000
DTEND;TZID=America/Chicago:20241017T113000
DTSTAMP:20260425T130254
CREATED:20240830T204814Z
LAST-MODIFIED:20250424T131355Z
UID:8602-1729159200-1729164600@stmamom.com
SUMMARY:Otsego Open Playtime
DESCRIPTION:Kids ages 5 & under are invited to play and meet new friends at Otsego’s Open Playtime. This drop-in program offers an open play session full of toys\, crafts\, active equipment\, and activities. Come for the whole time or stay while you can. (Parent/guardian supervision is required.) \nCost: $3/child at the door\, or pick up an 11-visit punchcard for $20 at https://otsego.recdesk.com\nPlease check Facebook for closures due to holidays or inclement weather:
URL:https://stmamom.com/event/otsego-open-playtime-2024-10-17/
LOCATION:Prairie Center\, 8899 Nashua Ave NE\, Otsego\, MN\, 55330\, United States
ATTACH;FMTTYPE=image/png:https://stmamom.com/wp-content/uploads/2021/04/otsego-parks-rec-e1619580266549.png
ORGANIZER;CN="Otsego Parks & Recreation":MAILTO:recreation@ci.otsego.mn.us
END:VEVENT
BEGIN:VEVENT
DTSTART;TZID=America/Chicago:20241017T120000
DTEND;TZID=America/Chicago:20241017T131500
DTSTAMP:20260425T130254
CREATED:20241017T220819Z
LAST-MODIFIED:20241017T220819Z
UID:8702-1729166400-1729170900@stmamom.com
SUMMARY:Open Skate at STMA Ice Arena
DESCRIPTION:Bring your skates and drop in to STMA Ice Arena for open skating during MEA Break! \nCost: $5/skater
URL:https://stmamom.com/event/open-skate-at-stma-ice-arena/
LOCATION:STMA Ice Arena\, 5898 Lachman Ave NE\, Albertville\, MN\, 55301\, United States
END:VEVENT
BEGIN:VEVENT
DTSTART;TZID=America/Chicago:20241017T170000
DTEND;TZID=America/Chicago:20241017T180000
DTSTAMP:20260425T130254
CREATED:20240830T194317Z
LAST-MODIFIED:20260325T212538Z
UID:8571-1729184400-1729188000@stmamom.com
SUMMARY:LEGO Fun at the Library
DESCRIPTION:School-age kids are invited to show off their LEGO building skills! The library will provide the bricks\, you provide the imagination. Come meet with other builders and have some fun.
URL:https://stmamom.com/event/lego-fun-at-the-library-2024-10-17/
LOCATION:St. Michael Public Library\, 11800 Town Center Dr NE\, St. Michael\, MN\, 55376\, United States
ATTACH;FMTTYPE=image/jpeg:https://stmamom.com/wp-content/uploads/2024/08/lego-scaled.jpg
END:VEVENT
BEGIN:VEVENT
DTSTART;TZID=America/Chicago:20241017T173000
DTEND;TZID=America/Chicago:20241017T183000
DTSTAMP:20260425T130254
CREATED:20240927T192817Z
LAST-MODIFIED:20240927T192817Z
UID:8641-1729186200-1729189800@stmamom.com
SUMMARY:PeekabooBOO's Halloween Bash
DESCRIPTION:Prepare for a spook-tacular evening your little ones will love at Peekabooboo’s Play Cafe! You and your littles are invited to dress in your favorite costumes for a night filled with games\, treats\, and tons of festive fun.\n\nCost: $23/child ages 1 to 8\n(Parents/caregivers and children ages 9 and up are free) \nRegistration required: \nhttps://peekabooboosplaycafe.as.me/schedule.php?appointmentType=67988338
URL:https://stmamom.com/event/peekabooboos-halloween-bash/
LOCATION:Peekabooboo’s Play Cafe\, 5985 Large Ave NE\, Albertville\, MN\, 55301\, United States
END:VEVENT
END:VCALENDAR