BEGIN:VCALENDAR
VERSION:2.0
PRODID:-//STMAmom.com - ECPv6.15.16.1//NONSGML v1.0//EN
CALSCALE:GREGORIAN
METHOD:PUBLISH
X-ORIGINAL-URL:https://stmamom.com
X-WR-CALDESC:Events for STMAmom.com
REFRESH-INTERVAL;VALUE=DURATION:PT1H
X-Robots-Tag:noindex
X-PUBLISHED-TTL:PT1H
BEGIN:VTIMEZONE
TZID:America/Chicago
BEGIN:DAYLIGHT
TZOFFSETFROM:-0600
TZOFFSETTO:-0500
TZNAME:CDT
DTSTART:20230312T080000
END:DAYLIGHT
BEGIN:STANDARD
TZOFFSETFROM:-0500
TZOFFSETTO:-0600
TZNAME:CST
DTSTART:20231105T070000
END:STANDARD
BEGIN:DAYLIGHT
TZOFFSETFROM:-0600
TZOFFSETTO:-0500
TZNAME:CDT
DTSTART:20240310T080000
END:DAYLIGHT
BEGIN:STANDARD
TZOFFSETFROM:-0500
TZOFFSETTO:-0600
TZNAME:CST
DTSTART:20241103T070000
END:STANDARD
BEGIN:DAYLIGHT
TZOFFSETFROM:-0600
TZOFFSETTO:-0500
TZNAME:CDT
DTSTART:20250309T080000
END:DAYLIGHT
BEGIN:STANDARD
TZOFFSETFROM:-0500
TZOFFSETTO:-0600
TZNAME:CST
DTSTART:20251102T070000
END:STANDARD
END:VTIMEZONE
BEGIN:VEVENT
DTSTART;TZID=America/Chicago:20241024T100000
DTEND;TZID=America/Chicago:20241024T103000
DTSTAMP:20260425T113302
CREATED:20240830T193848Z
LAST-MODIFIED:20250424T132125Z
UID:8567-1729764000-1729765800@stmamom.com
SUMMARY:ECFE Storytime at the Library
DESCRIPTION:Come hang out at the library with your friends from ECFE! A staff member from STMA’s Early Childhood program will lead storytime along with crafts\, games\, songs. This event is intended for ages 0 to 6 along with their parent or caregiver.
URL:https://stmamom.com/event/ecfe-storytime-at-the-library-2024-2024-10-24/
LOCATION:St. Michael Public Library\, 11800 Town Center Dr NE\, St. Michael\, MN\, 55376\, United States
ATTACH;FMTTYPE=image/jpeg:https://stmamom.com/wp-content/uploads/2021/04/ecfe-e1619575280453.jpg
END:VEVENT
BEGIN:VEVENT
DTSTART;TZID=America/Chicago:20241024T100000
DTEND;TZID=America/Chicago:20241024T113000
DTSTAMP:20260425T113302
CREATED:20240830T204814Z
LAST-MODIFIED:20250424T131355Z
UID:8604-1729764000-1729769400@stmamom.com
SUMMARY:Otsego Open Playtime
DESCRIPTION:Kids ages 5 & under are invited to play and meet new friends at Otsego’s Open Playtime. This drop-in program offers an open play session full of toys\, crafts\, active equipment\, and activities. Come for the whole time or stay while you can. (Parent/guardian supervision is required.) \nCost: $3/child at the door\, or pick up an 11-visit punchcard for $20 at https://otsego.recdesk.com\nPlease check Facebook for closures due to holidays or inclement weather:
URL:https://stmamom.com/event/otsego-open-playtime-2024-10-24/
LOCATION:Prairie Center\, 8899 Nashua Ave NE\, Otsego\, MN\, 55330\, United States
ATTACH;FMTTYPE=image/png:https://stmamom.com/wp-content/uploads/2021/04/otsego-parks-rec-e1619580266549.png
ORGANIZER;CN="Otsego Parks & Recreation":MAILTO:recreation@ci.otsego.mn.us
END:VEVENT
BEGIN:VEVENT
DTSTART;TZID=America/Chicago:20241024T160000
DTEND;TZID=America/Chicago:20241024T180000
DTSTAMP:20260425T113302
CREATED:20240927T203425Z
LAST-MODIFIED:20240927T203425Z
UID:8645-1729785600-1729792800@stmamom.com
SUMMARY:Monticello Trick-or-Treat
DESCRIPTION:The Monticello Chamber and Monticello Parks\, Arts\, and Recreation are thrilled to invite you to their spook-tacular Trick or Treat event in Downtown Monticello!\n\nSwing by the Liberty Bank Minnesota booth on Walnut Street near 3rd Street to grab your complimentary trick-or-treat bag. (supplies limited\, so arrive early) Then\, get ready to haunt Walnut and West Broadway\, where participating businesses are all set to dish out the treats. Just look for the orange pumpkin in their window or on their door to know where the goodies are waiting!\n\nAfter you’ve collected your goodies\, head over to West Bridge Park for even more fun. There will be more business booths\, music\, food stands\, and games to keep the Halloween spirit going strong.
URL:https://stmamom.com/event/monticello-trick-or-treat-3/
LOCATION:Downtown Monticello\, 154 Walnut Street\, Monticello\, MN\, 55362\, United States
ATTACH;FMTTYPE=image/jpeg:https://stmamom.com/wp-content/uploads/2021/06/monticello.jpg
ORGANIZER;CN="City of Monticello":MAILTO:info@ci.monticello.mn.us
END:VEVENT
END:VCALENDAR