BEGIN:VCALENDAR
VERSION:2.0
PRODID:-//STMAmom.com - ECPv6.15.16.1//NONSGML v1.0//EN
CALSCALE:GREGORIAN
METHOD:PUBLISH
X-ORIGINAL-URL:https://stmamom.com
X-WR-CALDESC:Events for STMAmom.com
REFRESH-INTERVAL;VALUE=DURATION:PT1H
X-Robots-Tag:noindex
X-PUBLISHED-TTL:PT1H
BEGIN:VTIMEZONE
TZID:America/Chicago
BEGIN:DAYLIGHT
TZOFFSETFROM:-0600
TZOFFSETTO:-0500
TZNAME:CDT
DTSTART:20230312T080000
END:DAYLIGHT
BEGIN:STANDARD
TZOFFSETFROM:-0500
TZOFFSETTO:-0600
TZNAME:CST
DTSTART:20231105T070000
END:STANDARD
BEGIN:DAYLIGHT
TZOFFSETFROM:-0600
TZOFFSETTO:-0500
TZNAME:CDT
DTSTART:20240310T080000
END:DAYLIGHT
BEGIN:STANDARD
TZOFFSETFROM:-0500
TZOFFSETTO:-0600
TZNAME:CST
DTSTART:20241103T070000
END:STANDARD
BEGIN:DAYLIGHT
TZOFFSETFROM:-0600
TZOFFSETTO:-0500
TZNAME:CDT
DTSTART:20250309T080000
END:DAYLIGHT
BEGIN:STANDARD
TZOFFSETFROM:-0500
TZOFFSETTO:-0600
TZNAME:CST
DTSTART:20251102T070000
END:STANDARD
END:VTIMEZONE
BEGIN:VEVENT
DTSTART;TZID=America/Chicago:20241025T140000
DTEND;TZID=America/Chicago:20241025T180000
DTSTAMP:20260425T191747
CREATED:20240927T191436Z
LAST-MODIFIED:20240927T191436Z
UID:8638-1729864800-1729879200@stmamom.com
SUMMARY:Elk River Trick or Treat
DESCRIPTION:Get ready for another spooktacular Downtown Elk River Trick or Treat! Elk River businesses and local organizations invite kids ages 12 and under to enjoy the thrill of trick-or-treating in a safe and vibrant atmosphere. Here is what your family can enjoy this year:\n– Trick or treating in your Halloween costumes with local businesses and organizations– A photo opportunity with the fall decorations at Rivers Edge Commons Park– Feeding and visiting the animals at the petting zoo– Grabbing delicious mini donuts and corn dogs at the food truck– Visiting with K9 Duke and checking out fire\, police\, and utility trucks\n\nDowntown Trick or Treat is from 2:00 – 6:00 p.m. in downtown Elk River. The streets downtown will be closed to ensure participant safety.
URL:https://stmamom.com/event/elk-river-trick-or-treat-2/
LOCATION:Downtown Elk River\, 679 Main Street NW\, Elk River\, MN\, 55330\, United States
ATTACH;FMTTYPE=image/png:https://stmamom.com/wp-content/uploads/2021/06/elkriver-e1625079605468.png
END:VEVENT
END:VCALENDAR