BEGIN:VCALENDAR
VERSION:2.0
PRODID:-//STMAmom.com - ECPv6.15.16.1//NONSGML v1.0//EN
CALSCALE:GREGORIAN
METHOD:PUBLISH
X-WR-CALNAME:STMAmom.com
X-ORIGINAL-URL:https://stmamom.com
X-WR-CALDESC:Events for STMAmom.com
REFRESH-INTERVAL;VALUE=DURATION:PT1H
X-Robots-Tag:noindex
X-PUBLISHED-TTL:PT1H
BEGIN:VTIMEZONE
TZID:America/Chicago
BEGIN:DAYLIGHT
TZOFFSETFROM:-0600
TZOFFSETTO:-0500
TZNAME:CDT
DTSTART:20230312T080000
END:DAYLIGHT
BEGIN:STANDARD
TZOFFSETFROM:-0500
TZOFFSETTO:-0600
TZNAME:CST
DTSTART:20231105T070000
END:STANDARD
BEGIN:DAYLIGHT
TZOFFSETFROM:-0600
TZOFFSETTO:-0500
TZNAME:CDT
DTSTART:20240310T080000
END:DAYLIGHT
BEGIN:STANDARD
TZOFFSETFROM:-0500
TZOFFSETTO:-0600
TZNAME:CST
DTSTART:20241103T070000
END:STANDARD
BEGIN:DAYLIGHT
TZOFFSETFROM:-0600
TZOFFSETTO:-0500
TZNAME:CDT
DTSTART:20250309T080000
END:DAYLIGHT
BEGIN:STANDARD
TZOFFSETFROM:-0500
TZOFFSETTO:-0600
TZNAME:CST
DTSTART:20251102T070000
END:STANDARD
END:VTIMEZONE
BEGIN:VEVENT
DTSTART;TZID=America/Chicago:20241027T100000
DTEND;TZID=America/Chicago:20241027T123000
DTSTAMP:20260425T113046
CREATED:20241017T212246Z
LAST-MODIFIED:20241017T212410Z
UID:8694-1730023200-1730032200@stmamom.com
SUMMARY:Trunk-or-Treat at Free Grace United
DESCRIPTION:Join Free Grace United for its annual community-wide Trunk or Treat. Come for FGU’s 20th birthday celebration at 10am and stay for family fun!\n\nWhen: Sun\, Oct 27 from 10am-12:30pmWhere: Free Grace United Church (19 Main St N\, St Michael 55376 – meeting in the Historic St Michael Church)\n\nFeaturing:Tons of CandyChili FeedBounce HouseHot Apple Cider…and MORE – ALL FREE!
URL:https://stmamom.com/event/trunk-or-treat-at-free-grace-united/
LOCATION:Free Grace United\, 19 Main St N\, St. Michael\, MN\, 55376\, United States
END:VEVENT
BEGIN:VEVENT
DTSTART;TZID=America/Chicago:20241027T100000
DTEND;TZID=America/Chicago:20241027T160000
DTSTAMP:20260425T113046
CREATED:20240927T211319Z
LAST-MODIFIED:20240927T211319Z
UID:8649-1730023200-1730044800@stmamom.com
SUMMARY:Costume Day at Fresh Acres
DESCRIPTION:Dress the kids up in their favorite Halloween costume and enjoy the final day of the season at Fresh Acres Farm and Corn Maze. Kids in costume will receive half-price admission! (regular admission $12\, kids 3 & under are free)
URL:https://stmamom.com/event/costume-day-at-fresh-acres/
LOCATION:Fresh Acres\, 7385 Jason Ave NE\, Monticello\, MN\, 55362\, United States
END:VEVENT
END:VCALENDAR