BEGIN:VCALENDAR
VERSION:2.0
PRODID:-//STMAmom.com - ECPv6.15.16.1//NONSGML v1.0//EN
CALSCALE:GREGORIAN
METHOD:PUBLISH
X-WR-CALNAME:STMAmom.com
X-ORIGINAL-URL:https://stmamom.com
X-WR-CALDESC:Events for STMAmom.com
REFRESH-INTERVAL;VALUE=DURATION:PT1H
X-Robots-Tag:noindex
X-PUBLISHED-TTL:PT1H
BEGIN:VTIMEZONE
TZID:America/Chicago
BEGIN:DAYLIGHT
TZOFFSETFROM:-0600
TZOFFSETTO:-0500
TZNAME:CDT
DTSTART:20230312T080000
END:DAYLIGHT
BEGIN:STANDARD
TZOFFSETFROM:-0500
TZOFFSETTO:-0600
TZNAME:CST
DTSTART:20231105T070000
END:STANDARD
BEGIN:DAYLIGHT
TZOFFSETFROM:-0600
TZOFFSETTO:-0500
TZNAME:CDT
DTSTART:20240310T080000
END:DAYLIGHT
BEGIN:STANDARD
TZOFFSETFROM:-0500
TZOFFSETTO:-0600
TZNAME:CST
DTSTART:20241103T070000
END:STANDARD
BEGIN:DAYLIGHT
TZOFFSETFROM:-0600
TZOFFSETTO:-0500
TZNAME:CDT
DTSTART:20250309T080000
END:DAYLIGHT
BEGIN:STANDARD
TZOFFSETFROM:-0500
TZOFFSETTO:-0600
TZNAME:CST
DTSTART:20251102T070000
END:STANDARD
END:VTIMEZONE
BEGIN:VEVENT
DTSTART;TZID=America/Chicago:20241028T100000
DTEND;TZID=America/Chicago:20241028T113000
DTSTAMP:20260425T080326
CREATED:20240830T204814Z
LAST-MODIFIED:20250424T131355Z
UID:8605-1730109600-1730115000@stmamom.com
SUMMARY:Otsego Open Playtime
DESCRIPTION:Kids ages 5 & under are invited to play and meet new friends at Otsego’s Open Playtime. This drop-in program offers an open play session full of toys\, crafts\, active equipment\, and activities. Come for the whole time or stay while you can. (Parent/guardian supervision is required.) \nCost: $3/child at the door\, or pick up an 11-visit punchcard for $20 at https://otsego.recdesk.com\nPlease check Facebook for closures due to holidays or inclement weather:
URL:https://stmamom.com/event/otsego-open-playtime-2024-10-28/
LOCATION:Prairie Center\, 8899 Nashua Ave NE\, Otsego\, MN\, 55330\, United States
ATTACH;FMTTYPE=image/png:https://stmamom.com/wp-content/uploads/2021/04/otsego-parks-rec-e1619580266549.png
ORGANIZER;CN="Otsego Parks & Recreation":MAILTO:recreation@ci.otsego.mn.us
END:VEVENT
BEGIN:VEVENT
DTSTART;TZID=America/Chicago:20241028T103000
DTEND;TZID=America/Chicago:20241028T113000
DTSTAMP:20260425T080326
CREATED:20240830T192752Z
LAST-MODIFIED:20250326T122517Z
UID:8736-1730111400-1730115000@stmamom.com
SUMMARY:Preschool "Play & Learn" at the Library
DESCRIPTION:Encourage a love of learning as you and your child play\, explore\, discover\, count\, and create. Stations are set up for participants to come and go as time and attention span permits. Activities are designed for ages 1 to 5. No registration\, but room limits may be enforced.
URL:https://stmamom.com/event/preschool-play-learn-at-the-library-2024-10-28/
LOCATION:St. Michael Public Library\, 11800 Town Center Dr NE\, St. Michael\, MN\, 55376\, United States
ATTACH;FMTTYPE=image/png:https://stmamom.com/wp-content/uploads/2024/08/library-play-learn-e1725046036166.png
END:VEVENT
BEGIN:VEVENT
DTSTART;TZID=America/Chicago:20241028T160000
DTEND;TZID=America/Chicago:20241028T170000
DTSTAMP:20260425T080326
CREATED:20240830T191859Z
LAST-MODIFIED:20250129T180644Z
UID:8552-1730131200-1730134800@stmamom.com
SUMMARY:STEAM Fun at the Library
DESCRIPTION:STEAM* at the Library is back! Join library staff for an hour of learning\, exploring\, and inventing. All you need is your imagination! \nFor ages 7 to 11. Limit 10 children\, but parents/guardians are encouraged to stay to work with their child.\nRegistration required: https://events.griver.org/calendar/stmichaellibraryevents \n  \n*Science\, Technology\, Engineering\, Art\, and Mathematics
URL:https://stmamom.com/event/steam-fun-at-the-library-2024-10-28/
LOCATION:St. Michael Public Library\, 11800 Town Center Dr NE\, St. Michael\, MN\, 55376\, United States
ATTACH;FMTTYPE=image/jpeg:https://stmamom.com/wp-content/uploads/2024/08/steam-library-scaled-e1725046126165.jpg
END:VEVENT
BEGIN:VEVENT
DTSTART;TZID=America/Chicago:20241028T180000
DTEND;TZID=America/Chicago:20241028T190000
DTSTAMP:20260425T080326
CREATED:20241016T213101Z
LAST-MODIFIED:20241016T213101Z
UID:8688-1730138400-1730142000@stmamom.com
SUMMARY:ECFE Pumpkin Palooza
DESCRIPTION:Join STMA ECFE for an exciting exploration into the world of pumpkins through STEAM activities! This class is designed for children and families to engage in hands-on learning experiences that integrate science\, technology\, engineering\, art\, and math\, all centered around everyone’s favorite fall fruit—the pumpkin! \nJoin your friends for a fun\, pumpkin-packed adventure of learning and exploring. Don’t miss out on this exciting opportunity to learn\, play\, and create together with pumpkins. \nCost: $10/child\nRegister online at https://stma.ce.eleyo.com/course/ecfe/6776/fall-2024%E2%80%941/pumpkin-palooza
URL:https://stmamom.com/event/ecfe-pumpkin-palooza/
LOCATION:STMA Community Education Building\, 60 Central Avenue W\, St. Michael\, MN\, 55376\, United States
ATTACH;FMTTYPE=image/jpeg:https://stmamom.com/wp-content/uploads/2021/04/ecfe-e1619575280453.jpg
END:VEVENT
END:VCALENDAR