BEGIN:VCALENDAR
VERSION:2.0
PRODID:-//STMAmom.com - ECPv6.15.16.1//NONSGML v1.0//EN
CALSCALE:GREGORIAN
METHOD:PUBLISH
X-WR-CALNAME:STMAmom.com
X-ORIGINAL-URL:https://stmamom.com
X-WR-CALDESC:Events for STMAmom.com
REFRESH-INTERVAL;VALUE=DURATION:PT1H
X-Robots-Tag:noindex
X-PUBLISHED-TTL:PT1H
BEGIN:VTIMEZONE
TZID:America/Chicago
BEGIN:DAYLIGHT
TZOFFSETFROM:-0600
TZOFFSETTO:-0500
TZNAME:CDT
DTSTART:20230312T080000
END:DAYLIGHT
BEGIN:STANDARD
TZOFFSETFROM:-0500
TZOFFSETTO:-0600
TZNAME:CST
DTSTART:20231105T070000
END:STANDARD
BEGIN:DAYLIGHT
TZOFFSETFROM:-0600
TZOFFSETTO:-0500
TZNAME:CDT
DTSTART:20240310T080000
END:DAYLIGHT
BEGIN:STANDARD
TZOFFSETFROM:-0500
TZOFFSETTO:-0600
TZNAME:CST
DTSTART:20241103T070000
END:STANDARD
BEGIN:DAYLIGHT
TZOFFSETFROM:-0600
TZOFFSETTO:-0500
TZNAME:CDT
DTSTART:20250309T080000
END:DAYLIGHT
BEGIN:STANDARD
TZOFFSETFROM:-0500
TZOFFSETTO:-0600
TZNAME:CST
DTSTART:20251102T070000
END:STANDARD
END:VTIMEZONE
BEGIN:VEVENT
DTSTART;TZID=America/Chicago:20241207T090000
DTEND;TZID=America/Chicago:20241207T120000
DTSTAMP:20260425T061423
CREATED:20230627T221107Z
LAST-MODIFIED:20260325T211847Z
UID:8820-1733562000-1733572800@stmamom.com
SUMMARY:Home Depot Kids Workshop
DESCRIPTION:Bring your kids to Home Depot to complete a free\, hands-on building project created with them in mind! Workshops take place the 1st Saturday of each month and vary by theme. \nFind out more information and register for the workshop at https://www.homedepot.com/c/kids
URL:https://stmamom.com/event/home-depot-kids-workshop-2024-12-07/
LOCATION:Home Depot\, 1385 E 7th Street\, Monticello\, MN\, 55362\, United States
ATTACH;FMTTYPE=image/png:https://stmamom.com/wp-content/uploads/2023/06/home-depot-e1691001383784.png
END:VEVENT
BEGIN:VEVENT
DTSTART;TZID=America/Chicago:20241207T090000
DTEND;TZID=America/Chicago:20241207T120000
DTSTAMP:20260425T061423
CREATED:20241124T010635Z
LAST-MODIFIED:20241124T010635Z
UID:8843-1733562000-1733572800@stmamom.com
SUMMARY:Santa at the Fire Station
DESCRIPTION:Come have your picture taken with Santa Claus at the St. Michael Fire Station. This event will also be accepting donations of non-perishable food and children’s toys for those in need over the holidays. \nEvent sponsored by the St. Michael Fire Explorers
URL:https://stmamom.com/event/santa-at-the-fire-station/
LOCATION:St. Michael Fire Department\, 216 Main Street South\, St. Michael\, MN\, 55376\, United States
END:VEVENT
BEGIN:VEVENT
DTSTART;TZID=America/Chicago:20241207T100000
DTEND;TZID=America/Chicago:20241207T110000
DTSTAMP:20260425T061423
CREATED:20241120T221203Z
LAST-MODIFIED:20241120T221203Z
UID:8793-1733565600-1733569200@stmamom.com
SUMMARY:Gingerbread House Decorating at the Library
DESCRIPTION:Join the St. Michael Library for its annual family fun tradition. Create your own gingerbread house using frosting\, candy\, and a non-edible graham cracker house supplied by the library. \nSpace for this event is limited. Register each child separately online at https://events.griver.org/event/13359872
URL:https://stmamom.com/event/gingerbread-house-decorating-at-the-library/
LOCATION:St. Michael Public Library\, 11800 Town Center Dr NE\, St. Michael\, MN\, 55376\, United States
END:VEVENT
BEGIN:VEVENT
DTSTART;TZID=America/Chicago:20241207T100000
DTEND;TZID=America/Chicago:20241207T130000
DTSTAMP:20260425T061423
CREATED:20241121T025545Z
LAST-MODIFIED:20241121T030504Z
UID:8827-1733565600-1733576400@stmamom.com
SUMMARY:Children's Holiday Shopping Mall
DESCRIPTION:An STMA family favorite returns for 2024! Children can bring their shopping list and money and purchase gifts without the help of their parents. Older Girl Scouts will escort children around and help them complete their shopping list with gifts that are $5 and under.\n\nMore details and registration available at signupgenius.com/go/20F0F4AAFA72BA1F85-52311743-2024
URL:https://stmamom.com/event/girl-scouts-holiday-shopping-mall/
LOCATION:STMA Middle School West\, 11343 50th St NE\, Albertville\, MN\, 55301\, United States
END:VEVENT
BEGIN:VEVENT
DTSTART;TZID=America/Chicago:20241207T140000
DTEND;TZID=America/Chicago:20241207T170000
DTSTAMP:20260425T061423
CREATED:20241120T221525Z
LAST-MODIFIED:20241120T221932Z
UID:8795-1733580000-1733590800@stmamom.com
SUMMARY:WinterFest
DESCRIPTION:WinterFest is a collaboration by the City of St. Michael\, Shop STMA\, and the St Michael Rotary Club that gives residents a chance to socialize\, spread holiday cheer\, and kick off the winter by having a great time with their neighbors. \nThis event is located at the St. Michael City Hall & Town Center Park\, with events held both inside and outside. \nFull schedule: shopstma.com/what-we-do/winterfest/winterfest-activitiesandmap
URL:https://stmamom.com/event/winterfest-2024/
LOCATION:Town Center Park\, 11800 Town Center Drive NE\, St. Michael\, MN\, 55376\, United States
END:VEVENT
END:VCALENDAR