BEGIN:VCALENDAR
VERSION:2.0
PRODID:-//STMAmom.com - ECPv6.15.16.1//NONSGML v1.0//EN
CALSCALE:GREGORIAN
METHOD:PUBLISH
X-WR-CALNAME:STMAmom.com
X-ORIGINAL-URL:https://stmamom.com
X-WR-CALDESC:Events for STMAmom.com
REFRESH-INTERVAL;VALUE=DURATION:PT1H
X-Robots-Tag:noindex
X-PUBLISHED-TTL:PT1H
BEGIN:VTIMEZONE
TZID:America/Chicago
BEGIN:DAYLIGHT
TZOFFSETFROM:-0600
TZOFFSETTO:-0500
TZNAME:CDT
DTSTART:20240310T080000
END:DAYLIGHT
BEGIN:STANDARD
TZOFFSETFROM:-0500
TZOFFSETTO:-0600
TZNAME:CST
DTSTART:20241103T070000
END:STANDARD
BEGIN:DAYLIGHT
TZOFFSETFROM:-0600
TZOFFSETTO:-0500
TZNAME:CDT
DTSTART:20250309T080000
END:DAYLIGHT
BEGIN:STANDARD
TZOFFSETFROM:-0500
TZOFFSETTO:-0600
TZNAME:CST
DTSTART:20251102T070000
END:STANDARD
BEGIN:DAYLIGHT
TZOFFSETFROM:-0600
TZOFFSETTO:-0500
TZNAME:CDT
DTSTART:20260308T080000
END:DAYLIGHT
BEGIN:STANDARD
TZOFFSETFROM:-0500
TZOFFSETTO:-0600
TZNAME:CST
DTSTART:20261101T070000
END:STANDARD
END:VTIMEZONE
BEGIN:VEVENT
DTSTART;VALUE=DATE:20250307
DTEND;VALUE=DATE:20250309
DTSTAMP:20260425T080321
CREATED:20250213T224532Z
LAST-MODIFIED:20250221T200252Z
UID:9052-1741305600-1741478399@stmamom.com
SUMMARY:Stuffed Animal Sleepover at the Library
DESCRIPTION:Do you have a stuffed animal that has been begging for a library sleepover? Now is their chance! Drop off your stuffed animal at the library on Friday\, March 7 by 3pm. Under librarian supervision\, your stuffed animal will learn all about the library\, play with other stuffed animal friends\, and have their very own sleepover. Pick up your animal the next morning at storytime—Saturday\, March 8 at 10:30am. Listen to stories together\, have a breakfast snack and learn all about their sleepover adventures!
URL:https://stmamom.com/event/stuffed-animal-sleepover-at-the-library/
LOCATION:St. Michael Public Library\, 11800 Town Center Dr NE\, St. Michael\, MN\, 55376\, United States
ATTACH;FMTTYPE=image/jpeg:https://stmamom.com/wp-content/uploads/2019/09/st-michael-library.jpg
END:VEVENT
BEGIN:VEVENT
DTSTART;VALUE=DATE:20250307
DTEND;VALUE=DATE:20250316
DTSTAMP:20260425T080321
CREATED:20250221T200043Z
LAST-MODIFIED:20250221T200043Z
UID:9075-1741305600-1742083199@stmamom.com
SUMMARY:SPRING BREAK (STMA)
DESCRIPTION:
URL:https://stmamom.com/event/spring-break-stma/
LOCATION:MN
END:VEVENT
END:VCALENDAR