BEGIN:VCALENDAR
VERSION:2.0
PRODID:-//STMAmom.com - ECPv6.15.16.1//NONSGML v1.0//EN
CALSCALE:GREGORIAN
METHOD:PUBLISH
X-WR-CALNAME:STMAmom.com
X-ORIGINAL-URL:https://stmamom.com
X-WR-CALDESC:Events for STMAmom.com
REFRESH-INTERVAL;VALUE=DURATION:PT1H
X-Robots-Tag:noindex
X-PUBLISHED-TTL:PT1H
BEGIN:VTIMEZONE
TZID:America/Chicago
BEGIN:DAYLIGHT
TZOFFSETFROM:-0600
TZOFFSETTO:-0500
TZNAME:CDT
DTSTART:20240310T080000
END:DAYLIGHT
BEGIN:STANDARD
TZOFFSETFROM:-0500
TZOFFSETTO:-0600
TZNAME:CST
DTSTART:20241103T070000
END:STANDARD
BEGIN:DAYLIGHT
TZOFFSETFROM:-0600
TZOFFSETTO:-0500
TZNAME:CDT
DTSTART:20250309T080000
END:DAYLIGHT
BEGIN:STANDARD
TZOFFSETFROM:-0500
TZOFFSETTO:-0600
TZNAME:CST
DTSTART:20251102T070000
END:STANDARD
BEGIN:DAYLIGHT
TZOFFSETFROM:-0600
TZOFFSETTO:-0500
TZNAME:CDT
DTSTART:20260308T080000
END:DAYLIGHT
BEGIN:STANDARD
TZOFFSETFROM:-0500
TZOFFSETTO:-0600
TZNAME:CST
DTSTART:20261101T070000
END:STANDARD
END:VTIMEZONE
BEGIN:VEVENT
DTSTART;TZID=America/Chicago:20250331T100000
DTEND;TZID=America/Chicago:20250331T113000
DTSTAMP:20260424T183216
CREATED:20240830T204814Z
LAST-MODIFIED:20250424T131413Z
UID:9028-1743415200-1743420600@stmamom.com
SUMMARY:Otsego Open Playtime
DESCRIPTION:Kids ages 5 & under are invited to play and meet new friends at Otsego’s Open Playtime. This drop-in program offers an open play session full of toys\, crafts\, active equipment\, and activities. Come for the whole time or stay while you can. (Parent/guardian supervision is required.) \nCost: $3/child at the door\, or pick up an 11-visit punchcard for $20 at https://otsego.recdesk.com\nPlease check Facebook for closures due to holidays or inclement weather:
URL:https://stmamom.com/event/otsego-open-playtime-2025-03-31/
LOCATION:Prairie Center\, 8899 Nashua Ave NE\, Otsego\, MN\, 55330\, United States
ATTACH;FMTTYPE=image/png:https://stmamom.com/wp-content/uploads/2021/04/otsego-parks-rec-e1619580266549.png
ORGANIZER;CN="Otsego Parks & Recreation":MAILTO:recreation@ci.otsego.mn.us
END:VEVENT
BEGIN:VEVENT
DTSTART;TZID=America/Chicago:20250331T103000
DTEND;TZID=America/Chicago:20250331T113000
DTSTAMP:20260424T183216
CREATED:20240830T192752Z
LAST-MODIFIED:20250326T122517Z
UID:9054-1743417000-1743420600@stmamom.com
SUMMARY:Preschool "Play & Learn" at the Library
DESCRIPTION:Encourage a love of learning as you and your child play\, explore\, discover\, count\, and create. Stations are set up for participants to come and go as time and attention span permits. Activities are designed for ages 1 to 5. No registration\, but room limits may be enforced.
URL:https://stmamom.com/event/preschool-play-learn-at-the-library-2025-03-31/
LOCATION:St. Michael Public Library\, 11800 Town Center Dr NE\, St. Michael\, MN\, 55376\, United States
ATTACH;FMTTYPE=image/png:https://stmamom.com/wp-content/uploads/2024/08/library-play-learn-e1725046036166.png
END:VEVENT
END:VCALENDAR