BEGIN:VCALENDAR
VERSION:2.0
PRODID:-//STMAmom.com - ECPv6.15.16.1//NONSGML v1.0//EN
CALSCALE:GREGORIAN
METHOD:PUBLISH
X-ORIGINAL-URL:https://stmamom.com
X-WR-CALDESC:Events for STMAmom.com
REFRESH-INTERVAL;VALUE=DURATION:PT1H
X-Robots-Tag:noindex
X-PUBLISHED-TTL:PT1H
BEGIN:VTIMEZONE
TZID:America/Chicago
BEGIN:DAYLIGHT
TZOFFSETFROM:-0600
TZOFFSETTO:-0500
TZNAME:CDT
DTSTART:20240310T080000
END:DAYLIGHT
BEGIN:STANDARD
TZOFFSETFROM:-0500
TZOFFSETTO:-0600
TZNAME:CST
DTSTART:20241103T070000
END:STANDARD
BEGIN:DAYLIGHT
TZOFFSETFROM:-0600
TZOFFSETTO:-0500
TZNAME:CDT
DTSTART:20250309T080000
END:DAYLIGHT
BEGIN:STANDARD
TZOFFSETFROM:-0500
TZOFFSETTO:-0600
TZNAME:CST
DTSTART:20251102T070000
END:STANDARD
BEGIN:DAYLIGHT
TZOFFSETFROM:-0600
TZOFFSETTO:-0500
TZNAME:CDT
DTSTART:20260308T080000
END:DAYLIGHT
BEGIN:STANDARD
TZOFFSETFROM:-0500
TZOFFSETTO:-0600
TZNAME:CST
DTSTART:20261101T070000
END:STANDARD
END:VTIMEZONE
BEGIN:VEVENT
DTSTART;TZID=America/Chicago:20250404T090000
DTEND;TZID=America/Chicago:20250404T200000
DTSTAMP:20260424T201051
CREATED:20250327T121456Z
LAST-MODIFIED:20250327T122238Z
UID:9138-1743757200-1743796800@stmamom.com
SUMMARY:Egg Dive Pool Party (Monticello)
DESCRIPTION:Join Monticello Community Center for the best pool party of the year! The Egg Dive is a fun activity for ages 6 months to 12 years. Plastic eggs are dropped in the pool\, and swimmers collect the eggs and use them to “purchase” prizes. (Children 6 and younger must be accompanied by an adult within arm’s reach at all times.) \nCost: $10 for MCC members\, $17 non-members \nThis event takes place throughout the day and is broken up into three time slots: 9–10:30 am\, 4:30–6pm\, and 6:30–8pm.\nRegister online for a time slot: https://mymonti.clubautomation.com/calendar/event-info?id=4003
URL:https://stmamom.com/event/egg-dive-pool-party-monticello/
LOCATION:Monticello Community Center\, 505 Walnut Street\, Monticello\, MN\, 55362\, United States
ATTACH;FMTTYPE=image/jpeg:https://stmamom.com/wp-content/uploads/2021/06/monticello.jpg
ORGANIZER;CN="City of Monticello":MAILTO:info@ci.monticello.mn.us
END:VEVENT
END:VCALENDAR