BEGIN:VCALENDAR
VERSION:2.0
PRODID:-//STMAmom.com - ECPv6.15.16.1//NONSGML v1.0//EN
CALSCALE:GREGORIAN
METHOD:PUBLISH
X-ORIGINAL-URL:https://stmamom.com
X-WR-CALDESC:Events for STMAmom.com
REFRESH-INTERVAL;VALUE=DURATION:PT1H
X-Robots-Tag:noindex
X-PUBLISHED-TTL:PT1H
BEGIN:VTIMEZONE
TZID:America/Chicago
BEGIN:DAYLIGHT
TZOFFSETFROM:-0600
TZOFFSETTO:-0500
TZNAME:CDT
DTSTART:20240310T080000
END:DAYLIGHT
BEGIN:STANDARD
TZOFFSETFROM:-0500
TZOFFSETTO:-0600
TZNAME:CST
DTSTART:20241103T070000
END:STANDARD
BEGIN:DAYLIGHT
TZOFFSETFROM:-0600
TZOFFSETTO:-0500
TZNAME:CDT
DTSTART:20250309T080000
END:DAYLIGHT
BEGIN:STANDARD
TZOFFSETFROM:-0500
TZOFFSETTO:-0600
TZNAME:CST
DTSTART:20251102T070000
END:STANDARD
BEGIN:DAYLIGHT
TZOFFSETFROM:-0600
TZOFFSETTO:-0500
TZNAME:CDT
DTSTART:20260308T080000
END:DAYLIGHT
BEGIN:STANDARD
TZOFFSETFROM:-0500
TZOFFSETTO:-0600
TZNAME:CST
DTSTART:20261101T070000
END:STANDARD
END:VTIMEZONE
BEGIN:VEVENT
DTSTART;VALUE=DATE:20250711
DTEND;VALUE=DATE:20250714
DTSTAMP:20260424T055617
CREATED:20250630T235946Z
LAST-MODIFIED:20250630T235946Z
UID:9515-1752192000-1752451199@stmamom.com
SUMMARY:Monticello Riverfest
DESCRIPTION:Monticello Riverfest is a four-day community event held July 11–13. From Thursday through Sunday there are many community favorite events: Community Parade\, Street Dance\, Duck Races\, Art in the Park\, Fireworks\, Car Show\, 5K Race\, and so much more! \nVisit monticelloriverfest.com for the full schedule.
URL:https://stmamom.com/event/monticello-riverfest-2025/
LOCATION:MN
ATTACH;FMTTYPE=image/jpeg:https://stmamom.com/wp-content/uploads/2021/06/monticello.jpg
ORGANIZER;CN="City of Monticello":MAILTO:info@ci.monticello.mn.us
END:VEVENT
BEGIN:VEVENT
DTSTART;TZID=America/Chicago:20250711T100000
DTEND;TZID=America/Chicago:20250711T120000
DTSTAMP:20260424T055617
CREATED:20250706T000018Z
LAST-MODIFIED:20250706T000018Z
UID:9535-1752228000-1752235200@stmamom.com
SUMMARY:FYCC Penny Carnival
DESCRIPTION:Kids\, bring your pennies to Town Center Park for the annual FYCC Penny Carnival! Local businesses and organizations will be hosting booths where kids can spend their pennies to play games and win prizes. (Games typically range from 1 to 5 pennies) \nRegister online at myfycc.com. Box lunches also available for purchase.
URL:https://stmamom.com/event/penny-carnival-2025/
LOCATION:Town Center Park\, 11800 Town Center Drive NE\, St. Michael\, MN\, 55376\, United States
ATTACH;FMTTYPE=image/png:https://stmamom.com/wp-content/uploads/2021/04/fycc-e1697061396286.png
ORGANIZER;CN="FYCC":MAILTO:FYCCinformation@gmail.com
END:VEVENT
END:VCALENDAR