BEGIN:VCALENDAR
VERSION:2.0
PRODID:-//STMAmom.com - ECPv6.15.16.1//NONSGML v1.0//EN
CALSCALE:GREGORIAN
METHOD:PUBLISH
X-ORIGINAL-URL:https://stmamom.com
X-WR-CALDESC:Events for STMAmom.com
REFRESH-INTERVAL;VALUE=DURATION:PT1H
X-Robots-Tag:noindex
X-PUBLISHED-TTL:PT1H
BEGIN:VTIMEZONE
TZID:America/Chicago
BEGIN:DAYLIGHT
TZOFFSETFROM:-0600
TZOFFSETTO:-0500
TZNAME:CDT
DTSTART:20240310T080000
END:DAYLIGHT
BEGIN:STANDARD
TZOFFSETFROM:-0500
TZOFFSETTO:-0600
TZNAME:CST
DTSTART:20241103T070000
END:STANDARD
BEGIN:DAYLIGHT
TZOFFSETFROM:-0600
TZOFFSETTO:-0500
TZNAME:CDT
DTSTART:20250309T080000
END:DAYLIGHT
BEGIN:STANDARD
TZOFFSETFROM:-0500
TZOFFSETTO:-0600
TZNAME:CST
DTSTART:20251102T070000
END:STANDARD
BEGIN:DAYLIGHT
TZOFFSETFROM:-0600
TZOFFSETTO:-0500
TZNAME:CDT
DTSTART:20260308T080000
END:DAYLIGHT
BEGIN:STANDARD
TZOFFSETFROM:-0500
TZOFFSETTO:-0600
TZNAME:CST
DTSTART:20261101T070000
END:STANDARD
END:VTIMEZONE
BEGIN:VEVENT
DTSTART;TZID=America/Chicago:20250718T100000
DTEND;TZID=America/Chicago:20250718T120000
DTSTAMP:20260424T055617
CREATED:20250706T004111Z
LAST-MODIFIED:20250706T004111Z
UID:9539-1752832800-1752840000@stmamom.com
SUMMARY:Rogers Family Fun Carnival
DESCRIPTION:Looking for some mid-summer outdoor fun? Kids ages 2-10\, along with a parent\, are invited to join Rogers Parks and Rec and ISD728 Community Ed for its annual Family Fun Day Carnival. Join them at North Community Park for games\, prizes\, bounce houses\, popcorn\, cotton candy\, and more! In addition\, Rogers Police\, Fire\, and Public Works will have cool trucks and equipment for kids to enjoy. \nThis is a free event\, but please register at https://lp.constantcontactpages.com/ev/reg/m76hhe7
URL:https://stmamom.com/event/rogers-family-carnival/
LOCATION:North Community Park\, 13750 Bittersweet Lane\, Rogers\, MN\, 55374\, United States
ATTACH;FMTTYPE=image/png:https://stmamom.com/wp-content/uploads/2021/05/rogersmn.png
ORGANIZER;CN="City of Rogers":MAILTO:info@rogersmn.gov
END:VEVENT
END:VCALENDAR