BEGIN:VCALENDAR
VERSION:2.0
PRODID:-//STMAmom.com - ECPv6.15.16.1//NONSGML v1.0//EN
CALSCALE:GREGORIAN
METHOD:PUBLISH
X-ORIGINAL-URL:https://stmamom.com
X-WR-CALDESC:Events for STMAmom.com
REFRESH-INTERVAL;VALUE=DURATION:PT1H
X-Robots-Tag:noindex
X-PUBLISHED-TTL:PT1H
BEGIN:VTIMEZONE
TZID:America/Chicago
BEGIN:DAYLIGHT
TZOFFSETFROM:-0600
TZOFFSETTO:-0500
TZNAME:CDT
DTSTART:20240310T080000
END:DAYLIGHT
BEGIN:STANDARD
TZOFFSETFROM:-0500
TZOFFSETTO:-0600
TZNAME:CST
DTSTART:20241103T070000
END:STANDARD
BEGIN:DAYLIGHT
TZOFFSETFROM:-0600
TZOFFSETTO:-0500
TZNAME:CDT
DTSTART:20250309T080000
END:DAYLIGHT
BEGIN:STANDARD
TZOFFSETFROM:-0500
TZOFFSETTO:-0600
TZNAME:CST
DTSTART:20251102T070000
END:STANDARD
BEGIN:DAYLIGHT
TZOFFSETFROM:-0600
TZOFFSETTO:-0500
TZNAME:CDT
DTSTART:20260308T080000
END:DAYLIGHT
BEGIN:STANDARD
TZOFFSETFROM:-0500
TZOFFSETTO:-0600
TZNAME:CST
DTSTART:20261101T070000
END:STANDARD
END:VTIMEZONE
BEGIN:VEVENT
DTSTART;VALUE=DATE:20250719
DTEND;VALUE=DATE:20250725
DTSTAMP:20260424T055626
CREATED:20250523T180512Z
LAST-MODIFIED:20250528T030520Z
UID:9339-1752883200-1753401599@stmamom.com
SUMMARY:$1 Kids Movie: Ruby Gillman Teenage Kraken
DESCRIPTION:Visit St. Michael Cinema for great kid-friendly movies all summer long for just $1 per person! Showtimes and tickets available at stmichaelcinema.com. \nComplete list of movies:
URL:https://stmamom.com/event/summer-movies-2025-ruby-gillman/
LOCATION:St. Michael Cinema\, 4300 O'Day Ave NE\, St. Michael\, MN\, 55376\, United States
ATTACH;FMTTYPE=image/jpeg:https://stmamom.com/wp-content/uploads/2024/05/summermovies-header-e1716754266575.jpg
END:VEVENT
BEGIN:VEVENT
DTSTART;VALUE=DATE:20250723
DTEND;VALUE=DATE:20250728
DTSTAMP:20260424T055626
CREATED:20250528T024655Z
LAST-MODIFIED:20250528T024655Z
UID:9430-1753228800-1753660799@stmamom.com
SUMMARY:Wright County Fair
DESCRIPTION:The Wright County Fair in Howard Lake\, Minnesota provides entertainment\, education and competition for all\, annually since 1870. Come for the undeniably delicious fair food\, stay for the rides\, the demolition derby or live entertainment. Support the youth of Wright County by visiting the junior livestock show or experience the hard work of local 4-H kids. There’s just so much to see and do\, here in the heart of the great state of Minnesota! \nFull schedule: https://www.wrightcountyfair.org/events \nAdmission: https://www.wrightcountyfair.org/p/about/tickets–admission
URL:https://stmamom.com/event/wright-county-fair-2025/
LOCATION:Wright County Fair\, 5912 County Rd 6 SW\, Howard Lake\, MN\, 55349\, United States
END:VEVENT
BEGIN:VEVENT
DTSTART;TZID=America/Chicago:20250724T093000
DTEND;TZID=America/Chicago:20250724T100000
DTSTAMP:20260424T055626
CREATED:20250523T182617Z
LAST-MODIFIED:20250523T182617Z
UID:9351-1753349400-1753351200@stmamom.com
SUMMARY:Reading in the Park (Hanover)
DESCRIPTION:Join FYCC every Thursday at Settler’s Park in Hanover to hear some great stories read by local community leaders. After storytime\, each child will get to take home a free book! \nThis event is for infants through 8th grade. Please register at myfycc.com
URL:https://stmamom.com/event/reading-in-the-park-hanover-10-2025-07-24/
LOCATION:Hanover Settlers Park\, 11250 5th St NE\, Hanover\, MN\, 55341\, United States
ATTACH;FMTTYPE=image/png:https://stmamom.com/wp-content/uploads/2021/04/fycc-e1697061396286.png
ORGANIZER;CN="FYCC":MAILTO:FYCCinformation@gmail.com
END:VEVENT
BEGIN:VEVENT
DTSTART;TZID=America/Chicago:20250724T130000
DTEND;TZID=America/Chicago:20250724T140000
DTSTAMP:20260424T055626
CREATED:20250618T130130Z
LAST-MODIFIED:20250618T130130Z
UID:9504-1753362000-1753365600@stmamom.com
SUMMARY:Open Swim
DESCRIPTION:Bring your family to enjoy lifeguard-supervised recreational swimming at STMA Middle School East. You can choose either to pay per visit or purchase a season pass. No registration required; pay on site at the pool. \nChildren 7 and under MUST be accompanied by an adult in the water. \nDaily Admission: \n\nChildren 4 and under – Free\nStudents and Adults – $3\nFamily (immediate family only) – $6\nActivity Center members – Free\n\nSummer Pool Pass: \n\nIndividual Pass – $50\nFamily Pass – $75
URL:https://stmamom.com/event/open-swim-2025-2025-07-24/
LOCATION:STMA Middle School East\, 4862 Naber Avenue NE\, St. Michael\, MN\, 55376\, United States
ATTACH;FMTTYPE=image/png:https://stmamom.com/wp-content/uploads/2023/07/swim-e1689015869465.png
ORGANIZER;CN="STMA Community Education":MAILTO:janetm@mystma.org
END:VEVENT
BEGIN:VEVENT
DTSTART;TZID=America/Chicago:20250724T150000
DTEND;TZID=America/Chicago:20250724T183000
DTSTAMP:20260424T055626
CREATED:20250523T213530Z
LAST-MODIFIED:20250523T213530Z
UID:9414-1753369200-1753381800@stmamom.com
SUMMARY:Power of Produce
DESCRIPTION:FYCC’s free “Power of Produce” program is open to kids ages 2–17. Each week that they visit the Albertville Farmer’s Market\, kids will receive a free fruit or vegetable of their choice that was provided by farmers from the market. The P.O.P. program runs every Thursday\, from July 3 through August 28. \nParent or guardian permission/signature required at signup.\nRegister in advance at https://secure.rec1.com/MN/family-youth-community-connections/catalog
URL:https://stmamom.com/event/power-of-produce-2-2025-07-24/
LOCATION:Albertville Central Park\, 5801 Main Ave NE\, Albertville\, MN\, 55301\, United States
ATTACH;FMTTYPE=image/jpeg:https://stmamom.com/wp-content/uploads/2023/06/pop-e1686777338415.jpg
ORGANIZER;CN="FYCC":MAILTO:FYCCinformation@gmail.com
END:VEVENT
END:VCALENDAR