BEGIN:VCALENDAR
VERSION:2.0
PRODID:-//STMAmom.com - ECPv6.15.16.1//NONSGML v1.0//EN
CALSCALE:GREGORIAN
METHOD:PUBLISH
X-WR-CALNAME:STMAmom.com
X-ORIGINAL-URL:https://stmamom.com
X-WR-CALDESC:Events for STMAmom.com
REFRESH-INTERVAL;VALUE=DURATION:PT1H
X-Robots-Tag:noindex
X-PUBLISHED-TTL:PT1H
BEGIN:VTIMEZONE
TZID:America/Chicago
BEGIN:DAYLIGHT
TZOFFSETFROM:-0600
TZOFFSETTO:-0500
TZNAME:CDT
DTSTART:20240310T080000
END:DAYLIGHT
BEGIN:STANDARD
TZOFFSETFROM:-0500
TZOFFSETTO:-0600
TZNAME:CST
DTSTART:20241103T070000
END:STANDARD
BEGIN:DAYLIGHT
TZOFFSETFROM:-0600
TZOFFSETTO:-0500
TZNAME:CDT
DTSTART:20250309T080000
END:DAYLIGHT
BEGIN:STANDARD
TZOFFSETFROM:-0500
TZOFFSETTO:-0600
TZNAME:CST
DTSTART:20251102T070000
END:STANDARD
BEGIN:DAYLIGHT
TZOFFSETFROM:-0600
TZOFFSETTO:-0500
TZNAME:CDT
DTSTART:20260308T080000
END:DAYLIGHT
BEGIN:STANDARD
TZOFFSETFROM:-0500
TZOFFSETTO:-0600
TZNAME:CST
DTSTART:20261101T070000
END:STANDARD
END:VTIMEZONE
BEGIN:VEVENT
DTSTART;VALUE=DATE:20250723
DTEND;VALUE=DATE:20250728
DTSTAMP:20260424T042227
CREATED:20250528T024655Z
LAST-MODIFIED:20250528T024655Z
UID:9430-1753228800-1753660799@stmamom.com
SUMMARY:Wright County Fair
DESCRIPTION:The Wright County Fair in Howard Lake\, Minnesota provides entertainment\, education and competition for all\, annually since 1870. Come for the undeniably delicious fair food\, stay for the rides\, the demolition derby or live entertainment. Support the youth of Wright County by visiting the junior livestock show or experience the hard work of local 4-H kids. There’s just so much to see and do\, here in the heart of the great state of Minnesota! \nFull schedule: https://www.wrightcountyfair.org/events \nAdmission: https://www.wrightcountyfair.org/p/about/tickets–admission
URL:https://stmamom.com/event/wright-county-fair-2025/
LOCATION:Wright County Fair\, 5912 County Rd 6 SW\, Howard Lake\, MN\, 55349\, United States
END:VEVENT
END:VCALENDAR