BEGIN:VCALENDAR
VERSION:2.0
PRODID:-//STMAmom.com - ECPv6.15.16.1//NONSGML v1.0//EN
CALSCALE:GREGORIAN
METHOD:PUBLISH
X-WR-CALNAME:STMAmom.com
X-ORIGINAL-URL:https://stmamom.com
X-WR-CALDESC:Events for STMAmom.com
REFRESH-INTERVAL;VALUE=DURATION:PT1H
X-Robots-Tag:noindex
X-PUBLISHED-TTL:PT1H
BEGIN:VTIMEZONE
TZID:America/Chicago
BEGIN:DAYLIGHT
TZOFFSETFROM:-0600
TZOFFSETTO:-0500
TZNAME:CDT
DTSTART:20240310T080000
END:DAYLIGHT
BEGIN:STANDARD
TZOFFSETFROM:-0500
TZOFFSETTO:-0600
TZNAME:CST
DTSTART:20241103T070000
END:STANDARD
BEGIN:DAYLIGHT
TZOFFSETFROM:-0600
TZOFFSETTO:-0500
TZNAME:CDT
DTSTART:20250309T080000
END:DAYLIGHT
BEGIN:STANDARD
TZOFFSETFROM:-0500
TZOFFSETTO:-0600
TZNAME:CST
DTSTART:20251102T070000
END:STANDARD
BEGIN:DAYLIGHT
TZOFFSETFROM:-0600
TZOFFSETTO:-0500
TZNAME:CDT
DTSTART:20260308T080000
END:DAYLIGHT
BEGIN:STANDARD
TZOFFSETFROM:-0500
TZOFFSETTO:-0600
TZNAME:CST
DTSTART:20261101T070000
END:STANDARD
END:VTIMEZONE
BEGIN:VEVENT
DTSTART;VALUE=DATE:20250726
DTEND;VALUE=DATE:20250801
DTSTAMP:20260424T024703
CREATED:20250523T180512Z
LAST-MODIFIED:20250528T030552Z
UID:9340-1753488000-1754006399@stmamom.com
SUMMARY:$1 Kids Movie: Kung Fu Panda 4
DESCRIPTION:Visit St. Michael Cinema for great kid-friendly movies all summer long for just $1 per person! Showtimes and tickets available at stmichaelcinema.com. \nComplete list of movies:
URL:https://stmamom.com/event/summer-movies-2025-kung-fu-panda-4/
LOCATION:St. Michael Cinema\, 4300 O'Day Ave NE\, St. Michael\, MN\, 55376\, United States
ATTACH;FMTTYPE=image/jpeg:https://stmamom.com/wp-content/uploads/2024/05/summermovies-header-e1716754266575.jpg
END:VEVENT
BEGIN:VEVENT
DTSTART;TZID=America/Chicago:20250729T090000
DTEND;TZID=America/Chicago:20250729T103000
DTSTAMP:20260424T024703
CREATED:20250523T190833Z
LAST-MODIFIED:20250617T210354Z
UID:9384-1753779600-1753785000@stmamom.com
SUMMARY:Breakfast at the Playground
DESCRIPTION:All school-aged kids and teens in the STMA community are invited to enjoy a FREE breakfast every Tuesday from 9:00 to 10:30am at rotating school playground locations! You can “grab and go” your breakfast or stay to hang out and play. \nThis event is sponsored by Alleluia Lutheran Church and Imagine Church\, but donations are always appreciated! To donate breakfast items\, check out the Amazon Wish List. \nSchedule & Locations:
URL:https://stmamom.com/event/breakfast-at-the-playground-2025-2025-07-29/
LOCATION:MN
ATTACH;FMTTYPE=image/jpeg:https://stmamom.com/wp-content/uploads/2025/05/breakfast-playground-e1748027177360.jpg
END:VEVENT
BEGIN:VEVENT
DTSTART;TZID=America/Chicago:20250729T180000
DTEND;TZID=America/Chicago:20250729T190000
DTSTAMP:20260424T024703
CREATED:20250523T184845Z
LAST-MODIFIED:20250523T184845Z
UID:9370-1753812000-1753815600@stmamom.com
SUMMARY:Otsego Entertainment in the Park
DESCRIPTION:Cool off at the Otsego Splash Pad and enjoy free family entertainment at Otsego’s Summer Entertainment in the Park series! \nEntertainment will take place in the park shelter (or move inside the Prairie Center if there is inclement weather). \nFull schedule:
URL:https://stmamom.com/event/otsego-entertainment-in-the-park-2025-07-29/
LOCATION:Prairie Park\, Otsego\, 13355 90th Street NE\, Otsego\, MN\, 55330\, United States
ATTACH;FMTTYPE=image/png:https://stmamom.com/wp-content/uploads/2021/04/otsego-parks-rec-e1619580266549.png
ORGANIZER;CN="Otsego Parks & Recreation":MAILTO:recreation@ci.otsego.mn.us
END:VEVENT
END:VCALENDAR