BEGIN:VCALENDAR
VERSION:2.0
PRODID:-//STMAmom.com - ECPv6.15.16.1//NONSGML v1.0//EN
CALSCALE:GREGORIAN
METHOD:PUBLISH
X-WR-CALNAME:STMAmom.com
X-ORIGINAL-URL:https://stmamom.com
X-WR-CALDESC:Events for STMAmom.com
REFRESH-INTERVAL;VALUE=DURATION:PT1H
X-Robots-Tag:noindex
X-PUBLISHED-TTL:PT1H
BEGIN:VTIMEZONE
TZID:America/Chicago
BEGIN:DAYLIGHT
TZOFFSETFROM:-0600
TZOFFSETTO:-0500
TZNAME:CDT
DTSTART:20240310T080000
END:DAYLIGHT
BEGIN:STANDARD
TZOFFSETFROM:-0500
TZOFFSETTO:-0600
TZNAME:CST
DTSTART:20241103T070000
END:STANDARD
BEGIN:DAYLIGHT
TZOFFSETFROM:-0600
TZOFFSETTO:-0500
TZNAME:CDT
DTSTART:20250309T080000
END:DAYLIGHT
BEGIN:STANDARD
TZOFFSETFROM:-0500
TZOFFSETTO:-0600
TZNAME:CST
DTSTART:20251102T070000
END:STANDARD
BEGIN:DAYLIGHT
TZOFFSETFROM:-0600
TZOFFSETTO:-0500
TZNAME:CDT
DTSTART:20260308T080000
END:DAYLIGHT
BEGIN:STANDARD
TZOFFSETFROM:-0500
TZOFFSETTO:-0600
TZNAME:CST
DTSTART:20261101T070000
END:STANDARD
END:VTIMEZONE
BEGIN:VEVENT
DTSTART;VALUE=DATE:20250809
DTEND;VALUE=DATE:20250815
DTSTAMP:20260424T024703
CREATED:20250523T180512Z
LAST-MODIFIED:20250528T030714Z
UID:9342-1754697600-1755215999@stmamom.com
SUMMARY:$1 Kids Movie: Croods 2
DESCRIPTION:Visit St. Michael Cinema for great kid-friendly movies all summer long for just $1 per person! Showtimes and tickets available at stmichaelcinema.com. \nComplete list of movies:
URL:https://stmamom.com/event/summer-movies-2025-croods-2/
LOCATION:St. Michael Cinema\, 4300 O'Day Ave NE\, St. Michael\, MN\, 55376\, United States
ATTACH;FMTTYPE=image/jpeg:https://stmamom.com/wp-content/uploads/2024/05/summermovies-header-e1716754266575.jpg
END:VEVENT
BEGIN:VEVENT
DTSTART;TZID=America/Chicago:20250814T093000
DTEND;TZID=America/Chicago:20250814T100000
DTSTAMP:20260424T024703
CREATED:20250523T182617Z
LAST-MODIFIED:20250523T182617Z
UID:9354-1755163800-1755165600@stmamom.com
SUMMARY:Reading in the Park (Hanover)
DESCRIPTION:Join FYCC every Thursday at Settler’s Park in Hanover to hear some great stories read by local community leaders. After storytime\, each child will get to take home a free book! \nThis event is for infants through 8th grade. Please register at myfycc.com
URL:https://stmamom.com/event/reading-in-the-park-hanover-10-2025-08-14/
LOCATION:Hanover Settlers Park\, 11250 5th St NE\, Hanover\, MN\, 55341\, United States
ATTACH;FMTTYPE=image/png:https://stmamom.com/wp-content/uploads/2021/04/fycc-e1697061396286.png
ORGANIZER;CN="FYCC":MAILTO:FYCCinformation@gmail.com
END:VEVENT
BEGIN:VEVENT
DTSTART;TZID=America/Chicago:20250814T130000
DTEND;TZID=America/Chicago:20250814T140000
DTSTAMP:20260424T024703
CREATED:20250618T130130Z
LAST-MODIFIED:20250618T130130Z
UID:9507-1755176400-1755180000@stmamom.com
SUMMARY:Open Swim
DESCRIPTION:Bring your family to enjoy lifeguard-supervised recreational swimming at STMA Middle School East. You can choose either to pay per visit or purchase a season pass. No registration required; pay on site at the pool. \nChildren 7 and under MUST be accompanied by an adult in the water. \nDaily Admission: \n\nChildren 4 and under – Free\nStudents and Adults – $3\nFamily (immediate family only) – $6\nActivity Center members – Free\n\nSummer Pool Pass: \n\nIndividual Pass – $50\nFamily Pass – $75
URL:https://stmamom.com/event/open-swim-2025-2025-08-14/
LOCATION:STMA Middle School East\, 4862 Naber Avenue NE\, St. Michael\, MN\, 55376\, United States
ATTACH;FMTTYPE=image/png:https://stmamom.com/wp-content/uploads/2023/07/swim-e1689015869465.png
ORGANIZER;CN="STMA Community Education":MAILTO:janetm@mystma.org
END:VEVENT
BEGIN:VEVENT
DTSTART;TZID=America/Chicago:20250814T150000
DTEND;TZID=America/Chicago:20250814T183000
DTSTAMP:20260424T024703
CREATED:20250523T213530Z
LAST-MODIFIED:20250523T213530Z
UID:9417-1755183600-1755196200@stmamom.com
SUMMARY:Power of Produce
DESCRIPTION:FYCC’s free “Power of Produce” program is open to kids ages 2–17. Each week that they visit the Albertville Farmer’s Market\, kids will receive a free fruit or vegetable of their choice that was provided by farmers from the market. The P.O.P. program runs every Thursday\, from July 3 through August 28. \nParent or guardian permission/signature required at signup.\nRegister in advance at https://secure.rec1.com/MN/family-youth-community-connections/catalog
URL:https://stmamom.com/event/power-of-produce-2-2025-08-14/
LOCATION:Albertville Central Park\, 5801 Main Ave NE\, Albertville\, MN\, 55301\, United States
ATTACH;FMTTYPE=image/jpeg:https://stmamom.com/wp-content/uploads/2023/06/pop-e1686777338415.jpg
ORGANIZER;CN="FYCC":MAILTO:FYCCinformation@gmail.com
END:VEVENT
BEGIN:VEVENT
DTSTART;TZID=America/Chicago:20250814T200000
DTEND;TZID=America/Chicago:20250814T223000
DTSTAMP:20260424T024703
CREATED:20250812T211118Z
LAST-MODIFIED:20250812T211322Z
UID:9563-1755201600-1755210600@stmamom.com
SUMMARY:Rogers Movie in the Park
DESCRIPTION:Bring a chair or blanket to Lions Central Park in Rogers to enjoy a free family movie every Thursday night in August. Free popcorn provided! (In the case of inclement weather\, the event will be moved indoors.) \nAugust 7 – 8:45 – The Emperor’s New Groove\nAugust 14 – 8:30 – Lilo & Stitch (2002)\nAugust 21 – 8:15 – Moana 2\nAugust 28 – 8:00 – Click here to vote for this week’s movie!
URL:https://stmamom.com/event/rogers-movie-in-the-park-2025-2025-08-14/
LOCATION:Rogers Lions Central Park\, 21354 Rouillard Ave\, Rogers\, MN\, 55374\, United States
ATTACH;FMTTYPE=image/jpeg:https://stmamom.com/wp-content/uploads/2017/06/monticello-moviesinthepark.jpg
ORGANIZER;CN="City of Rogers":MAILTO:info@rogersmn.gov
END:VEVENT
END:VCALENDAR