BEGIN:VCALENDAR
VERSION:2.0
PRODID:-//STMAmom.com - ECPv6.15.16.1//NONSGML v1.0//EN
CALSCALE:GREGORIAN
METHOD:PUBLISH
X-ORIGINAL-URL:https://stmamom.com
X-WR-CALDESC:Events for STMAmom.com
REFRESH-INTERVAL;VALUE=DURATION:PT1H
X-Robots-Tag:noindex
X-PUBLISHED-TTL:PT1H
BEGIN:VTIMEZONE
TZID:America/Chicago
BEGIN:DAYLIGHT
TZOFFSETFROM:-0600
TZOFFSETTO:-0500
TZNAME:CDT
DTSTART:20240310T080000
END:DAYLIGHT
BEGIN:STANDARD
TZOFFSETFROM:-0500
TZOFFSETTO:-0600
TZNAME:CST
DTSTART:20241103T070000
END:STANDARD
BEGIN:DAYLIGHT
TZOFFSETFROM:-0600
TZOFFSETTO:-0500
TZNAME:CDT
DTSTART:20250309T080000
END:DAYLIGHT
BEGIN:STANDARD
TZOFFSETFROM:-0500
TZOFFSETTO:-0600
TZNAME:CST
DTSTART:20251102T070000
END:STANDARD
BEGIN:DAYLIGHT
TZOFFSETFROM:-0600
TZOFFSETTO:-0500
TZNAME:CDT
DTSTART:20260308T080000
END:DAYLIGHT
BEGIN:STANDARD
TZOFFSETFROM:-0500
TZOFFSETTO:-0600
TZNAME:CST
DTSTART:20261101T070000
END:STANDARD
END:VTIMEZONE
BEGIN:VEVENT
DTSTART;TZID=America/Chicago:20250822T100000
DTEND;TZID=America/Chicago:20250822T120000
DTSTAMP:20260424T055621
CREATED:20250804T193712Z
LAST-MODIFIED:20250804T193712Z
UID:9549-1755856800-1755864000@stmamom.com
SUMMARY:Pop-up Ping Pong at the Library
DESCRIPTION:Step into a Popup Ping-Pong Park and enjoy a fun\, accessible way to play\, connect\, and unwind—whether you’re a seasoned player or just picking up a paddle. The Temporary Table Tennis Trailer (TTTT) brings an artist-focused\, mobile ping-pong experience to you. Offering spontaneous matches combined with encouragement to consider sport as artistic performance through play and conversation\, the TTTT creates a welcoming space for all ages and skill levels. Drop in anytime!
URL:https://stmamom.com/event/pop-up-ping-pong-at-the-library/
LOCATION:St. Michael Public Library\, 11800 Town Center Dr NE\, St. Michael\, MN\, 55376\, United States
END:VEVENT
END:VCALENDAR