BEGIN:VCALENDAR
VERSION:2.0
PRODID:-//STMAmom.com - ECPv6.15.16.1//NONSGML v1.0//EN
CALSCALE:GREGORIAN
METHOD:PUBLISH
X-WR-CALNAME:STMAmom.com
X-ORIGINAL-URL:https://stmamom.com
X-WR-CALDESC:Events for STMAmom.com
REFRESH-INTERVAL;VALUE=DURATION:PT1H
X-Robots-Tag:noindex
X-PUBLISHED-TTL:PT1H
BEGIN:VTIMEZONE
TZID:America/Chicago
BEGIN:DAYLIGHT
TZOFFSETFROM:-0600
TZOFFSETTO:-0500
TZNAME:CDT
DTSTART:20240310T080000
END:DAYLIGHT
BEGIN:STANDARD
TZOFFSETFROM:-0500
TZOFFSETTO:-0600
TZNAME:CST
DTSTART:20241103T070000
END:STANDARD
BEGIN:DAYLIGHT
TZOFFSETFROM:-0600
TZOFFSETTO:-0500
TZNAME:CDT
DTSTART:20250309T080000
END:DAYLIGHT
BEGIN:STANDARD
TZOFFSETFROM:-0500
TZOFFSETTO:-0600
TZNAME:CST
DTSTART:20251102T070000
END:STANDARD
BEGIN:DAYLIGHT
TZOFFSETFROM:-0600
TZOFFSETTO:-0500
TZNAME:CDT
DTSTART:20260308T080000
END:DAYLIGHT
BEGIN:STANDARD
TZOFFSETFROM:-0500
TZOFFSETTO:-0600
TZNAME:CST
DTSTART:20261101T070000
END:STANDARD
END:VTIMEZONE
BEGIN:VEVENT
DTSTART;TZID=America/Chicago:20250828T150000
DTEND;TZID=America/Chicago:20250828T183000
DTSTAMP:20260424T042122
CREATED:20250523T213530Z
LAST-MODIFIED:20250523T213530Z
UID:9419-1756393200-1756405800@stmamom.com
SUMMARY:Power of Produce
DESCRIPTION:FYCC’s free “Power of Produce” program is open to kids ages 2–17. Each week that they visit the Albertville Farmer’s Market\, kids will receive a free fruit or vegetable of their choice that was provided by farmers from the market. The P.O.P. program runs every Thursday\, from July 3 through August 28. \nParent or guardian permission/signature required at signup.\nRegister in advance at https://secure.rec1.com/MN/family-youth-community-connections/catalog
URL:https://stmamom.com/event/power-of-produce-2-2025-08-28/
LOCATION:Albertville Central Park\, 5801 Main Ave NE\, Albertville\, MN\, 55301\, United States
ATTACH;FMTTYPE=image/jpeg:https://stmamom.com/wp-content/uploads/2023/06/pop-e1686777338415.jpg
ORGANIZER;CN="FYCC":MAILTO:FYCCinformation@gmail.com
END:VEVENT
BEGIN:VEVENT
DTSTART;TZID=America/Chicago:20250828T200000
DTEND;TZID=America/Chicago:20250828T223000
DTSTAMP:20260424T042122
CREATED:20250812T211118Z
LAST-MODIFIED:20250812T211322Z
UID:9565-1756411200-1756420200@stmamom.com
SUMMARY:Rogers Movie in the Park
DESCRIPTION:Bring a chair or blanket to Lions Central Park in Rogers to enjoy a free family movie every Thursday night in August. Free popcorn provided! (In the case of inclement weather\, the event will be moved indoors.) \nAugust 7 – 8:45 – The Emperor’s New Groove\nAugust 14 – 8:30 – Lilo & Stitch (2002)\nAugust 21 – 8:15 – Moana 2\nAugust 28 – 8:00 – Click here to vote for this week’s movie!
URL:https://stmamom.com/event/rogers-movie-in-the-park-2025-2025-08-28/
LOCATION:Rogers Lions Central Park\, 21354 Rouillard Ave\, Rogers\, MN\, 55374\, United States
ATTACH;FMTTYPE=image/jpeg:https://stmamom.com/wp-content/uploads/2017/06/monticello-moviesinthepark.jpg
ORGANIZER;CN="City of Rogers":MAILTO:info@rogersmn.gov
END:VEVENT
END:VCALENDAR