BEGIN:VCALENDAR
VERSION:2.0
PRODID:-//STMAmom.com - ECPv6.15.16.1//NONSGML v1.0//EN
CALSCALE:GREGORIAN
METHOD:PUBLISH
X-WR-CALNAME:STMAmom.com
X-ORIGINAL-URL:https://stmamom.com
X-WR-CALDESC:Events for STMAmom.com
REFRESH-INTERVAL;VALUE=DURATION:PT1H
X-Robots-Tag:noindex
X-PUBLISHED-TTL:PT1H
BEGIN:VTIMEZONE
TZID:America/Chicago
BEGIN:DAYLIGHT
TZOFFSETFROM:-0600
TZOFFSETTO:-0500
TZNAME:CDT
DTSTART:20240310T080000
END:DAYLIGHT
BEGIN:STANDARD
TZOFFSETFROM:-0500
TZOFFSETTO:-0600
TZNAME:CST
DTSTART:20241103T070000
END:STANDARD
BEGIN:DAYLIGHT
TZOFFSETFROM:-0600
TZOFFSETTO:-0500
TZNAME:CDT
DTSTART:20250309T080000
END:DAYLIGHT
BEGIN:STANDARD
TZOFFSETFROM:-0500
TZOFFSETTO:-0600
TZNAME:CST
DTSTART:20251102T070000
END:STANDARD
BEGIN:DAYLIGHT
TZOFFSETFROM:-0600
TZOFFSETTO:-0500
TZNAME:CDT
DTSTART:20260308T080000
END:DAYLIGHT
BEGIN:STANDARD
TZOFFSETFROM:-0500
TZOFFSETTO:-0600
TZNAME:CST
DTSTART:20261101T070000
END:STANDARD
END:VTIMEZONE
BEGIN:VEVENT
DTSTART;TZID=America/Chicago:20250905T083000
DTEND;TZID=America/Chicago:20250905T100000
DTSTAMP:20260424T011936
CREATED:20250829T003732Z
LAST-MODIFIED:20250829T003732Z
UID:9622-1757061000-1757066400@stmamom.com
SUMMARY:ECFE Open House
DESCRIPTION:Stop by the annual fall ECFE Open House to meet fabulous teachers\, see the classrooms\, make a craft\, & meet some new friends! This event is open to both enrolled ECFE students and those just exploring the program for their 0- to 5-year-olds.
URL:https://stmamom.com/event/ecfe-open-house-2025/
LOCATION:STMA Community Education Building\, 60 Central Avenue W\, St. Michael\, MN\, 55376\, United States
ATTACH;FMTTYPE=image/jpeg:https://stmamom.com/wp-content/uploads/2021/04/ecfe-e1619575280453.jpg
END:VEVENT
END:VCALENDAR