BEGIN:VCALENDAR
VERSION:2.0
PRODID:-//STMAmom.com - ECPv6.15.16.1//NONSGML v1.0//EN
CALSCALE:GREGORIAN
METHOD:PUBLISH
X-WR-CALNAME:STMAmom.com
X-ORIGINAL-URL:https://stmamom.com
X-WR-CALDESC:Events for STMAmom.com
REFRESH-INTERVAL;VALUE=DURATION:PT1H
X-Robots-Tag:noindex
X-PUBLISHED-TTL:PT1H
BEGIN:VTIMEZONE
TZID:America/Chicago
BEGIN:DAYLIGHT
TZOFFSETFROM:-0600
TZOFFSETTO:-0500
TZNAME:CDT
DTSTART:20240310T080000
END:DAYLIGHT
BEGIN:STANDARD
TZOFFSETFROM:-0500
TZOFFSETTO:-0600
TZNAME:CST
DTSTART:20241103T070000
END:STANDARD
BEGIN:DAYLIGHT
TZOFFSETFROM:-0600
TZOFFSETTO:-0500
TZNAME:CDT
DTSTART:20250309T080000
END:DAYLIGHT
BEGIN:STANDARD
TZOFFSETFROM:-0500
TZOFFSETTO:-0600
TZNAME:CST
DTSTART:20251102T070000
END:STANDARD
BEGIN:DAYLIGHT
TZOFFSETFROM:-0600
TZOFFSETTO:-0500
TZNAME:CDT
DTSTART:20260308T080000
END:DAYLIGHT
BEGIN:STANDARD
TZOFFSETFROM:-0500
TZOFFSETTO:-0600
TZNAME:CST
DTSTART:20261101T070000
END:STANDARD
END:VTIMEZONE
BEGIN:VEVENT
DTSTART;TZID=America/Chicago:20251014T140000
DTEND;TZID=America/Chicago:20251014T190000
DTSTAMP:20260423T234002
CREATED:20250827T144229Z
LAST-MODIFIED:20260105T221533Z
UID:9669-1760450400-1760468400@stmamom.com
SUMMARY:Library Sensory Stations
DESCRIPTION:Stop by the library for some self-led sensory fun! There will be mess-free activities and sensory bins out in the children’s area for free play. This activity is suitable for preschool ages and up.
URL:https://stmamom.com/event/library-sensory-stations-2025-10-14/
LOCATION:St. Michael Public Library\, 11800 Town Center Dr NE\, St. Michael\, MN\, 55376\, United States
ATTACH;FMTTYPE=image/jpeg:https://stmamom.com/wp-content/uploads/2019/09/st-michael-library.jpg
END:VEVENT
BEGIN:VEVENT
DTSTART;TZID=America/Chicago:20251014T183000
DTEND;TZID=America/Chicago:20251014T193000
DTSTAMP:20260423T234002
CREATED:20251001T161832Z
LAST-MODIFIED:20251001T161832Z
UID:9702-1760466600-1760470200@stmamom.com
SUMMARY:FYCC Halloween Bingo
DESCRIPTION:Bring your family (grandparents included!) for a fun night of Halloween Bingo with FYCC. Wear your costume and get ready to win some great prizes! \nCost: $20/family\nRegister at: https://secure.rec1.com/MN/family-youth-community-connections/catalog
URL:https://stmamom.com/event/fycc-halloween-bingo/
LOCATION:Albertville City Hall\, 5959 Main Ave NE\, Albertville\, MN\, 55301\, United States
ATTACH;FMTTYPE=image/png:https://stmamom.com/wp-content/uploads/2021/04/fycc-e1697061396286.png
ORGANIZER;CN="FYCC":MAILTO:FYCCinformation@gmail.com
END:VEVENT
END:VCALENDAR