BEGIN:VCALENDAR
VERSION:2.0
PRODID:-//STMAmom.com - ECPv6.15.16.1//NONSGML v1.0//EN
CALSCALE:GREGORIAN
METHOD:PUBLISH
X-ORIGINAL-URL:https://stmamom.com
X-WR-CALDESC:Events for STMAmom.com
REFRESH-INTERVAL;VALUE=DURATION:PT1H
X-Robots-Tag:noindex
X-PUBLISHED-TTL:PT1H
BEGIN:VTIMEZONE
TZID:America/Chicago
BEGIN:DAYLIGHT
TZOFFSETFROM:-0600
TZOFFSETTO:-0500
TZNAME:CDT
DTSTART:20240310T080000
END:DAYLIGHT
BEGIN:STANDARD
TZOFFSETFROM:-0500
TZOFFSETTO:-0600
TZNAME:CST
DTSTART:20241103T070000
END:STANDARD
BEGIN:DAYLIGHT
TZOFFSETFROM:-0600
TZOFFSETTO:-0500
TZNAME:CDT
DTSTART:20250309T080000
END:DAYLIGHT
BEGIN:STANDARD
TZOFFSETFROM:-0500
TZOFFSETTO:-0600
TZNAME:CST
DTSTART:20251102T070000
END:STANDARD
BEGIN:DAYLIGHT
TZOFFSETFROM:-0600
TZOFFSETTO:-0500
TZNAME:CDT
DTSTART:20260308T080000
END:DAYLIGHT
BEGIN:STANDARD
TZOFFSETFROM:-0500
TZOFFSETTO:-0600
TZNAME:CST
DTSTART:20261101T070000
END:STANDARD
END:VTIMEZONE
BEGIN:VEVENT
DTSTART;TZID=America/Chicago:20251026T113000
DTEND;TZID=America/Chicago:20251026T123000
DTSTAMP:20260423T221710
CREATED:20251001T181136Z
LAST-MODIFIED:20251001T181136Z
UID:9728-1761478200-1761481800@stmamom.com
SUMMARY:Trunk-or-Treat at Free Grace United
DESCRIPTION:Join Free Grace United for its annual community-wide Trunk or Treat. Come for the church service at 10am and stay for family fun!\n\nWhen: Sun\, Oct 26 from 11:30am-12:30pmWhere: Free Grace United Church (19 Main St N\, St Michael 55376 – meeting in the Historic St Michael Church)\n\nFeaturing:CandyChili FeedHot Apple Cider…and MORE – ALL FREE!
URL:https://stmamom.com/event/trunk-or-treat-at-free-grace-united-2/
LOCATION:Free Grace United\, 19 Main St N\, St. Michael\, MN\, 55376\, United States
END:VEVENT
BEGIN:VEVENT
DTSTART;TZID=America/Chicago:20251026T140000
DTEND;TZID=America/Chicago:20251026T160000
DTSTAMP:20260423T221710
CREATED:20251022T145911Z
LAST-MODIFIED:20251022T145911Z
UID:9743-1761487200-1761494400@stmamom.com
SUMMARY:Trick-or-Trunk at Alleluia Lutheran
DESCRIPTION:Alleluia Lutheran Church is hosting its annual family-friendly trick-or-trunk event in its parking lot\, combining the fun of Halloween with a focus on community service. Children are invited to trick-or-treat amongst the decorated trunks of vehicles\, as well as enjoy the bounce house in the parking lot.\n\nThere will also be a designated area for donations of non-perishable food items and/ gently used or new winter clothing to donate to the Hanover Food Shelf.
URL:https://stmamom.com/event/trick-or-trunk-at-alleluia-lutheran-2/
LOCATION:Alleluia Lutheran Church\, 10401 30th Street NE\, St. Michael\, MN\, 55376\, United States
ORGANIZER;CN="Alleluia Lutheran Church":MAILTO:office@alleluialutheranchurch.org
END:VEVENT
END:VCALENDAR