BEGIN:VCALENDAR
VERSION:2.0
PRODID:-//STMAmom.com - ECPv6.15.16.1//NONSGML v1.0//EN
CALSCALE:GREGORIAN
METHOD:PUBLISH
X-WR-CALNAME:STMAmom.com
X-ORIGINAL-URL:https://stmamom.com
X-WR-CALDESC:Events for STMAmom.com
REFRESH-INTERVAL;VALUE=DURATION:PT1H
X-Robots-Tag:noindex
X-PUBLISHED-TTL:PT1H
BEGIN:VTIMEZONE
TZID:America/Chicago
BEGIN:DAYLIGHT
TZOFFSETFROM:-0600
TZOFFSETTO:-0500
TZNAME:CDT
DTSTART:20250309T080000
END:DAYLIGHT
BEGIN:STANDARD
TZOFFSETFROM:-0500
TZOFFSETTO:-0600
TZNAME:CST
DTSTART:20251102T070000
END:STANDARD
BEGIN:DAYLIGHT
TZOFFSETFROM:-0600
TZOFFSETTO:-0500
TZNAME:CDT
DTSTART:20260308T080000
END:DAYLIGHT
BEGIN:STANDARD
TZOFFSETFROM:-0500
TZOFFSETTO:-0600
TZNAME:CST
DTSTART:20261101T070000
END:STANDARD
BEGIN:DAYLIGHT
TZOFFSETFROM:-0600
TZOFFSETTO:-0500
TZNAME:CDT
DTSTART:20270314T080000
END:DAYLIGHT
BEGIN:STANDARD
TZOFFSETFROM:-0500
TZOFFSETTO:-0600
TZNAME:CST
DTSTART:20271107T070000
END:STANDARD
END:VTIMEZONE
BEGIN:VEVENT
DTSTART;TZID=America/Chicago:20260108T100000
DTEND;TZID=America/Chicago:20260108T103000
DTSTAMP:20260423T191826
CREATED:20250827T141326Z
LAST-MODIFIED:20260325T212155Z
UID:9947-1767866400-1767868200@stmamom.com
SUMMARY:ECFE Storytime at the Library
DESCRIPTION:Come hang out at the library with your friends from ECFE! A staff member from STMA’s Early Childhood program will lead storytime along with crafts\, games\, songs. This event is intended for ages 0 to 6 along with their parent or caregiver.
URL:https://stmamom.com/event/ecfe-storytime-at-the-library-2-2026-01-08/
LOCATION:St. Michael Public Library\, 11800 Town Center Dr NE\, St. Michael\, MN\, 55376\, United States
ATTACH;FMTTYPE=image/jpeg:https://stmamom.com/wp-content/uploads/2021/04/ecfe-e1619575280453.jpg
END:VEVENT
BEGIN:VEVENT
DTSTART;TZID=America/Chicago:20260108T100000
DTEND;TZID=America/Chicago:20260108T113000
DTSTAMP:20260423T191826
CREATED:20250827T152548Z
LAST-MODIFIED:20260325T211911Z
UID:9956-1767866400-1767871800@stmamom.com
SUMMARY:Otsego Open Playtime
DESCRIPTION:Kids ages 5 & under are invited to play and meet new friends at Otsego’s Open Playtime. This drop-in program offers an open play session full of toys\, crafts\, active equipment\, and activities. Come for the whole time or stay while you can. (Parent/guardian supervision is required.) \nCost: $3/child at the door\, or pick up a punch pass!\nPlease check Facebook for closures due to holidays or inclement weather: \nNot meeting October 30\, November 27\, December 25\, January 19 and February 16\nLast day is Thursday\, May 14
URL:https://stmamom.com/event/otsego-open-playtime-2025-2026-01-08/
LOCATION:Prairie Center\, 8899 Nashua Ave NE\, Otsego\, MN\, 55330\, United States
ATTACH;FMTTYPE=image/png:https://stmamom.com/wp-content/uploads/2021/04/otsego-parks-rec-e1619580266549.png
ORGANIZER;CN="Otsego Parks & Recreation":MAILTO:recreation@ci.otsego.mn.us
END:VEVENT
BEGIN:VEVENT
DTSTART;TZID=America/Chicago:20260108T180000
DTEND;TZID=America/Chicago:20260108T190000
DTSTAMP:20260423T191826
CREATED:20260105T210846Z
LAST-MODIFIED:20260105T210846Z
UID:9930-1767895200-1767898800@stmamom.com
SUMMARY:Dome Night
DESCRIPTION:Join your friends from ECFE for Dome Night\, a fantastic evening of fun for the whole family at the STMA Multipurpose Facility! Designed for children ages 8 and under\, this event features an array of inflatables and age-appropriate toys that will keep your little ones active and entertained. Come bounce\, slide\, and play in a safe and exciting environment\, where families can enjoy quality time together and socialize with other families while letting the kids burn off some energy! \nCost: $5/family\nRegister & pay online at https://stma.ce.eleyo.com/course/ecfe/7389/fall-2025%E2%80%941/ecfe-dome-nights
URL:https://stmamom.com/event/dome-night-2/
LOCATION:STMA High School\, 5800 Jamison Ave NE\, St. Michael\, MN\, 55376\, United States
ATTACH;FMTTYPE=image/jpeg:https://stmamom.com/wp-content/uploads/2018/11/stmadome.jpg
END:VEVENT
BEGIN:VEVENT
DTSTART;TZID=America/Chicago:20260108T180000
DTEND;TZID=America/Chicago:20260108T200000
DTSTAMP:20260423T191826
CREATED:20260105T211536Z
LAST-MODIFIED:20260105T211536Z
UID:9941-1767895200-1767902400@stmamom.com
SUMMARY:Preschool Fair
DESCRIPTION:Parents of future preschoolers are invited to join MOMS Club of St. Michael\, Albertville & Hanover for a FREE community fair featuring local preschools and child-focused businesses. Meet with representatives from preschools in St. Michael-Albertville and the surrounding area to find out which school might be right for your little learner. \n  \n \n 
URL:https://stmamom.com/event/preschool-fair-4/
LOCATION:St. Michael City Hall\, 11800 Town Center Drive\, St. Michael\, MN\, 55376\, United States
ORGANIZER;CN="MOMS Club of St. Michael-Albertville-Hanover":MAILTO:momsclubstmh@gmail.com
END:VEVENT
END:VCALENDAR