BEGIN:VCALENDAR
VERSION:2.0
PRODID:-//STMAmom.com - ECPv6.15.16.1//NONSGML v1.0//EN
CALSCALE:GREGORIAN
METHOD:PUBLISH
X-WR-CALNAME:STMAmom.com
X-ORIGINAL-URL:https://stmamom.com
X-WR-CALDESC:Events for STMAmom.com
REFRESH-INTERVAL;VALUE=DURATION:PT1H
X-Robots-Tag:noindex
X-PUBLISHED-TTL:PT1H
BEGIN:VTIMEZONE
TZID:America/Chicago
BEGIN:DAYLIGHT
TZOFFSETFROM:-0600
TZOFFSETTO:-0500
TZNAME:CDT
DTSTART:20250309T080000
END:DAYLIGHT
BEGIN:STANDARD
TZOFFSETFROM:-0500
TZOFFSETTO:-0600
TZNAME:CST
DTSTART:20251102T070000
END:STANDARD
BEGIN:DAYLIGHT
TZOFFSETFROM:-0600
TZOFFSETTO:-0500
TZNAME:CDT
DTSTART:20260308T080000
END:DAYLIGHT
BEGIN:STANDARD
TZOFFSETFROM:-0500
TZOFFSETTO:-0600
TZNAME:CST
DTSTART:20261101T070000
END:STANDARD
BEGIN:DAYLIGHT
TZOFFSETFROM:-0600
TZOFFSETTO:-0500
TZNAME:CDT
DTSTART:20270314T080000
END:DAYLIGHT
BEGIN:STANDARD
TZOFFSETFROM:-0500
TZOFFSETTO:-0600
TZNAME:CST
DTSTART:20271107T070000
END:STANDARD
END:VTIMEZONE
BEGIN:VEVENT
DTSTART;TZID=America/Chicago:20260207T090000
DTEND;TZID=America/Chicago:20260207T120000
DTSTAMP:20260423T174925
CREATED:20230627T221107Z
LAST-MODIFIED:20260325T211849Z
UID:10045-1770454800-1770465600@stmamom.com
SUMMARY:Home Depot Kids Workshop
DESCRIPTION:Bring your kids to Home Depot to complete a free\, hands-on building project created with them in mind! Workshops take place the 1st Saturday of each month and vary by theme. \nFind out more information and register for the workshop at https://www.homedepot.com/c/kids
URL:https://stmamom.com/event/home-depot-kids-workshop-2026-02-07/
LOCATION:Home Depot\, 1385 E 7th Street\, Monticello\, MN\, 55362\, United States
ATTACH;FMTTYPE=image/png:https://stmamom.com/wp-content/uploads/2023/06/home-depot-e1691001383784.png
END:VEVENT
BEGIN:VEVENT
DTSTART;TZID=America/Chicago:20260207T093000
DTEND;TZID=America/Chicago:20260207T130000
DTSTAMP:20260423T174925
CREATED:20260105T221742Z
LAST-MODIFIED:20260105T221742Z
UID:10060-1770456600-1770469200@stmamom.com
SUMMARY:"Take Your Child to the Library" Day
DESCRIPTION:It’s National Take Your Child to the Library Day\, and the St. Michael Library is celebrating with a Winter Carnival! There will be winter themed activities\, games\, stories\, crafts\, a snow princess\, and more. Registration not required; drop in anytime.
URL:https://stmamom.com/event/take-your-child-to-the-library-day-2/
LOCATION:St. Michael Public Library\, 11800 Town Center Dr NE\, St. Michael\, MN\, 55376\, United States
ATTACH;FMTTYPE=image/jpeg:https://stmamom.com/wp-content/uploads/2019/09/st-michael-library.jpg
END:VEVENT
BEGIN:VEVENT
DTSTART;TZID=America/Chicago:20260207T100000
DTEND;TZID=America/Chicago:20260207T130000
DTSTAMP:20260423T174925
CREATED:20260128T195054Z
LAST-MODIFIED:20260128T195054Z
UID:10073-1770458400-1770469200@stmamom.com
SUMMARY:Otsego Winter Festival
DESCRIPTION:Bundle up for some frosty fun! Wright County Parks and Otsego Parks & Recreation are teaming up to offer the 2nd annual Otsego Winter Festival. \n\nEvent Highlights include snowshoe adventures\, wagon rides\, art projects\, and a magical meet-and-greet with Princess Elsa. Then\, warm up around the campfire with a s’more and a cup of hot cocoa. In addition\, your family can search for hidden medallions and win a cash prize of up to $125!
URL:https://stmamom.com/event/otsego-winter-festival-2026/
LOCATION:Prairie Center\, 8899 Nashua Ave NE\, Otsego\, MN\, 55330\, United States
ATTACH;FMTTYPE=image/png:https://stmamom.com/wp-content/uploads/2021/04/otsego-parks-rec-e1619580266549.png
ORGANIZER;CN="Otsego Parks & Recreation":MAILTO:recreation@ci.otsego.mn.us
END:VEVENT
END:VCALENDAR