BEGIN:VCALENDAR
VERSION:2.0
PRODID:-//STMAmom.com - ECPv6.15.16.1//NONSGML v1.0//EN
CALSCALE:GREGORIAN
METHOD:PUBLISH
X-WR-CALNAME:STMAmom.com
X-ORIGINAL-URL:https://stmamom.com
X-WR-CALDESC:Events for STMAmom.com
REFRESH-INTERVAL;VALUE=DURATION:PT1H
X-Robots-Tag:noindex
X-PUBLISHED-TTL:PT1H
BEGIN:VTIMEZONE
TZID:America/Chicago
BEGIN:DAYLIGHT
TZOFFSETFROM:-0600
TZOFFSETTO:-0500
TZNAME:CDT
DTSTART:20250309T080000
END:DAYLIGHT
BEGIN:STANDARD
TZOFFSETFROM:-0500
TZOFFSETTO:-0600
TZNAME:CST
DTSTART:20251102T070000
END:STANDARD
BEGIN:DAYLIGHT
TZOFFSETFROM:-0600
TZOFFSETTO:-0500
TZNAME:CDT
DTSTART:20260308T080000
END:DAYLIGHT
BEGIN:STANDARD
TZOFFSETFROM:-0500
TZOFFSETTO:-0600
TZNAME:CST
DTSTART:20261101T070000
END:STANDARD
BEGIN:DAYLIGHT
TZOFFSETFROM:-0600
TZOFFSETTO:-0500
TZNAME:CDT
DTSTART:20270314T080000
END:DAYLIGHT
BEGIN:STANDARD
TZOFFSETFROM:-0500
TZOFFSETTO:-0600
TZNAME:CST
DTSTART:20271107T070000
END:STANDARD
END:VTIMEZONE
BEGIN:VEVENT
DTSTART;TZID=America/Chicago:20260307T090000
DTEND;TZID=America/Chicago:20260307T120000
DTSTAMP:20260423T161320
CREATED:20230627T221107Z
LAST-MODIFIED:20260325T211849Z
UID:10046-1772874000-1772884800@stmamom.com
SUMMARY:Home Depot Kids Workshop
DESCRIPTION:Bring your kids to Home Depot to complete a free\, hands-on building project created with them in mind! Workshops take place the 1st Saturday of each month and vary by theme. \nFind out more information and register for the workshop at https://www.homedepot.com/c/kids
URL:https://stmamom.com/event/home-depot-kids-workshop-2026-03-07/
LOCATION:Home Depot\, 1385 E 7th Street\, Monticello\, MN\, 55362\, United States
ATTACH;FMTTYPE=image/png:https://stmamom.com/wp-content/uploads/2023/06/home-depot-e1691001383784.png
END:VEVENT
BEGIN:VEVENT
DTSTART;TZID=America/Chicago:20260307T150000
DTEND;TZID=America/Chicago:20260307T170000
DTSTAMP:20260423T161320
CREATED:20260128T194021Z
LAST-MODIFIED:20260128T194021Z
UID:10067-1772895600-1772902800@stmamom.com
SUMMARY:FYCC Father-Daughter Dance
DESCRIPTION:Dads\, enjoy an evening out with your daughter while she’s still your little girl! Dance the night away at STMA Middle School West\, visit with real princesses\, play games\, enjoy a treat together\, and more. \nCost: $35 per father-daughter pair\, additional daughters $5 each\nRegister by February 20 at myfycc.com
URL:https://stmamom.com/event/fycc-father-daughter-dance-4/
LOCATION:STMA Middle School West\, 11343 50th St NE\, Albertville\, MN\, 55301\, United States
ATTACH;FMTTYPE=image/png:https://stmamom.com/wp-content/uploads/2021/04/fycc-e1697061396286.png
ORGANIZER;CN="FYCC":MAILTO:FYCCinformation@gmail.com
END:VEVENT
END:VCALENDAR