BEGIN:VCALENDAR
VERSION:2.0
PRODID:-//STMAmom.com - ECPv6.15.16.1//NONSGML v1.0//EN
CALSCALE:GREGORIAN
METHOD:PUBLISH
X-WR-CALNAME:STMAmom.com
X-ORIGINAL-URL:https://stmamom.com
X-WR-CALDESC:Events for STMAmom.com
REFRESH-INTERVAL;VALUE=DURATION:PT1H
X-Robots-Tag:noindex
X-PUBLISHED-TTL:PT1H
BEGIN:VTIMEZONE
TZID:America/Chicago
BEGIN:DAYLIGHT
TZOFFSETFROM:-0600
TZOFFSETTO:-0500
TZNAME:CDT
DTSTART:20230312T080000
END:DAYLIGHT
BEGIN:STANDARD
TZOFFSETFROM:-0500
TZOFFSETTO:-0600
TZNAME:CST
DTSTART:20231105T070000
END:STANDARD
BEGIN:DAYLIGHT
TZOFFSETFROM:-0600
TZOFFSETTO:-0500
TZNAME:CDT
DTSTART:20240310T080000
END:DAYLIGHT
BEGIN:STANDARD
TZOFFSETFROM:-0500
TZOFFSETTO:-0600
TZNAME:CST
DTSTART:20241103T070000
END:STANDARD
BEGIN:DAYLIGHT
TZOFFSETFROM:-0600
TZOFFSETTO:-0500
TZNAME:CDT
DTSTART:20250309T080000
END:DAYLIGHT
BEGIN:STANDARD
TZOFFSETFROM:-0500
TZOFFSETTO:-0600
TZNAME:CST
DTSTART:20251102T070000
END:STANDARD
END:VTIMEZONE
BEGIN:VEVENT
DTSTART;TZID=America/Chicago:20240930T103000
DTEND;TZID=America/Chicago:20240930T113000
DTSTAMP:20260425T101232
CREATED:20240830T192752Z
LAST-MODIFIED:20250326T122516Z
UID:8553-1727692200-1727695800@stmamom.com
SUMMARY:Preschool "Play & Learn" at the Library
DESCRIPTION:Encourage a love of learning as you and your child play\, explore\, discover\, count\, and create. Stations are set up for participants to come and go as time and attention span permits. Activities are designed for ages 1 to 5. No registration\, but room limits may be enforced.
URL:https://stmamom.com/event/preschool-play-learn-at-the-library/
LOCATION:St. Michael Public Library\, 11800 Town Center Dr NE\, St. Michael\, MN\, 55376\, United States
ATTACH;FMTTYPE=image/png:https://stmamom.com/wp-content/uploads/2024/08/library-play-learn-e1725046036166.png
END:VEVENT
BEGIN:VEVENT
DTSTART;TZID=America/Chicago:20240930T100000
DTEND;TZID=America/Chicago:20240930T113000
DTSTAMP:20260425T101232
CREATED:20240830T204814Z
LAST-MODIFIED:20250424T131347Z
UID:8585-1727690400-1727695800@stmamom.com
SUMMARY:Otsego Open Playtime
DESCRIPTION:Kids ages 5 & under are invited to play and meet new friends at Otsego’s Open Playtime. This drop-in program offers an open play session full of toys\, crafts\, active equipment\, and activities. Come for the whole time or stay while you can. (Parent/guardian supervision is required.) \nCost: $3/child at the door\, or pick up an 11-visit punchcard for $20 at https://otsego.recdesk.com\nPlease check Facebook for closures due to holidays or inclement weather:
URL:https://stmamom.com/event/otsego-open-playtime/
LOCATION:Prairie Center\, 8899 Nashua Ave NE\, Otsego\, MN\, 55330\, United States
ATTACH;FMTTYPE=image/png:https://stmamom.com/wp-content/uploads/2021/04/otsego-parks-rec-e1619580266549.png
ORGANIZER;CN="Otsego Parks & Recreation":MAILTO:recreation@ci.otsego.mn.us
END:VEVENT
BEGIN:VEVENT
DTSTART;TZID=America/Chicago:20240926T100000
DTEND;TZID=America/Chicago:20240926T103000
DTSTAMP:20260425T101232
CREATED:20240830T193848Z
LAST-MODIFIED:20250424T132124Z
UID:8564-1727344800-1727346600@stmamom.com
SUMMARY:ECFE Storytime at the Library
DESCRIPTION:Come hang out at the library with your friends from ECFE! A staff member from STMA’s Early Childhood program will lead storytime along with crafts\, games\, songs. This event is intended for ages 0 to 6 along with their parent or caregiver.
URL:https://stmamom.com/event/ecfe-storytime-at-the-library-2024-2024-09-26/
LOCATION:St. Michael Public Library\, 11800 Town Center Dr NE\, St. Michael\, MN\, 55376\, United States
ATTACH;FMTTYPE=image/jpeg:https://stmamom.com/wp-content/uploads/2021/04/ecfe-e1619575280453.jpg
END:VEVENT
BEGIN:VEVENT
DTSTART;TZID=America/Chicago:20240925T180000
DTEND;TZID=America/Chicago:20240925T191000
DTSTAMP:20260425T101232
CREATED:20240905T134318Z
LAST-MODIFIED:20250425T155252Z
UID:8609-1727287200-1727291400@stmamom.com
SUMMARY:Rogers Glow N Skate
DESCRIPTION:The coolest event in town! Glow N Skate is a special nighttime open skating event with the lights down and the music up. \nCost: $6/skater (includes glow necklace)\nRental skates: $2/pair
URL:https://stmamom.com/event/rogers-glow-n-skate/
LOCATION:Rogers Trustone Ice Arena\, 21080 141st Ave N\, Rogers\, MN\, 55374\, United States
ATTACH;FMTTYPE=image/jpeg:https://stmamom.com/wp-content/uploads/2021/04/73131867_3379341468750133_1414841314830188544_n-e1619577412521.jpg
ORGANIZER;CN="City of Rogers":MAILTO:info@rogersmn.gov
END:VEVENT
BEGIN:VEVENT
DTSTART;TZID=America/Chicago:20240923T160000
DTEND;TZID=America/Chicago:20240923T170000
DTSTAMP:20260425T101232
CREATED:20240830T191859Z
LAST-MODIFIED:20250129T180643Z
UID:8549-1727107200-1727110800@stmamom.com
SUMMARY:STEAM Fun at the Library
DESCRIPTION:STEAM* at the Library is back! Join library staff for an hour of learning\, exploring\, and inventing. All you need is your imagination! \nFor ages 7 to 11. Limit 10 children\, but parents/guardians are encouraged to stay to work with their child.\nRegistration required: https://events.griver.org/calendar/stmichaellibraryevents \n  \n*Science\, Technology\, Engineering\, Art\, and Mathematics
URL:https://stmamom.com/event/steam-fun-at-the-library/
LOCATION:St. Michael Public Library\, 11800 Town Center Dr NE\, St. Michael\, MN\, 55376\, United States
ATTACH;FMTTYPE=image/jpeg:https://stmamom.com/wp-content/uploads/2024/08/steam-library-scaled-e1725046126165.jpg
END:VEVENT
BEGIN:VEVENT
DTSTART;TZID=America/Chicago:20240923T103000
DTEND;TZID=America/Chicago:20240923T110000
DTSTAMP:20260425T101232
CREATED:20240830T191216Z
LAST-MODIFIED:20250424T131958Z
UID:8673-1727087400-1727089200@stmamom.com
SUMMARY:Library Storytime
DESCRIPTION:Start your week out right… at the library! Share books\, songs\, and rhymes with your children at this storytime designed to promote school readiness in 0- to 5-year-olds. Librarians\, caregivers\, and children will sing\, talk\, read\, write\, and play together to build early literacy skills. Siblings are also welcome.
URL:https://stmamom.com/event/library-storytime-2024-2024-09-23/
LOCATION:St. Michael Public Library\, 11800 Town Center Dr NE\, St. Michael\, MN\, 55376\, United States
ATTACH;FMTTYPE=image/jpeg:https://stmamom.com/wp-content/uploads/2024/08/storytime-e1725045078975.jpg
END:VEVENT
BEGIN:VEVENT
DTSTART;TZID=America/Chicago:20240922T140000
DTEND;TZID=America/Chicago:20240922T160000
DTSTAMP:20260425T101232
CREATED:20240526T205706Z
LAST-MODIFIED:20240626T193216Z
UID:8375-1727013600-1727020800@stmamom.com
SUMMARY:FYCC Mother-Son Ninja
DESCRIPTION:Moms\, bring your sons for an afternoon of ninja fun with FYCC! Cost is $30 per mother-son pair\, and additional sons are just $5. Each son will receive a Ninja gaiter and enjoy a karate demonstration. Snacks and drinks are provided\, and this event will also include a raffle (tickets sold separately).\n\nVisit myfycc.com and click on Programs to sign up for Mother/Son Ninja
URL:https://stmamom.com/event/fycc-mother-son-ninja/
LOCATION:Albertville Central Park\, 5801 Main Ave NE\, Albertville\, MN\, 55301\, United States
ATTACH;FMTTYPE=image/png:https://stmamom.com/wp-content/uploads/2021/04/fycc-e1697061396286.png
ORGANIZER;CN="FYCC":MAILTO:FYCCinformation@gmail.com
END:VEVENT
BEGIN:VEVENT
DTSTART;TZID=America/Chicago:20240921T100000
DTEND;TZID=America/Chicago:20240921T110000
DTSTAMP:20260425T101232
CREATED:20240830T194900Z
LAST-MODIFIED:20240830T194900Z
UID:8573-1726912800-1726916400@stmamom.com
SUMMARY:Books & Barks
DESCRIPTION:Families and their four-legged friends are invited to this dog-friendly storytime! Join us for stories\, a craft\, and an opportunity for your dog to meet other dogs. This event will be held outside and is weather dependent.
URL:https://stmamom.com/event/books-barks/
LOCATION:St. Michael Public Library\, 11800 Town Center Dr NE\, St. Michael\, MN\, 55376\, United States
ATTACH;FMTTYPE=image/jpeg:https://stmamom.com/wp-content/uploads/2024/08/booksbarks.jpg
END:VEVENT
BEGIN:VEVENT
DTSTART;VALUE=DATE:20240921
DTEND;VALUE=DATE:20240922
DTSTAMP:20260425T101232
CREATED:20240918T202634Z
LAST-MODIFIED:20240918T202634Z
UID:8622-1726876800-1726963199@stmamom.com
SUMMARY:Otsego Prairie Festival
DESCRIPTION:Otsego’s Prairie Festival is an annual community celebration featuring local exhibitors\, activities and entertainment for the whole family. The festival starts at 10am and continues throughout the day\, culminating with a fireworks display at dusk. \nFull schedule at otsegofestival.com
URL:https://stmamom.com/event/otsego-prairie-festival-2024/
LOCATION:Prairie Park\, Otsego\, 13355 90th Street NE\, Otsego\, MN\, 55330\, United States
ATTACH;FMTTYPE=image/png:https://stmamom.com/wp-content/uploads/2021/04/otsego-parks-rec-e1619580266549.png
ORGANIZER;CN="Otsego Parks & Recreation":MAILTO:recreation@ci.otsego.mn.us
END:VEVENT
BEGIN:VEVENT
DTSTART;TZID=America/Chicago:20240919T170000
DTEND;TZID=America/Chicago:20240919T180000
DTSTAMP:20260425T101232
CREATED:20240830T194317Z
LAST-MODIFIED:20260325T212538Z
UID:8570-1726765200-1726768800@stmamom.com
SUMMARY:LEGO Fun at the Library
DESCRIPTION:School-age kids are invited to show off their LEGO building skills! The library will provide the bricks\, you provide the imagination. Come meet with other builders and have some fun.
URL:https://stmamom.com/event/lego-fun-at-the-library/
LOCATION:St. Michael Public Library\, 11800 Town Center Dr NE\, St. Michael\, MN\, 55376\, United States
ATTACH;FMTTYPE=image/jpeg:https://stmamom.com/wp-content/uploads/2024/08/lego-scaled.jpg
END:VEVENT
BEGIN:VEVENT
DTSTART;TZID=America/Chicago:20240919T100000
DTEND;TZID=America/Chicago:20240919T103000
DTSTAMP:20260425T101232
CREATED:20240830T193848Z
LAST-MODIFIED:20250424T132124Z
UID:8563-1726740000-1726741800@stmamom.com
SUMMARY:ECFE Storytime at the Library
DESCRIPTION:Come hang out at the library with your friends from ECFE! A staff member from STMA’s Early Childhood program will lead storytime along with crafts\, games\, songs. This event is intended for ages 0 to 6 along with their parent or caregiver.
URL:https://stmamom.com/event/ecfe-storytime-at-the-library-2024-2024-09-19/
LOCATION:St. Michael Public Library\, 11800 Town Center Dr NE\, St. Michael\, MN\, 55376\, United States
ATTACH;FMTTYPE=image/jpeg:https://stmamom.com/wp-content/uploads/2021/04/ecfe-e1619575280453.jpg
END:VEVENT
BEGIN:VEVENT
DTSTART;VALUE=DATE:20240919
DTEND;VALUE=DATE:20240922
DTSTAMP:20260425T101232
CREATED:20240905T134940Z
LAST-MODIFIED:20240905T135758Z
UID:8616-1726704000-1726963199@stmamom.com
SUMMARY:SOAR Presents "Godspell" in the Park
DESCRIPTION:SOAR Arts is thrilled to announce a series of performances of the beloved musical Godspell at the Lions Pavilion in St. Michael’s Town Center Park. This classic production\, renowned for its vibrant music and uplifting message\, will grace the outdoor stage with a series of performances that are free and open to the public.\n\nThe musical will be staged\, weather permitting\, on the following dates:\nFriday\, September 13 at 7:00 PMSaturday\, September 14 at 7:00 PMSunday\, September 15 at 2:00 PMThursday\, September 19 at 7:00 PMFriday\, September 20 at 7:00 PMSaturday\, September 21 at 7:00 PMSunday\, September 22 at 2:00 PM\n\nGuests are invited to enjoy these magical performances in a beautiful outdoor setting. While the performances are free\, a suggested donation of $10 per person will help support future productions and community arts programs. Attendees are encouraged to dress for the weather and bring their own chairs for comfortable seating.\n\nGodspell\, created by Stephen Schwartz and John-Michael Tebelak\, features a collection of energetic and inspiring songs that bring the story of Jesus to life with a modern twist. This production promises to captivate audiences with its dynamic performances and heartfelt message.\nFor more information about the event\, including details on how to support SOAR Arts\, please visit soararts.org.
URL:https://stmamom.com/event/soar-presents-godspell-in-the-park-2024-09-19/
LOCATION:Town Center Park\, 11800 Town Center Drive NE\, St. Michael\, MN\, 55376\, United States
ATTACH;FMTTYPE=image/png:https://stmamom.com/wp-content/uploads/2021/04/soar-e1725544174724.png
ORGANIZER;CN="SOAR Regional Arts":MAILTO:laurynwhite@gmail.com
END:VEVENT
BEGIN:VEVENT
DTSTART;TZID=America/Chicago:20240916T103000
DTEND;TZID=America/Chicago:20240916T110000
DTSTAMP:20260425T101232
CREATED:20240830T191216Z
LAST-MODIFIED:20250424T131958Z
UID:8672-1726482600-1726484400@stmamom.com
SUMMARY:Library Storytime
DESCRIPTION:Start your week out right… at the library! Share books\, songs\, and rhymes with your children at this storytime designed to promote school readiness in 0- to 5-year-olds. Librarians\, caregivers\, and children will sing\, talk\, read\, write\, and play together to build early literacy skills. Siblings are also welcome.
URL:https://stmamom.com/event/library-storytime-2024-2024-09-16/
LOCATION:St. Michael Public Library\, 11800 Town Center Dr NE\, St. Michael\, MN\, 55376\, United States
ATTACH;FMTTYPE=image/jpeg:https://stmamom.com/wp-content/uploads/2024/08/storytime-e1725045078975.jpg
END:VEVENT
BEGIN:VEVENT
DTSTART;TZID=America/Chicago:20240914T103000
DTEND;TZID=America/Chicago:20240914T130000
DTSTAMP:20260425T101232
CREATED:20240830T201517Z
LAST-MODIFIED:20240830T201517Z
UID:8576-1726309800-1726318800@stmamom.com
SUMMARY:Open Streets (Albertville)
DESCRIPTION:Join FYCC for its semi-annual street fair\, taking place this fall in the area surrounding Central Park in Albertville. Visit with local businesses\, play games\, win prizes\, pick up freebies\, and more!
URL:https://stmamom.com/event/open-streets-albertville-2/
LOCATION:Albertville Central Park\, 5801 Main Ave NE\, Albertville\, MN\, 55301\, United States
ATTACH;FMTTYPE=image/png:https://stmamom.com/wp-content/uploads/2021/04/fycc-e1697061396286.png
ORGANIZER;CN="FYCC":MAILTO:FYCCinformation@gmail.com
END:VEVENT
BEGIN:VEVENT
DTSTART;VALUE=DATE:20240913
DTEND;VALUE=DATE:20240916
DTSTAMP:20260425T101232
CREATED:20240905T134940Z
LAST-MODIFIED:20240905T135757Z
UID:8611-1726185600-1726444799@stmamom.com
SUMMARY:SOAR Presents "Godspell" in the Park
DESCRIPTION:SOAR Arts is thrilled to announce a series of performances of the beloved musical Godspell at the Lions Pavilion in St. Michael’s Town Center Park. This classic production\, renowned for its vibrant music and uplifting message\, will grace the outdoor stage with a series of performances that are free and open to the public.\n\nThe musical will be staged\, weather permitting\, on the following dates:\nFriday\, September 13 at 7:00 PMSaturday\, September 14 at 7:00 PMSunday\, September 15 at 2:00 PMThursday\, September 19 at 7:00 PMFriday\, September 20 at 7:00 PMSaturday\, September 21 at 7:00 PMSunday\, September 22 at 2:00 PM\n\nGuests are invited to enjoy these magical performances in a beautiful outdoor setting. While the performances are free\, a suggested donation of $10 per person will help support future productions and community arts programs. Attendees are encouraged to dress for the weather and bring their own chairs for comfortable seating.\n\nGodspell\, created by Stephen Schwartz and John-Michael Tebelak\, features a collection of energetic and inspiring songs that bring the story of Jesus to life with a modern twist. This production promises to captivate audiences with its dynamic performances and heartfelt message.\nFor more information about the event\, including details on how to support SOAR Arts\, please visit soararts.org.
URL:https://stmamom.com/event/soar-presents-godspell-in-the-park/
LOCATION:Town Center Park\, 11800 Town Center Drive NE\, St. Michael\, MN\, 55376\, United States
ATTACH;FMTTYPE=image/png:https://stmamom.com/wp-content/uploads/2021/04/soar-e1725544174724.png
ORGANIZER;CN="SOAR Regional Arts":MAILTO:laurynwhite@gmail.com
END:VEVENT
BEGIN:VEVENT
DTSTART;TZID=America/Chicago:20240912T100000
DTEND;TZID=America/Chicago:20240912T103000
DTSTAMP:20260425T101232
CREATED:20240830T193848Z
LAST-MODIFIED:20250424T132124Z
UID:8562-1726135200-1726137000@stmamom.com
SUMMARY:ECFE Storytime at the Library
DESCRIPTION:Come hang out at the library with your friends from ECFE! A staff member from STMA’s Early Childhood program will lead storytime along with crafts\, games\, songs. This event is intended for ages 0 to 6 along with their parent or caregiver.
URL:https://stmamom.com/event/ecfe-storytime-at-the-library-2024/
LOCATION:St. Michael Public Library\, 11800 Town Center Dr NE\, St. Michael\, MN\, 55376\, United States
ATTACH;FMTTYPE=image/jpeg:https://stmamom.com/wp-content/uploads/2021/04/ecfe-e1619575280453.jpg
END:VEVENT
BEGIN:VEVENT
DTSTART;TZID=America/Chicago:20240909T103000
DTEND;TZID=America/Chicago:20240909T110000
DTSTAMP:20260425T101232
CREATED:20240830T191216Z
LAST-MODIFIED:20250424T131958Z
UID:8542-1725877800-1725879600@stmamom.com
SUMMARY:Library Storytime
DESCRIPTION:Start your week out right… at the library! Share books\, songs\, and rhymes with your children at this storytime designed to promote school readiness in 0- to 5-year-olds. Librarians\, caregivers\, and children will sing\, talk\, read\, write\, and play together to build early literacy skills. Siblings are also welcome.
URL:https://stmamom.com/event/library-storytime-2024/
LOCATION:St. Michael Public Library\, 11800 Town Center Dr NE\, St. Michael\, MN\, 55376\, United States
ATTACH;FMTTYPE=image/jpeg:https://stmamom.com/wp-content/uploads/2024/08/storytime-e1725045078975.jpg
END:VEVENT
BEGIN:VEVENT
DTSTART;TZID=America/Chicago:20240907T090000
DTEND;TZID=America/Chicago:20240907T120000
DTSTAMP:20260425T101232
CREATED:20230627T221107Z
LAST-MODIFIED:20260325T211843Z
UID:8580-1725699600-1725710400@stmamom.com
SUMMARY:Home Depot Kids Workshop
DESCRIPTION:Bring your kids to Home Depot to complete a free\, hands-on building project created with them in mind! Workshops take place the 1st Saturday of each month and vary by theme. \nFind out more information and register for the workshop at https://www.homedepot.com/c/kids
URL:https://stmamom.com/event/home-depot-kids-workshop-2024-09-07/
LOCATION:Home Depot\, 1385 E 7th Street\, Monticello\, MN\, 55362\, United States
ATTACH;FMTTYPE=image/png:https://stmamom.com/wp-content/uploads/2023/06/home-depot-e1691001383784.png
END:VEVENT
BEGIN:VEVENT
DTSTART;TZID=America/Chicago:20240906T083000
DTEND;TZID=America/Chicago:20240906T100000
DTSTAMP:20260425T101232
CREATED:20240905T133618Z
LAST-MODIFIED:20240905T133618Z
UID:8607-1725611400-1725616800@stmamom.com
SUMMARY:ECFE Open House
DESCRIPTION:Join ECFE for its annual Open House to kick off the new school year! Explore the classrooms and find out more about weekly class offerings\, special events\, and what adventures are happening in the year ahead. No pre-registration required. \n 
URL:https://stmamom.com/event/ecfe-open-house-4/
LOCATION:STMA Community Education Building\, 60 Central Avenue W\, St. Michael\, MN\, 55376\, United States
END:VEVENT
BEGIN:VEVENT
DTSTART;VALUE=DATE:20240902
DTEND;VALUE=DATE:20240903
DTSTAMP:20260425T101232
CREATED:20240830T193219Z
LAST-MODIFIED:20240830T193219Z
UID:8560-1725235200-1725321599@stmamom.com
SUMMARY:Labor Day
DESCRIPTION:
URL:https://stmamom.com/event/labor-day-3/
LOCATION:MN
END:VEVENT
BEGIN:VEVENT
DTSTART;TZID=America/Chicago:20240829T200000
DTEND;TZID=America/Chicago:20240829T220000
DTSTAMP:20260425T101232
CREATED:20240627T000358Z
LAST-MODIFIED:20240627T000358Z
UID:8516-1724961600-1724968800@stmamom.com
SUMMARY:Rogers Movie in the Park
DESCRIPTION:Bring a chair or blanket to Lions Central Park in Rogers to enjoy a free family movie every Thursday night in August! Movies begin at dusk. \nAugust 8 – The Little Mermaid (2023)\nAugust 15 – The Parent Trap (1998)\nAugust 22 – Zootopia\nAugust 29 – Spy Kids \nThis event is part of Rogers Entertainment in the Park. Full schedule below:
URL:https://stmamom.com/event/rogers-movie-in-the-park-2024-08-29/
LOCATION:Rogers Lions Central Park\, 21354 Rouillard Ave\, Rogers\, MN\, 55374\, United States
ORGANIZER;CN="City of Rogers":MAILTO:info@rogersmn.gov
END:VEVENT
BEGIN:VEVENT
DTSTART;TZID=America/Chicago:20240829T150000
DTEND;TZID=America/Chicago:20240829T183000
DTSTAMP:20260425T101232
CREATED:20240526T210415Z
LAST-MODIFIED:20240526T210415Z
UID:8384-1724943600-1724956200@stmamom.com
SUMMARY:Power of Produce
DESCRIPTION:FYCC’s free “Power of Produce” program is open to kids ages 2–17. Each week that they visit the Albertville Farmer’s Market\, kids will receive a free fruit or vegetable of their choice that was provided by farmers from the market. The P.O.P. program runs every Thursday\, from July 11 through August 29. \nParent or guardian permission/signature required at signup.\nRegister in advance at https://secure.rec1.com/MN/family-youth-community-connections/catalog
URL:https://stmamom.com/event/power-of-produce-2024-2024-08-29/
LOCATION:Albertville Central Park\, 5801 Main Ave NE\, Albertville\, MN\, 55301\, United States
ATTACH;FMTTYPE=image/jpeg:https://stmamom.com/wp-content/uploads/2023/06/pop-e1686777338415.jpg
ORGANIZER;CN="FYCC":MAILTO:FYCCinformation@gmail.com
END:VEVENT
BEGIN:VEVENT
DTSTART;TZID=America/Chicago:20240829T130000
DTEND;TZID=America/Chicago:20240829T140000
DTSTAMP:20260425T101232
CREATED:20240526T230925Z
LAST-MODIFIED:20240626T201308Z
UID:8449-1724936400-1724940000@stmamom.com
SUMMARY:Open Swim
DESCRIPTION:Bring your family to enjoy lifeguard-supervised recreational swimming at STMA Middle School East. You can choose either to pay per visit or purchase a season pass. No registration required; pay on site at the pool. \nChildren 7 and under MUST be accompanied by an adult in the water. \nDaily Admission: \n\nChildren 4 and under – Free\nStudents and Adults – $3\nFamily (immediate family only) – $6\nActivity Center members – Free\n\nSummer Pool Pass: \n\nIndividual Pass – $50\nFamily Pass – $75
URL:https://stmamom.com/event/open-swim-2024-08-29/
LOCATION:STMA Middle School East\, 4862 Naber Avenue NE\, St. Michael\, MN\, 55376\, United States
ATTACH;FMTTYPE=image/png:https://stmamom.com/wp-content/uploads/2023/07/swim-e1689015869465.png
ORGANIZER;CN="STMA Community Education":MAILTO:janetm@mystma.org
END:VEVENT
BEGIN:VEVENT
DTSTART;TZID=America/Chicago:20240828T183000
DTEND;TZID=America/Chicago:20240828T193000
DTSTAMP:20260425T101232
CREATED:20240627T000003Z
LAST-MODIFIED:20240627T000003Z
UID:8511-1724869800-1724873400@stmamom.com
SUMMARY:Talewise Adventure Interactive Storytime
DESCRIPTION:Bring the family down to Rogers Lions Central Park to enjoy great outdoor entertainment. This week they will be featuring an interactive kids’ storytime by Talewise Adventure. Bring a lawn chair or blanket to enjoy the show! \nThis event is part of Rogers Entertainment in the Park. Full schedule below:
URL:https://stmamom.com/event/talewise-adventure-interactive-storytime/
LOCATION:Rogers Lions Central Park\, 21354 Rouillard Ave\, Rogers\, MN\, 55374\, United States
ORGANIZER;CN="City of Rogers":MAILTO:info@rogersmn.gov
END:VEVENT
BEGIN:VEVENT
DTSTART;TZID=America/Chicago:20240828T180000
DTEND;TZID=America/Chicago:20240828T193000
DTSTAMP:20260425T101232
CREATED:20240626T193055Z
LAST-MODIFIED:20240626T193055Z
UID:8476-1724868000-1724873400@stmamom.com
SUMMARY:FYCC Family Bingo in the Park
DESCRIPTION:Join FYCC for a night of free Family Bingo at Town Center Park! Prizes will include Ty Beanie Babies.
URL:https://stmamom.com/event/fycc-family-bingo-in-the-park/
LOCATION:Town Center Park\, 11800 Town Center Drive NE\, St. Michael\, MN\, 55376\, United States
ORGANIZER;CN="FYCC":MAILTO:FYCCinformation@gmail.com
END:VEVENT
BEGIN:VEVENT
DTSTART;TZID=America/Chicago:20240822T200000
DTEND;TZID=America/Chicago:20240822T220000
DTSTAMP:20260425T101232
CREATED:20240627T000358Z
LAST-MODIFIED:20240627T000358Z
UID:8515-1724356800-1724364000@stmamom.com
SUMMARY:Rogers Movie in the Park
DESCRIPTION:Bring a chair or blanket to Lions Central Park in Rogers to enjoy a free family movie every Thursday night in August! Movies begin at dusk. \nAugust 8 – The Little Mermaid (2023)\nAugust 15 – The Parent Trap (1998)\nAugust 22 – Zootopia\nAugust 29 – Spy Kids \nThis event is part of Rogers Entertainment in the Park. Full schedule below:
URL:https://stmamom.com/event/rogers-movie-in-the-park-2024-08-22/
LOCATION:Rogers Lions Central Park\, 21354 Rouillard Ave\, Rogers\, MN\, 55374\, United States
ORGANIZER;CN="City of Rogers":MAILTO:info@rogersmn.gov
END:VEVENT
BEGIN:VEVENT
DTSTART;TZID=America/Chicago:20240822T150000
DTEND;TZID=America/Chicago:20240822T183000
DTSTAMP:20260425T101232
CREATED:20240526T210415Z
LAST-MODIFIED:20240526T210415Z
UID:8383-1724338800-1724351400@stmamom.com
SUMMARY:Power of Produce
DESCRIPTION:FYCC’s free “Power of Produce” program is open to kids ages 2–17. Each week that they visit the Albertville Farmer’s Market\, kids will receive a free fruit or vegetable of their choice that was provided by farmers from the market. The P.O.P. program runs every Thursday\, from July 11 through August 29. \nParent or guardian permission/signature required at signup.\nRegister in advance at https://secure.rec1.com/MN/family-youth-community-connections/catalog
URL:https://stmamom.com/event/power-of-produce-2024-2024-08-22/
LOCATION:Albertville Central Park\, 5801 Main Ave NE\, Albertville\, MN\, 55301\, United States
ATTACH;FMTTYPE=image/jpeg:https://stmamom.com/wp-content/uploads/2023/06/pop-e1686777338415.jpg
ORGANIZER;CN="FYCC":MAILTO:FYCCinformation@gmail.com
END:VEVENT
BEGIN:VEVENT
DTSTART;TZID=America/Chicago:20240822T130000
DTEND;TZID=America/Chicago:20240822T140000
DTSTAMP:20260425T101232
CREATED:20240526T230925Z
LAST-MODIFIED:20240626T201304Z
UID:8448-1724331600-1724335200@stmamom.com
SUMMARY:Open Swim
DESCRIPTION:Bring your family to enjoy lifeguard-supervised recreational swimming at STMA Middle School East. You can choose either to pay per visit or purchase a season pass. No registration required; pay on site at the pool. \nChildren 7 and under MUST be accompanied by an adult in the water. \nDaily Admission: \n\nChildren 4 and under – Free\nStudents and Adults – $3\nFamily (immediate family only) – $6\nActivity Center members – Free\n\nSummer Pool Pass: \n\nIndividual Pass – $50\nFamily Pass – $75
URL:https://stmamom.com/event/open-swim-2024-08-22/
LOCATION:STMA Middle School East\, 4862 Naber Avenue NE\, St. Michael\, MN\, 55376\, United States
ATTACH;FMTTYPE=image/png:https://stmamom.com/wp-content/uploads/2023/07/swim-e1689015869465.png
ORGANIZER;CN="STMA Community Education":MAILTO:janetm@mystma.org
END:VEVENT
BEGIN:VEVENT
DTSTART;TZID=America/Chicago:20240820T100000
DTEND;TZID=America/Chicago:20240820T110000
DTSTAMP:20260425T101232
CREATED:20240526T214302Z
LAST-MODIFIED:20240526T214302Z
UID:8406-1724148000-1724151600@stmamom.com
SUMMARY:Splash & Play Tuesday (Otsego)
DESCRIPTION:Cool off at the Otsego Splash Pad and enjoy free family entertainment at Otsego’s Splash & Play Tuesdays. \nEntertainment will take place in the park shelter (or move inside the Prairie Center if there is inclement weather).
URL:https://stmamom.com/event/splash-play-tuesdays-2024-2024-08-20/
LOCATION:Prairie Park\, Otsego\, 13355 90th Street NE\, Otsego\, MN\, 55330\, United States
ATTACH;FMTTYPE=image/png:https://stmamom.com/wp-content/uploads/2021/04/otsego-parks-rec-e1619580266549.png
ORGANIZER;CN="Otsego Parks & Recreation":MAILTO:recreation@ci.otsego.mn.us
END:VEVENT
BEGIN:VEVENT
DTSTART;TZID=America/Chicago:20240819T180000
DTEND;TZID=America/Chicago:20240819T190000
DTSTAMP:20260425T101232
CREATED:20240526T214955Z
LAST-MODIFIED:20240526T214955Z
UID:8416-1724090400-1724094000@stmamom.com
SUMMARY:Otsego Evening in the Park
DESCRIPTION:Mark your calendar and plan a family fun night at Otsego’s Prairie Park. Bring a picnic\, play at the playground\, cool off at the splash pad\, and then enjoy some free family entertainment. All performances take place at the Prairie Park Shelter
URL:https://stmamom.com/event/otsego-evening-in-the-park-2024-08-19/
LOCATION:Prairie Park\, Otsego\, 13355 90th Street NE\, Otsego\, MN\, 55330\, United States
ATTACH;FMTTYPE=image/png:https://stmamom.com/wp-content/uploads/2021/04/otsego-parks-rec-e1619580266549.png
ORGANIZER;CN="Otsego Parks & Recreation":MAILTO:recreation@ci.otsego.mn.us
END:VEVENT
END:VCALENDAR