BEGIN:VCALENDAR
VERSION:2.0
PRODID:-//STMAmom.com - ECPv6.15.16.1//NONSGML v1.0//EN
CALSCALE:GREGORIAN
METHOD:PUBLISH
X-WR-CALNAME:STMAmom.com
X-ORIGINAL-URL:https://stmamom.com
X-WR-CALDESC:Events for STMAmom.com
REFRESH-INTERVAL;VALUE=DURATION:PT1H
X-Robots-Tag:noindex
X-PUBLISHED-TTL:PT1H
BEGIN:VTIMEZONE
TZID:America/Chicago
BEGIN:DAYLIGHT
TZOFFSETFROM:-0600
TZOFFSETTO:-0500
TZNAME:CDT
DTSTART:20230312T080000
END:DAYLIGHT
BEGIN:STANDARD
TZOFFSETFROM:-0500
TZOFFSETTO:-0600
TZNAME:CST
DTSTART:20231105T070000
END:STANDARD
BEGIN:DAYLIGHT
TZOFFSETFROM:-0600
TZOFFSETTO:-0500
TZNAME:CDT
DTSTART:20240310T080000
END:DAYLIGHT
BEGIN:STANDARD
TZOFFSETFROM:-0500
TZOFFSETTO:-0600
TZNAME:CST
DTSTART:20241103T070000
END:STANDARD
BEGIN:DAYLIGHT
TZOFFSETFROM:-0600
TZOFFSETTO:-0500
TZNAME:CDT
DTSTART:20250309T080000
END:DAYLIGHT
BEGIN:STANDARD
TZOFFSETFROM:-0500
TZOFFSETTO:-0600
TZNAME:CST
DTSTART:20251102T070000
END:STANDARD
END:VTIMEZONE
BEGIN:VEVENT
DTSTART;TZID=America/Chicago:20241205T183000
DTEND;TZID=America/Chicago:20241205T193000
DTSTAMP:20260425T083027
CREATED:20241120T222741Z
LAST-MODIFIED:20241120T222741Z
UID:8809-1733423400-1733427000@stmamom.com
SUMMARY:FYCC Santa Bingo
DESCRIPTION:Join FYCC for a fun night of Bingo! Have fun with your family and win some great prizes. \nCost $20/family (includes grandparents) Register online at myfycc.com
URL:https://stmamom.com/event/fycc-santa-bingo-3/
LOCATION:Albertville City Hall\, 5959 Main Ave NE\, Albertville\, MN\, 55301\, United States
ATTACH;FMTTYPE=image/png:https://stmamom.com/wp-content/uploads/2021/04/fycc-e1697061396286.png
ORGANIZER;CN="FYCC":MAILTO:FYCCinformation@gmail.com
END:VEVENT
BEGIN:VEVENT
DTSTART;TZID=America/Chicago:20241205T100000
DTEND;TZID=America/Chicago:20241205T113000
DTSTAMP:20260425T083027
CREATED:20240830T204814Z
LAST-MODIFIED:20250424T131406Z
UID:8940-1733392800-1733398200@stmamom.com
SUMMARY:Otsego Open Playtime
DESCRIPTION:Kids ages 5 & under are invited to play and meet new friends at Otsego’s Open Playtime. This drop-in program offers an open play session full of toys\, crafts\, active equipment\, and activities. Come for the whole time or stay while you can. (Parent/guardian supervision is required.) \nCost: $3/child at the door\, or pick up an 11-visit punchcard for $20 at https://otsego.recdesk.com\nPlease check Facebook for closures due to holidays or inclement weather:
URL:https://stmamom.com/event/otsego-open-playtime-2024-12-05/
LOCATION:Prairie Center\, 8899 Nashua Ave NE\, Otsego\, MN\, 55330\, United States
ATTACH;FMTTYPE=image/png:https://stmamom.com/wp-content/uploads/2021/04/otsego-parks-rec-e1619580266549.png
ORGANIZER;CN="Otsego Parks & Recreation":MAILTO:recreation@ci.otsego.mn.us
END:VEVENT
BEGIN:VEVENT
DTSTART;TZID=America/Chicago:20241205T100000
DTEND;TZID=America/Chicago:20241205T103000
DTSTAMP:20260425T083027
CREATED:20240830T193848Z
LAST-MODIFIED:20250424T132129Z
UID:8781-1733392800-1733394600@stmamom.com
SUMMARY:ECFE Storytime at the Library
DESCRIPTION:Come hang out at the library with your friends from ECFE! A staff member from STMA’s Early Childhood program will lead storytime along with crafts\, games\, songs. This event is intended for ages 0 to 6 along with their parent or caregiver.
URL:https://stmamom.com/event/ecfe-storytime-at-the-library-2024-2024-12-05/
LOCATION:St. Michael Public Library\, 11800 Town Center Dr NE\, St. Michael\, MN\, 55376\, United States
ATTACH;FMTTYPE=image/jpeg:https://stmamom.com/wp-content/uploads/2021/04/ecfe-e1619575280453.jpg
END:VEVENT
BEGIN:VEVENT
DTSTART;TZID=America/Chicago:20241205T081500
DTEND;TZID=America/Chicago:20241205T101500
DTSTAMP:20260425T083027
CREATED:20241121T014041Z
LAST-MODIFIED:20250221T195851Z
UID:8814-1733386500-1733393700@stmamom.com
SUMMARY:ECFE Dome Day
DESCRIPTION:Kids ages 6 and under are invited to run and play with friends at the STMA Dome from December 5 through March 28 on alternating Thursdays & Friday mornings. The cost is just $2 per child (max $5 per family)\, payable by cash at the door. No registration required. \n 
URL:https://stmamom.com/event/ecfe-dome-days-2025/
LOCATION:STMA High School\, 5800 Jamison Ave NE\, St. Michael\, MN\, 55376\, United States
ATTACH;FMTTYPE=image/jpeg:https://stmamom.com/wp-content/uploads/2018/11/stmadome.jpg
END:VEVENT
BEGIN:VEVENT
DTSTART;TZID=America/Chicago:20241202T103000
DTEND;TZID=America/Chicago:20241202T110000
DTSTAMP:20260425T083027
CREATED:20240830T191216Z
LAST-MODIFIED:20250424T132004Z
UID:8778-1733135400-1733137200@stmamom.com
SUMMARY:Library Storytime
DESCRIPTION:Start your week out right… at the library! Share books\, songs\, and rhymes with your children at this storytime designed to promote school readiness in 0- to 5-year-olds. Librarians\, caregivers\, and children will sing\, talk\, read\, write\, and play together to build early literacy skills. Siblings are also welcome.
URL:https://stmamom.com/event/library-storytime-2024-2024-12-02/
LOCATION:St. Michael Public Library\, 11800 Town Center Dr NE\, St. Michael\, MN\, 55376\, United States
ATTACH;FMTTYPE=image/jpeg:https://stmamom.com/wp-content/uploads/2024/08/storytime-e1725045078975.jpg
END:VEVENT
BEGIN:VEVENT
DTSTART;TZID=America/Chicago:20241202T100000
DTEND;TZID=America/Chicago:20241202T113000
DTSTAMP:20260425T083027
CREATED:20240830T204814Z
LAST-MODIFIED:20250424T131406Z
UID:8939-1733133600-1733139000@stmamom.com
SUMMARY:Otsego Open Playtime
DESCRIPTION:Kids ages 5 & under are invited to play and meet new friends at Otsego’s Open Playtime. This drop-in program offers an open play session full of toys\, crafts\, active equipment\, and activities. Come for the whole time or stay while you can. (Parent/guardian supervision is required.) \nCost: $3/child at the door\, or pick up an 11-visit punchcard for $20 at https://otsego.recdesk.com\nPlease check Facebook for closures due to holidays or inclement weather:
URL:https://stmamom.com/event/otsego-open-playtime-2024-12-02/
LOCATION:Prairie Center\, 8899 Nashua Ave NE\, Otsego\, MN\, 55330\, United States
ATTACH;FMTTYPE=image/png:https://stmamom.com/wp-content/uploads/2021/04/otsego-parks-rec-e1619580266549.png
ORGANIZER;CN="Otsego Parks & Recreation":MAILTO:recreation@ci.otsego.mn.us
END:VEVENT
BEGIN:VEVENT
DTSTART;TZID=America/Chicago:20241201T140000
DTEND;TZID=America/Chicago:20241201T180000
DTSTAMP:20260425T083027
CREATED:20241120T221823Z
LAST-MODIFIED:20241120T221823Z
UID:8797-1733061600-1733076000@stmamom.com
SUMMARY:Albertville Christmas in the Park
DESCRIPTION:Join Albertville Lions Club for its 10th annual Christmas in the Park event! \n\nShare your wish list with Santa and Mrs. Claus inside the Depot\nEnjoy hot chocolate or hot cider served by Albertville Royalty\nWarm up over an open fire and enjoy a s’more with local Boy Scouts and Cub Scouts\nTake a horse-drawn wagon ride around the park\nHear the STMA High School and SOAR Regional Arts choirs singing carols\nTree lighting ceremony at 5:00
URL:https://stmamom.com/event/albertville-christmas-in-the-park-3/
LOCATION:Albertville Central Park\, 5801 Main Ave NE\, Albertville\, MN\, 55301\, United States
END:VEVENT
BEGIN:VEVENT
DTSTART;TZID=America/Chicago:20241130T090000
DTEND;TZID=America/Chicago:20241130T120000
DTSTAMP:20260425T083027
CREATED:20230627T221107Z
LAST-MODIFIED:20260325T211843Z
UID:8819-1732957200-1732968000@stmamom.com
SUMMARY:Home Depot Kids Workshop
DESCRIPTION:Bring your kids to Home Depot to complete a free\, hands-on building project created with them in mind! Workshops take place the 1st Saturday of each month and vary by theme. \nFind out more information and register for the workshop at https://www.homedepot.com/c/kids
URL:https://stmamom.com/event/home-depot-kids-workshop-2024-11-30/
LOCATION:Home Depot\, 1385 E 7th Street\, Monticello\, MN\, 55362\, United States
ATTACH;FMTTYPE=image/png:https://stmamom.com/wp-content/uploads/2023/06/home-depot-e1691001383784.png
END:VEVENT
BEGIN:VEVENT
DTSTART;VALUE=DATE:20241128
DTEND;VALUE=DATE:20241129
DTSTAMP:20260425T083027
CREATED:20241030T212433Z
LAST-MODIFIED:20241030T212433Z
UID:8733-1732752000-1732838399@stmamom.com
SUMMARY:THANKSGIVING DAY
DESCRIPTION:
URL:https://stmamom.com/event/thanksgiving-day-3/
LOCATION:MN
END:VEVENT
BEGIN:VEVENT
DTSTART;TZID=America/Chicago:20241127T180000
DTEND;TZID=America/Chicago:20241127T191000
DTSTAMP:20260425T083027
CREATED:20240905T134318Z
LAST-MODIFIED:20250425T155252Z
UID:8751-1732730400-1732734600@stmamom.com
SUMMARY:Rogers Glow N Skate
DESCRIPTION:The coolest event in town! Glow N Skate is a special nighttime open skating event with the lights down and the music up. \nCost: $6/skater (includes glow necklace)\nRental skates: $2/pair
URL:https://stmamom.com/event/rogers-glow-n-skate-2024-11-27/
LOCATION:Rogers Trustone Ice Arena\, 21080 141st Ave N\, Rogers\, MN\, 55374\, United States
ATTACH;FMTTYPE=image/jpeg:https://stmamom.com/wp-content/uploads/2021/04/73131867_3379341468750133_1414841314830188544_n-e1619577412521.jpg
ORGANIZER;CN="City of Rogers":MAILTO:info@rogersmn.gov
END:VEVENT
BEGIN:VEVENT
DTSTART;TZID=America/Chicago:20241126T180000
DTEND;TZID=America/Chicago:20241126T190000
DTSTAMP:20260425T083027
CREATED:20231030T163226Z
LAST-MODIFIED:20241030T214831Z
UID:8755-1732644000-1732647600@stmamom.com
SUMMARY:Otsego Tree Lighting
DESCRIPTION:Kick off this magical season with some holiday cheer at Otsego’s annual tree lighting event. The mayor will light the tree at 6:00\, and carolers from SOAR Regional Arts will set the mood for a wonderful evening. Warm up with hot chocolate and treats\, and meet some of your favorite winter characters for a cute selfie. Don’t miss the fun! \nThanks to Rogers-Otsego-Dayton Women of Today and SOAR Regional Arts for supporting this event!
URL:https://stmamom.com/event/otsego-tree-lighting-2024/
LOCATION:Prairie Center\, 8899 Nashua Ave NE\, Otsego\, MN\, 55330\, United States
ATTACH;FMTTYPE=image/png:https://stmamom.com/wp-content/uploads/2021/04/otsego-parks-rec-e1619580266549.png
ORGANIZER;CN="Otsego Parks & Recreation":MAILTO:recreation@ci.otsego.mn.us
END:VEVENT
BEGIN:VEVENT
DTSTART;TZID=America/Chicago:20241125T160000
DTEND;TZID=America/Chicago:20241125T170000
DTSTAMP:20260425T083027
CREATED:20240830T191859Z
LAST-MODIFIED:20250129T180644Z
UID:8738-1732550400-1732554000@stmamom.com
SUMMARY:STEAM Fun at the Library
DESCRIPTION:STEAM* at the Library is back! Join library staff for an hour of learning\, exploring\, and inventing. All you need is your imagination! \nFor ages 7 to 11. Limit 10 children\, but parents/guardians are encouraged to stay to work with their child.\nRegistration required: https://events.griver.org/calendar/stmichaellibraryevents \n  \n*Science\, Technology\, Engineering\, Art\, and Mathematics
URL:https://stmamom.com/event/steam-fun-at-the-library-2024-11-25/
LOCATION:St. Michael Public Library\, 11800 Town Center Dr NE\, St. Michael\, MN\, 55376\, United States
ATTACH;FMTTYPE=image/jpeg:https://stmamom.com/wp-content/uploads/2024/08/steam-library-scaled-e1725046126165.jpg
END:VEVENT
BEGIN:VEVENT
DTSTART;TZID=America/Chicago:20241125T103000
DTEND;TZID=America/Chicago:20241125T113000
DTSTAMP:20260425T083027
CREATED:20240830T192752Z
LAST-MODIFIED:20250326T122517Z
UID:8735-1732530600-1732534200@stmamom.com
SUMMARY:Preschool "Play & Learn" at the Library
DESCRIPTION:Encourage a love of learning as you and your child play\, explore\, discover\, count\, and create. Stations are set up for participants to come and go as time and attention span permits. Activities are designed for ages 1 to 5. No registration\, but room limits may be enforced.
URL:https://stmamom.com/event/preschool-play-learn-at-the-library-2024-11-25/
LOCATION:St. Michael Public Library\, 11800 Town Center Dr NE\, St. Michael\, MN\, 55376\, United States
ATTACH;FMTTYPE=image/png:https://stmamom.com/wp-content/uploads/2024/08/library-play-learn-e1725046036166.png
END:VEVENT
BEGIN:VEVENT
DTSTART;TZID=America/Chicago:20241125T100000
DTEND;TZID=America/Chicago:20241125T113000
DTSTAMP:20260425T083027
CREATED:20240830T204814Z
LAST-MODIFIED:20250424T131406Z
UID:8723-1732528800-1732534200@stmamom.com
SUMMARY:Otsego Open Playtime
DESCRIPTION:Kids ages 5 & under are invited to play and meet new friends at Otsego’s Open Playtime. This drop-in program offers an open play session full of toys\, crafts\, active equipment\, and activities. Come for the whole time or stay while you can. (Parent/guardian supervision is required.) \nCost: $3/child at the door\, or pick up an 11-visit punchcard for $20 at https://otsego.recdesk.com\nPlease check Facebook for closures due to holidays or inclement weather:
URL:https://stmamom.com/event/otsego-open-playtime-2024-11-25/
LOCATION:Prairie Center\, 8899 Nashua Ave NE\, Otsego\, MN\, 55330\, United States
ATTACH;FMTTYPE=image/png:https://stmamom.com/wp-content/uploads/2021/04/otsego-parks-rec-e1619580266549.png
ORGANIZER;CN="Otsego Parks & Recreation":MAILTO:recreation@ci.otsego.mn.us
END:VEVENT
BEGIN:VEVENT
DTSTART;TZID=America/Chicago:20241121T170000
DTEND;TZID=America/Chicago:20241121T180000
DTSTAMP:20260425T083027
CREATED:20240830T194317Z
LAST-MODIFIED:20260325T212538Z
UID:8745-1732208400-1732212000@stmamom.com
SUMMARY:LEGO Fun at the Library
DESCRIPTION:School-age kids are invited to show off their LEGO building skills! The library will provide the bricks\, you provide the imagination. Come meet with other builders and have some fun.
URL:https://stmamom.com/event/lego-fun-at-the-library-2024-11-21/
LOCATION:St. Michael Public Library\, 11800 Town Center Dr NE\, St. Michael\, MN\, 55376\, United States
ATTACH;FMTTYPE=image/jpeg:https://stmamom.com/wp-content/uploads/2024/08/lego-scaled.jpg
END:VEVENT
BEGIN:VEVENT
DTSTART;TZID=America/Chicago:20241121T100000
DTEND;TZID=America/Chicago:20241121T113000
DTSTAMP:20260425T083027
CREATED:20240830T204814Z
LAST-MODIFIED:20250424T131406Z
UID:8722-1732183200-1732188600@stmamom.com
SUMMARY:Otsego Open Playtime
DESCRIPTION:Kids ages 5 & under are invited to play and meet new friends at Otsego’s Open Playtime. This drop-in program offers an open play session full of toys\, crafts\, active equipment\, and activities. Come for the whole time or stay while you can. (Parent/guardian supervision is required.) \nCost: $3/child at the door\, or pick up an 11-visit punchcard for $20 at https://otsego.recdesk.com\nPlease check Facebook for closures due to holidays or inclement weather:
URL:https://stmamom.com/event/otsego-open-playtime-2024-11-21/
LOCATION:Prairie Center\, 8899 Nashua Ave NE\, Otsego\, MN\, 55330\, United States
ATTACH;FMTTYPE=image/png:https://stmamom.com/wp-content/uploads/2021/04/otsego-parks-rec-e1619580266549.png
ORGANIZER;CN="Otsego Parks & Recreation":MAILTO:recreation@ci.otsego.mn.us
END:VEVENT
BEGIN:VEVENT
DTSTART;TZID=America/Chicago:20241121T100000
DTEND;TZID=America/Chicago:20241121T103000
DTSTAMP:20260425T083027
CREATED:20240830T193848Z
LAST-MODIFIED:20250424T132129Z
UID:8710-1732183200-1732185000@stmamom.com
SUMMARY:ECFE Storytime at the Library
DESCRIPTION:Come hang out at the library with your friends from ECFE! A staff member from STMA’s Early Childhood program will lead storytime along with crafts\, games\, songs. This event is intended for ages 0 to 6 along with their parent or caregiver.
URL:https://stmamom.com/event/ecfe-storytime-at-the-library-2024-2024-11-21/
LOCATION:St. Michael Public Library\, 11800 Town Center Dr NE\, St. Michael\, MN\, 55376\, United States
ATTACH;FMTTYPE=image/jpeg:https://stmamom.com/wp-content/uploads/2021/04/ecfe-e1619575280453.jpg
END:VEVENT
BEGIN:VEVENT
DTSTART;TZID=America/Chicago:20241118T103000
DTEND;TZID=America/Chicago:20241118T110000
DTSTAMP:20260425T083027
CREATED:20240830T191216Z
LAST-MODIFIED:20250424T132004Z
UID:8777-1731925800-1731927600@stmamom.com
SUMMARY:Library Storytime
DESCRIPTION:Start your week out right… at the library! Share books\, songs\, and rhymes with your children at this storytime designed to promote school readiness in 0- to 5-year-olds. Librarians\, caregivers\, and children will sing\, talk\, read\, write\, and play together to build early literacy skills. Siblings are also welcome.
URL:https://stmamom.com/event/library-storytime-2024-2024-11-18/
LOCATION:St. Michael Public Library\, 11800 Town Center Dr NE\, St. Michael\, MN\, 55376\, United States
ATTACH;FMTTYPE=image/jpeg:https://stmamom.com/wp-content/uploads/2024/08/storytime-e1725045078975.jpg
END:VEVENT
BEGIN:VEVENT
DTSTART;TZID=America/Chicago:20241118T100000
DTEND;TZID=America/Chicago:20241118T113000
DTSTAMP:20260425T083027
CREATED:20240830T204814Z
LAST-MODIFIED:20250424T131406Z
UID:8721-1731924000-1731929400@stmamom.com
SUMMARY:Otsego Open Playtime
DESCRIPTION:Kids ages 5 & under are invited to play and meet new friends at Otsego’s Open Playtime. This drop-in program offers an open play session full of toys\, crafts\, active equipment\, and activities. Come for the whole time or stay while you can. (Parent/guardian supervision is required.) \nCost: $3/child at the door\, or pick up an 11-visit punchcard for $20 at https://otsego.recdesk.com\nPlease check Facebook for closures due to holidays or inclement weather:
URL:https://stmamom.com/event/otsego-open-playtime-2024-11-18/
LOCATION:Prairie Center\, 8899 Nashua Ave NE\, Otsego\, MN\, 55330\, United States
ATTACH;FMTTYPE=image/png:https://stmamom.com/wp-content/uploads/2021/04/otsego-parks-rec-e1619580266549.png
ORGANIZER;CN="Otsego Parks & Recreation":MAILTO:recreation@ci.otsego.mn.us
END:VEVENT
BEGIN:VEVENT
DTSTART;TZID=America/Chicago:20241116T103000
DTEND;TZID=America/Chicago:20241116T110000
DTSTAMP:20260425T083027
CREATED:20220902T201234Z
LAST-MODIFIED:20250213T224735Z
UID:8742-1731753000-1731754800@stmamom.com
SUMMARY:Family Storytime with Miss Hollee
DESCRIPTION:Join Miss Hollee for this fun family storytime that includes songs\, rhymes\, and stories that celebrate reading. This event is for children of all ages and their families.
URL:https://stmamom.com/event/family-storytime-with-miss-hollee-2024-11-16/
LOCATION:St. Michael Public Library\, 11800 Town Center Dr NE\, St. Michael\, MN\, 55376\, United States
ATTACH;FMTTYPE=image/jpeg:https://stmamom.com/wp-content/uploads/2024/08/storytime-e1725045078975.jpg
END:VEVENT
BEGIN:VEVENT
DTSTART;TZID=America/Chicago:20241114T183000
DTEND;TZID=America/Chicago:20241114T193000
DTSTAMP:20260425T083027
CREATED:20240830T202625Z
LAST-MODIFIED:20241030T213825Z
UID:8747-1731609000-1731612600@stmamom.com
SUMMARY:FYCC Turkey Bingo
DESCRIPTION:Join FYCC for a fun night of Bingo! Have fun with your family and win some great prizes. \nCost $20/family (includes grandparents) Register online at myfycc.com
URL:https://stmamom.com/event/fycc-family-bingo-2024-11-14/
LOCATION:Albertville City Hall\, 5959 Main Ave NE\, Albertville\, MN\, 55301\, United States
ATTACH;FMTTYPE=image/png:https://stmamom.com/wp-content/uploads/2021/04/fycc-e1697061396286.png
ORGANIZER;CN="FYCC":MAILTO:FYCCinformation@gmail.com
END:VEVENT
BEGIN:VEVENT
DTSTART;TZID=America/Chicago:20241114T100000
DTEND;TZID=America/Chicago:20241114T113000
DTSTAMP:20260425T083027
CREATED:20240830T204814Z
LAST-MODIFIED:20250424T131357Z
UID:8720-1731578400-1731583800@stmamom.com
SUMMARY:Otsego Open Playtime
DESCRIPTION:Kids ages 5 & under are invited to play and meet new friends at Otsego’s Open Playtime. This drop-in program offers an open play session full of toys\, crafts\, active equipment\, and activities. Come for the whole time or stay while you can. (Parent/guardian supervision is required.) \nCost: $3/child at the door\, or pick up an 11-visit punchcard for $20 at https://otsego.recdesk.com\nPlease check Facebook for closures due to holidays or inclement weather:
URL:https://stmamom.com/event/otsego-open-playtime-2024-11-14/
LOCATION:Prairie Center\, 8899 Nashua Ave NE\, Otsego\, MN\, 55330\, United States
ATTACH;FMTTYPE=image/png:https://stmamom.com/wp-content/uploads/2021/04/otsego-parks-rec-e1619580266549.png
ORGANIZER;CN="Otsego Parks & Recreation":MAILTO:recreation@ci.otsego.mn.us
END:VEVENT
BEGIN:VEVENT
DTSTART;TZID=America/Chicago:20241114T100000
DTEND;TZID=America/Chicago:20241114T103000
DTSTAMP:20260425T083027
CREATED:20240830T193848Z
LAST-MODIFIED:20250424T132128Z
UID:8709-1731578400-1731580200@stmamom.com
SUMMARY:ECFE Storytime at the Library
DESCRIPTION:Come hang out at the library with your friends from ECFE! A staff member from STMA’s Early Childhood program will lead storytime along with crafts\, games\, songs. This event is intended for ages 0 to 6 along with their parent or caregiver.
URL:https://stmamom.com/event/ecfe-storytime-at-the-library-2024-2024-11-14/
LOCATION:St. Michael Public Library\, 11800 Town Center Dr NE\, St. Michael\, MN\, 55376\, United States
ATTACH;FMTTYPE=image/jpeg:https://stmamom.com/wp-content/uploads/2021/04/ecfe-e1619575280453.jpg
END:VEVENT
BEGIN:VEVENT
DTSTART;TZID=America/Chicago:20241111T103000
DTEND;TZID=America/Chicago:20241111T110000
DTSTAMP:20260425T083027
CREATED:20240830T191216Z
LAST-MODIFIED:20250424T131959Z
UID:8776-1731321000-1731322800@stmamom.com
SUMMARY:Library Storytime
DESCRIPTION:Start your week out right… at the library! Share books\, songs\, and rhymes with your children at this storytime designed to promote school readiness in 0- to 5-year-olds. Librarians\, caregivers\, and children will sing\, talk\, read\, write\, and play together to build early literacy skills. Siblings are also welcome.
URL:https://stmamom.com/event/library-storytime-2024-2024-11-11/
LOCATION:St. Michael Public Library\, 11800 Town Center Dr NE\, St. Michael\, MN\, 55376\, United States
ATTACH;FMTTYPE=image/jpeg:https://stmamom.com/wp-content/uploads/2024/08/storytime-e1725045078975.jpg
END:VEVENT
BEGIN:VEVENT
DTSTART;TZID=America/Chicago:20241111T100000
DTEND;TZID=America/Chicago:20241111T113000
DTSTAMP:20260425T083027
CREATED:20240830T204814Z
LAST-MODIFIED:20250424T131357Z
UID:8719-1731319200-1731324600@stmamom.com
SUMMARY:Otsego Open Playtime
DESCRIPTION:Kids ages 5 & under are invited to play and meet new friends at Otsego’s Open Playtime. This drop-in program offers an open play session full of toys\, crafts\, active equipment\, and activities. Come for the whole time or stay while you can. (Parent/guardian supervision is required.) \nCost: $3/child at the door\, or pick up an 11-visit punchcard for $20 at https://otsego.recdesk.com\nPlease check Facebook for closures due to holidays or inclement weather:
URL:https://stmamom.com/event/otsego-open-playtime-2024-11-11/
LOCATION:Prairie Center\, 8899 Nashua Ave NE\, Otsego\, MN\, 55330\, United States
ATTACH;FMTTYPE=image/png:https://stmamom.com/wp-content/uploads/2021/04/otsego-parks-rec-e1619580266549.png
ORGANIZER;CN="Otsego Parks & Recreation":MAILTO:recreation@ci.otsego.mn.us
END:VEVENT
BEGIN:VEVENT
DTSTART;TZID=America/Chicago:20241107T100000
DTEND;TZID=America/Chicago:20241107T113000
DTSTAMP:20260425T083027
CREATED:20240830T204814Z
LAST-MODIFIED:20250424T131356Z
UID:8718-1730973600-1730979000@stmamom.com
SUMMARY:Otsego Open Playtime
DESCRIPTION:Kids ages 5 & under are invited to play and meet new friends at Otsego’s Open Playtime. This drop-in program offers an open play session full of toys\, crafts\, active equipment\, and activities. Come for the whole time or stay while you can. (Parent/guardian supervision is required.) \nCost: $3/child at the door\, or pick up an 11-visit punchcard for $20 at https://otsego.recdesk.com\nPlease check Facebook for closures due to holidays or inclement weather:
URL:https://stmamom.com/event/otsego-open-playtime-2024-11-07/
LOCATION:Prairie Center\, 8899 Nashua Ave NE\, Otsego\, MN\, 55330\, United States
ATTACH;FMTTYPE=image/png:https://stmamom.com/wp-content/uploads/2021/04/otsego-parks-rec-e1619580266549.png
ORGANIZER;CN="Otsego Parks & Recreation":MAILTO:recreation@ci.otsego.mn.us
END:VEVENT
BEGIN:VEVENT
DTSTART;TZID=America/Chicago:20241107T100000
DTEND;TZID=America/Chicago:20241107T103000
DTSTAMP:20260425T083027
CREATED:20240830T193848Z
LAST-MODIFIED:20250424T132128Z
UID:8708-1730973600-1730975400@stmamom.com
SUMMARY:ECFE Storytime at the Library
DESCRIPTION:Come hang out at the library with your friends from ECFE! A staff member from STMA’s Early Childhood program will lead storytime along with crafts\, games\, songs. This event is intended for ages 0 to 6 along with their parent or caregiver.
URL:https://stmamom.com/event/ecfe-storytime-at-the-library-2024-2024-11-07/
LOCATION:St. Michael Public Library\, 11800 Town Center Dr NE\, St. Michael\, MN\, 55376\, United States
ATTACH;FMTTYPE=image/jpeg:https://stmamom.com/wp-content/uploads/2021/04/ecfe-e1619575280453.jpg
END:VEVENT
BEGIN:VEVENT
DTSTART;TZID=America/Chicago:20241104T103000
DTEND;TZID=America/Chicago:20241104T110000
DTSTAMP:20260425T083027
CREATED:20241030T213002Z
LAST-MODIFIED:20241030T213002Z
UID:8740-1730716200-1730718000@stmamom.com
SUMMARY:Dino-vember Storytime at the Library
DESCRIPTION:Join your friends at the St. Michael library for dinosaur fun all month long! Today\, enjoy a special dinosaur-themed Storytime with Miss Nicole. This is event is for children 0 to 5 with their parent or caregiver.
URL:https://stmamom.com/event/dino-vember-storytime-at-the-library/
LOCATION:St. Michael Public Library\, 11800 Town Center Dr NE\, St. Michael\, MN\, 55376\, United States
ATTACH;FMTTYPE=image/jpeg:https://stmamom.com/wp-content/uploads/2024/08/storytime-e1725045078975.jpg
END:VEVENT
BEGIN:VEVENT
DTSTART;TZID=America/Chicago:20241104T103000
DTEND;TZID=America/Chicago:20241104T110000
DTSTAMP:20260425T083027
CREATED:20240830T191216Z
LAST-MODIFIED:20250424T131959Z
UID:8775-1730716200-1730718000@stmamom.com
SUMMARY:Library Storytime
DESCRIPTION:Start your week out right… at the library! Share books\, songs\, and rhymes with your children at this storytime designed to promote school readiness in 0- to 5-year-olds. Librarians\, caregivers\, and children will sing\, talk\, read\, write\, and play together to build early literacy skills. Siblings are also welcome.
URL:https://stmamom.com/event/library-storytime-2024-2024-11-04/
LOCATION:St. Michael Public Library\, 11800 Town Center Dr NE\, St. Michael\, MN\, 55376\, United States
ATTACH;FMTTYPE=image/jpeg:https://stmamom.com/wp-content/uploads/2024/08/storytime-e1725045078975.jpg
END:VEVENT
BEGIN:VEVENT
DTSTART;TZID=America/Chicago:20241104T100000
DTEND;TZID=America/Chicago:20241104T113000
DTSTAMP:20260425T083027
CREATED:20240830T204814Z
LAST-MODIFIED:20250424T131355Z
UID:8717-1730714400-1730719800@stmamom.com
SUMMARY:Otsego Open Playtime
DESCRIPTION:Kids ages 5 & under are invited to play and meet new friends at Otsego’s Open Playtime. This drop-in program offers an open play session full of toys\, crafts\, active equipment\, and activities. Come for the whole time or stay while you can. (Parent/guardian supervision is required.) \nCost: $3/child at the door\, or pick up an 11-visit punchcard for $20 at https://otsego.recdesk.com\nPlease check Facebook for closures due to holidays or inclement weather:
URL:https://stmamom.com/event/otsego-open-playtime-2024-11-04/
LOCATION:Prairie Center\, 8899 Nashua Ave NE\, Otsego\, MN\, 55330\, United States
ATTACH;FMTTYPE=image/png:https://stmamom.com/wp-content/uploads/2021/04/otsego-parks-rec-e1619580266549.png
ORGANIZER;CN="Otsego Parks & Recreation":MAILTO:recreation@ci.otsego.mn.us
END:VEVENT
END:VCALENDAR