BEGIN:VCALENDAR
VERSION:2.0
PRODID:-//STMAmom.com - ECPv6.15.16.1//NONSGML v1.0//EN
CALSCALE:GREGORIAN
METHOD:PUBLISH
X-WR-CALNAME:STMAmom.com
X-ORIGINAL-URL:https://stmamom.com
X-WR-CALDESC:Events for STMAmom.com
REFRESH-INTERVAL;VALUE=DURATION:PT1H
X-Robots-Tag:noindex
X-PUBLISHED-TTL:PT1H
BEGIN:VTIMEZONE
TZID:America/Chicago
BEGIN:DAYLIGHT
TZOFFSETFROM:-0600
TZOFFSETTO:-0500
TZNAME:CDT
DTSTART:20230312T080000
END:DAYLIGHT
BEGIN:STANDARD
TZOFFSETFROM:-0500
TZOFFSETTO:-0600
TZNAME:CST
DTSTART:20231105T070000
END:STANDARD
BEGIN:DAYLIGHT
TZOFFSETFROM:-0600
TZOFFSETTO:-0500
TZNAME:CDT
DTSTART:20240310T080000
END:DAYLIGHT
BEGIN:STANDARD
TZOFFSETFROM:-0500
TZOFFSETTO:-0600
TZNAME:CST
DTSTART:20241103T070000
END:STANDARD
BEGIN:DAYLIGHT
TZOFFSETFROM:-0600
TZOFFSETTO:-0500
TZNAME:CDT
DTSTART:20250309T080000
END:DAYLIGHT
BEGIN:STANDARD
TZOFFSETFROM:-0500
TZOFFSETTO:-0600
TZNAME:CST
DTSTART:20251102T070000
END:STANDARD
BEGIN:DAYLIGHT
TZOFFSETFROM:-0600
TZOFFSETTO:-0500
TZNAME:CDT
DTSTART:20260308T080000
END:DAYLIGHT
BEGIN:STANDARD
TZOFFSETFROM:-0500
TZOFFSETTO:-0600
TZNAME:CST
DTSTART:20261101T070000
END:STANDARD
END:VTIMEZONE
BEGIN:VEVENT
DTSTART;TZID=America/Chicago:20250113T103000
DTEND;TZID=America/Chicago:20250113T110000
DTSTAMP:20260425T083057
CREATED:20240830T191216Z
LAST-MODIFIED:20250424T132006Z
UID:8900-1736764200-1736766000@stmamom.com
SUMMARY:Library Storytime
DESCRIPTION:Start your week out right… at the library! Share books\, songs\, and rhymes with your children at this storytime designed to promote school readiness in 0- to 5-year-olds. Librarians\, caregivers\, and children will sing\, talk\, read\, write\, and play together to build early literacy skills. Siblings are also welcome.
URL:https://stmamom.com/event/library-storytime-2024-2025-01-13/
LOCATION:St. Michael Public Library\, 11800 Town Center Dr NE\, St. Michael\, MN\, 55376\, United States
ATTACH;FMTTYPE=image/jpeg:https://stmamom.com/wp-content/uploads/2024/08/storytime-e1725045078975.jpg
END:VEVENT
BEGIN:VEVENT
DTSTART;TZID=America/Chicago:20250113T100000
DTEND;TZID=America/Chicago:20250113T113000
DTSTAMP:20260425T083057
CREATED:20240830T204814Z
LAST-MODIFIED:20250424T131409Z
UID:8947-1736762400-1736767800@stmamom.com
SUMMARY:Otsego Open Playtime
DESCRIPTION:Kids ages 5 & under are invited to play and meet new friends at Otsego’s Open Playtime. This drop-in program offers an open play session full of toys\, crafts\, active equipment\, and activities. Come for the whole time or stay while you can. (Parent/guardian supervision is required.) \nCost: $3/child at the door\, or pick up an 11-visit punchcard for $20 at https://otsego.recdesk.com\nPlease check Facebook for closures due to holidays or inclement weather:
URL:https://stmamom.com/event/otsego-open-playtime-2025-01-13/
LOCATION:Prairie Center\, 8899 Nashua Ave NE\, Otsego\, MN\, 55330\, United States
ATTACH;FMTTYPE=image/png:https://stmamom.com/wp-content/uploads/2021/04/otsego-parks-rec-e1619580266549.png
ORGANIZER;CN="Otsego Parks & Recreation":MAILTO:recreation@ci.otsego.mn.us
END:VEVENT
BEGIN:VEVENT
DTSTART;TZID=America/Chicago:20250111T103000
DTEND;TZID=America/Chicago:20250111T110000
DTSTAMP:20260425T083057
CREATED:20220902T201234Z
LAST-MODIFIED:20250213T224735Z
UID:8953-1736591400-1736593200@stmamom.com
SUMMARY:Family Storytime with Miss Hollee
DESCRIPTION:Join Miss Hollee for this fun family storytime that includes songs\, rhymes\, and stories that celebrate reading. This event is for children of all ages and their families.
URL:https://stmamom.com/event/family-storytime-with-miss-hollee-2025-01-11/
LOCATION:St. Michael Public Library\, 11800 Town Center Dr NE\, St. Michael\, MN\, 55376\, United States
ATTACH;FMTTYPE=image/jpeg:https://stmamom.com/wp-content/uploads/2024/08/storytime-e1725045078975.jpg
END:VEVENT
BEGIN:VEVENT
DTSTART;TZID=America/Chicago:20250110T081500
DTEND;TZID=America/Chicago:20250110T101500
DTSTAMP:20260425T083057
CREATED:20241121T014041Z
LAST-MODIFIED:20250221T195852Z
UID:8931-1736496900-1736504100@stmamom.com
SUMMARY:ECFE Dome Day
DESCRIPTION:Kids ages 6 and under are invited to run and play with friends at the STMA Dome from December 5 through March 28 on alternating Thursdays & Friday mornings. The cost is just $2 per child (max $5 per family)\, payable by cash at the door. No registration required. \n 
URL:https://stmamom.com/event/ecfe-dome-days-2025-2025-01-10/
LOCATION:STMA High School\, 5800 Jamison Ave NE\, St. Michael\, MN\, 55376\, United States
ATTACH;FMTTYPE=image/jpeg:https://stmamom.com/wp-content/uploads/2018/11/stmadome.jpg
END:VEVENT
BEGIN:VEVENT
DTSTART;TZID=America/Chicago:20250109T180000
DTEND;TZID=America/Chicago:20250109T190000
DTSTAMP:20260425T083057
CREATED:20241121T014624Z
LAST-MODIFIED:20241121T014624Z
UID:8928-1736445600-1736449200@stmamom.com
SUMMARY:Dome Night
DESCRIPTION:Join your friends from ECFE for Dome Night\, a fantastic evening of fun for the whole family at the STMA Multipurpose Facility! Designed for children ages 8 and under\, this event features an array of inflatables and age-appropriate toys that will keep your little ones active and entertained. Come bounce\, slide\, and play in a safe and exciting environment\, where families can enjoy quality time together and socialize with other families while letting the kids burn off some energy! \nCost: $5/family\nRegister online at stma.ce.eleyo.com/course/ecfe/7066/winter-spring-2025/ecfe-dome-nights
URL:https://stmamom.com/event/dome-nights-2025-2025-01-09/
LOCATION:STMA High School\, 5800 Jamison Ave NE\, St. Michael\, MN\, 55376\, United States
ATTACH;FMTTYPE=image/jpeg:https://stmamom.com/wp-content/uploads/2018/11/stmadome.jpg
END:VEVENT
BEGIN:VEVENT
DTSTART;TZID=America/Chicago:20250109T100000
DTEND;TZID=America/Chicago:20250109T113000
DTSTAMP:20260425T083057
CREATED:20240830T204814Z
LAST-MODIFIED:20250424T131409Z
UID:8946-1736416800-1736422200@stmamom.com
SUMMARY:Otsego Open Playtime
DESCRIPTION:Kids ages 5 & under are invited to play and meet new friends at Otsego’s Open Playtime. This drop-in program offers an open play session full of toys\, crafts\, active equipment\, and activities. Come for the whole time or stay while you can. (Parent/guardian supervision is required.) \nCost: $3/child at the door\, or pick up an 11-visit punchcard for $20 at https://otsego.recdesk.com\nPlease check Facebook for closures due to holidays or inclement weather:
URL:https://stmamom.com/event/otsego-open-playtime-2025-01-09/
LOCATION:Prairie Center\, 8899 Nashua Ave NE\, Otsego\, MN\, 55330\, United States
ATTACH;FMTTYPE=image/png:https://stmamom.com/wp-content/uploads/2021/04/otsego-parks-rec-e1619580266549.png
ORGANIZER;CN="Otsego Parks & Recreation":MAILTO:recreation@ci.otsego.mn.us
END:VEVENT
BEGIN:VEVENT
DTSTART;TZID=America/Chicago:20250109T100000
DTEND;TZID=America/Chicago:20250109T103000
DTSTAMP:20260425T083057
CREATED:20240830T193848Z
LAST-MODIFIED:20250424T132129Z
UID:8909-1736416800-1736418600@stmamom.com
SUMMARY:ECFE Storytime at the Library
DESCRIPTION:Come hang out at the library with your friends from ECFE! A staff member from STMA’s Early Childhood program will lead storytime along with crafts\, games\, songs. This event is intended for ages 0 to 6 along with their parent or caregiver.
URL:https://stmamom.com/event/ecfe-storytime-at-the-library-2024-2025-01-09/
LOCATION:St. Michael Public Library\, 11800 Town Center Dr NE\, St. Michael\, MN\, 55376\, United States
ATTACH;FMTTYPE=image/jpeg:https://stmamom.com/wp-content/uploads/2021/04/ecfe-e1619575280453.jpg
END:VEVENT
BEGIN:VEVENT
DTSTART;TZID=America/Chicago:20250106T103000
DTEND;TZID=America/Chicago:20250106T110000
DTSTAMP:20260425T083057
CREATED:20240830T191216Z
LAST-MODIFIED:20250424T132006Z
UID:8899-1736159400-1736161200@stmamom.com
SUMMARY:Library Storytime
DESCRIPTION:Start your week out right… at the library! Share books\, songs\, and rhymes with your children at this storytime designed to promote school readiness in 0- to 5-year-olds. Librarians\, caregivers\, and children will sing\, talk\, read\, write\, and play together to build early literacy skills. Siblings are also welcome.
URL:https://stmamom.com/event/library-storytime-2024-2025-01-06/
LOCATION:St. Michael Public Library\, 11800 Town Center Dr NE\, St. Michael\, MN\, 55376\, United States
ATTACH;FMTTYPE=image/jpeg:https://stmamom.com/wp-content/uploads/2024/08/storytime-e1725045078975.jpg
END:VEVENT
BEGIN:VEVENT
DTSTART;TZID=America/Chicago:20250106T100000
DTEND;TZID=America/Chicago:20250106T113000
DTSTAMP:20260425T083057
CREATED:20240830T204814Z
LAST-MODIFIED:20250424T131407Z
UID:8945-1736157600-1736163000@stmamom.com
SUMMARY:Otsego Open Playtime
DESCRIPTION:Kids ages 5 & under are invited to play and meet new friends at Otsego’s Open Playtime. This drop-in program offers an open play session full of toys\, crafts\, active equipment\, and activities. Come for the whole time or stay while you can. (Parent/guardian supervision is required.) \nCost: $3/child at the door\, or pick up an 11-visit punchcard for $20 at https://otsego.recdesk.com\nPlease check Facebook for closures due to holidays or inclement weather:
URL:https://stmamom.com/event/otsego-open-playtime-2025-01-06/
LOCATION:Prairie Center\, 8899 Nashua Ave NE\, Otsego\, MN\, 55330\, United States
ATTACH;FMTTYPE=image/png:https://stmamom.com/wp-content/uploads/2021/04/otsego-parks-rec-e1619580266549.png
ORGANIZER;CN="Otsego Parks & Recreation":MAILTO:recreation@ci.otsego.mn.us
END:VEVENT
BEGIN:VEVENT
DTSTART;TZID=America/Chicago:20250104T090000
DTEND;TZID=America/Chicago:20250104T120000
DTSTAMP:20260425T083057
CREATED:20230627T221107Z
LAST-MODIFIED:20260325T211847Z
UID:8821-1735981200-1735992000@stmamom.com
SUMMARY:Home Depot Kids Workshop
DESCRIPTION:Bring your kids to Home Depot to complete a free\, hands-on building project created with them in mind! Workshops take place the 1st Saturday of each month and vary by theme. \nFind out more information and register for the workshop at https://www.homedepot.com/c/kids
URL:https://stmamom.com/event/home-depot-kids-workshop-2025-01-04/
LOCATION:Home Depot\, 1385 E 7th Street\, Monticello\, MN\, 55362\, United States
ATTACH;FMTTYPE=image/png:https://stmamom.com/wp-content/uploads/2023/06/home-depot-e1691001383784.png
END:VEVENT
BEGIN:VEVENT
DTSTART;TZID=America/Chicago:20241230T103000
DTEND;TZID=America/Chicago:20241230T113000
DTSTAMP:20260425T083057
CREATED:20240830T192752Z
LAST-MODIFIED:20250326T122517Z
UID:8789-1735554600-1735558200@stmamom.com
SUMMARY:Preschool "Play & Learn" at the Library
DESCRIPTION:Encourage a love of learning as you and your child play\, explore\, discover\, count\, and create. Stations are set up for participants to come and go as time and attention span permits. Activities are designed for ages 1 to 5. No registration\, but room limits may be enforced.
URL:https://stmamom.com/event/preschool-play-learn-at-the-library-2024-12-30/
LOCATION:St. Michael Public Library\, 11800 Town Center Dr NE\, St. Michael\, MN\, 55376\, United States
ATTACH;FMTTYPE=image/png:https://stmamom.com/wp-content/uploads/2024/08/library-play-learn-e1725046036166.png
END:VEVENT
BEGIN:VEVENT
DTSTART;VALUE=DATE:20241225
DTEND;VALUE=DATE:20241226
DTSTAMP:20260425T083057
CREATED:20241120T215054Z
LAST-MODIFIED:20241120T215054Z
UID:8773-1735084800-1735171199@stmamom.com
SUMMARY:CHRISTMAS DAY
DESCRIPTION:Merry Christmas from the STMA Mom family to yours! 💓
URL:https://stmamom.com/event/christmas-day/
LOCATION:MN
END:VEVENT
BEGIN:VEVENT
DTSTART;TZID=America/Chicago:20241222T140000
DTEND;TZID=America/Chicago:20241222T180000
DTSTAMP:20260425T083057
CREATED:20241121T030248Z
LAST-MODIFIED:20241121T030248Z
UID:8849-1734876000-1734890400@stmamom.com
SUMMARY:Visit Santa at Kremer's
DESCRIPTION:Stop by STMA’s favorite local toy store and visit with Santa\, December 15 & 22 at 2-6pm! \nIn order to improve the experience and keep it more relaxing for all\, Kremer’s is requiring reservations this year. Reservations are $10\, and include a $10 in store voucher which you will receive when you arrive for your visit with Santa. (Net cost is $0 if you arrive for your reservation.)C \nCall or stop by the store to reserve a timeslot. 763-497-2777
URL:https://stmamom.com/event/visit-santa-at-kremers-2024-12-22/
LOCATION:Kremer’s Toy & Hobby\, 11011 61st Street NE #120\, Albertville\, 55301\, United States
END:VEVENT
BEGIN:VEVENT
DTSTART;TZID=America/Chicago:20241220T170000
DTEND;TZID=America/Chicago:20241220T180000
DTSTAMP:20260425T083057
CREATED:20241211T143548Z
LAST-MODIFIED:20241211T143548Z
UID:8889-1734714000-1734717600@stmamom.com
SUMMARY:Santa Claus at BK Tap Haus
DESCRIPTION:Save the date\, because Santa is coming to BK Tap Haus & Bourbon Room! Bring the kids and take your holiday photos with Santa. Hot cocoa and cookies will be provided for the kids.
URL:https://stmamom.com/event/santa-claus-at-bk-tap-haus/
LOCATION:BK Tap Haus\, 21 Main Street South\, St. Michael\, MN\, 55376\, United States
END:VEVENT
BEGIN:VEVENT
DTSTART;TZID=America/Chicago:20241219T170000
DTEND;TZID=America/Chicago:20241219T180000
DTSTAMP:20260425T083057
CREATED:20240830T194317Z
LAST-MODIFIED:20260325T212538Z
UID:8791-1734627600-1734631200@stmamom.com
SUMMARY:LEGO Fun at the Library
DESCRIPTION:School-age kids are invited to show off their LEGO building skills! The library will provide the bricks\, you provide the imagination. Come meet with other builders and have some fun.
URL:https://stmamom.com/event/lego-fun-at-the-library-2024-12-19/
LOCATION:St. Michael Public Library\, 11800 Town Center Dr NE\, St. Michael\, MN\, 55376\, United States
ATTACH;FMTTYPE=image/jpeg:https://stmamom.com/wp-content/uploads/2024/08/lego-scaled.jpg
END:VEVENT
BEGIN:VEVENT
DTSTART;TZID=America/Chicago:20241219T100000
DTEND;TZID=America/Chicago:20241219T113000
DTSTAMP:20260425T083057
CREATED:20240830T204814Z
LAST-MODIFIED:20250424T131407Z
UID:8944-1734602400-1734607800@stmamom.com
SUMMARY:Otsego Open Playtime
DESCRIPTION:Kids ages 5 & under are invited to play and meet new friends at Otsego’s Open Playtime. This drop-in program offers an open play session full of toys\, crafts\, active equipment\, and activities. Come for the whole time or stay while you can. (Parent/guardian supervision is required.) \nCost: $3/child at the door\, or pick up an 11-visit punchcard for $20 at https://otsego.recdesk.com\nPlease check Facebook for closures due to holidays or inclement weather:
URL:https://stmamom.com/event/otsego-open-playtime-2024-12-19/
LOCATION:Prairie Center\, 8899 Nashua Ave NE\, Otsego\, MN\, 55330\, United States
ATTACH;FMTTYPE=image/png:https://stmamom.com/wp-content/uploads/2021/04/otsego-parks-rec-e1619580266549.png
ORGANIZER;CN="Otsego Parks & Recreation":MAILTO:recreation@ci.otsego.mn.us
END:VEVENT
BEGIN:VEVENT
DTSTART;TZID=America/Chicago:20241219T100000
DTEND;TZID=America/Chicago:20241219T103000
DTSTAMP:20260425T083057
CREATED:20240830T193848Z
LAST-MODIFIED:20250424T132129Z
UID:8783-1734602400-1734604200@stmamom.com
SUMMARY:ECFE Storytime at the Library
DESCRIPTION:Come hang out at the library with your friends from ECFE! A staff member from STMA’s Early Childhood program will lead storytime along with crafts\, games\, songs. This event is intended for ages 0 to 6 along with their parent or caregiver.
URL:https://stmamom.com/event/ecfe-storytime-at-the-library-2024-2024-12-19/
LOCATION:St. Michael Public Library\, 11800 Town Center Dr NE\, St. Michael\, MN\, 55376\, United States
ATTACH;FMTTYPE=image/jpeg:https://stmamom.com/wp-content/uploads/2021/04/ecfe-e1619575280453.jpg
END:VEVENT
BEGIN:VEVENT
DTSTART;TZID=America/Chicago:20241216T103000
DTEND;TZID=America/Chicago:20241216T110000
DTSTAMP:20260425T083057
CREATED:20240830T191216Z
LAST-MODIFIED:20250424T132005Z
UID:8780-1734345000-1734346800@stmamom.com
SUMMARY:Library Storytime
DESCRIPTION:Start your week out right… at the library! Share books\, songs\, and rhymes with your children at this storytime designed to promote school readiness in 0- to 5-year-olds. Librarians\, caregivers\, and children will sing\, talk\, read\, write\, and play together to build early literacy skills. Siblings are also welcome.
URL:https://stmamom.com/event/library-storytime-2024-2024-12-16/
LOCATION:St. Michael Public Library\, 11800 Town Center Dr NE\, St. Michael\, MN\, 55376\, United States
ATTACH;FMTTYPE=image/jpeg:https://stmamom.com/wp-content/uploads/2024/08/storytime-e1725045078975.jpg
END:VEVENT
BEGIN:VEVENT
DTSTART;TZID=America/Chicago:20241216T100000
DTEND;TZID=America/Chicago:20241216T113000
DTSTAMP:20260425T083057
CREATED:20240830T204814Z
LAST-MODIFIED:20250424T131407Z
UID:8943-1734343200-1734348600@stmamom.com
SUMMARY:Otsego Open Playtime
DESCRIPTION:Kids ages 5 & under are invited to play and meet new friends at Otsego’s Open Playtime. This drop-in program offers an open play session full of toys\, crafts\, active equipment\, and activities. Come for the whole time or stay while you can. (Parent/guardian supervision is required.) \nCost: $3/child at the door\, or pick up an 11-visit punchcard for $20 at https://otsego.recdesk.com\nPlease check Facebook for closures due to holidays or inclement weather:
URL:https://stmamom.com/event/otsego-open-playtime-2024-12-16/
LOCATION:Prairie Center\, 8899 Nashua Ave NE\, Otsego\, MN\, 55330\, United States
ATTACH;FMTTYPE=image/png:https://stmamom.com/wp-content/uploads/2021/04/otsego-parks-rec-e1619580266549.png
ORGANIZER;CN="Otsego Parks & Recreation":MAILTO:recreation@ci.otsego.mn.us
END:VEVENT
BEGIN:VEVENT
DTSTART;TZID=America/Chicago:20241215T140000
DTEND;TZID=America/Chicago:20241215T180000
DTSTAMP:20260425T083057
CREATED:20241121T030248Z
LAST-MODIFIED:20241129T170654Z
UID:8829-1734271200-1734285600@stmamom.com
SUMMARY:Visit Santa at Kremer's
DESCRIPTION:Stop by STMA’s favorite local toy store and visit with Santa\, December 15 & 22 at 2-6pm! \nIn order to improve the experience and keep it more relaxing for all\, Kremer’s is requiring reservations this year. Reservations are $10\, and include a $10 in store voucher which you will receive when you arrive for your visit with Santa. (Net cost is $0 if you arrive for your reservation.)C \nCall or stop by the store to reserve a timeslot. 763-497-2777
URL:https://stmamom.com/event/visit-santa-at-kremers/
LOCATION:Kremer’s Toy & Hobby\, 11011 61st Street NE #120\, Albertville\, 55301\, United States
END:VEVENT
BEGIN:VEVENT
DTSTART;TZID=America/Chicago:20241215T140000
DTEND;TZID=America/Chicago:20241215T160000
DTSTAMP:20260425T083057
CREATED:20241124T010850Z
LAST-MODIFIED:20241124T010850Z
UID:8845-1734271200-1734278400@stmamom.com
SUMMARY:Community Kids Gingerbread Town
DESCRIPTION:The Albertville Royalty Program is excited to bring you their second annual Community Kids Gingerbread Town event. Kids big and small can join the royalty for an afternoon of gingerbread-themed fun.\n\nCost: $5/person\nRSVP to albertvilleroyalty.events@gmail.com
URL:https://stmamom.com/event/community-kids-gingerbread-town/
LOCATION:Albertville City Hall\, 5959 Main Ave NE\, Albertville\, MN\, 55301\, United States
ORGANIZER;CN="Albertville Royalty":MAILTO:albertvilleroyalty.events@gmail.com
END:VEVENT
BEGIN:VEVENT
DTSTART;TZID=America/Chicago:20241214T160000
DTEND;TZID=America/Chicago:20241214T190000
DTSTAMP:20260425T083057
CREATED:20231129T164356Z
LAST-MODIFIED:20241121T030941Z
UID:8833-1734192000-1734202800@stmamom.com
SUMMARY:A Night in Bethlehem
DESCRIPTION:A Night in Bethlehem is a Bible-times Christmas event for families\, where the entire church building is transformed into the town of Bethlehem! Families will visit shops in the marketplace\, make projects\, do activities\, and hear the story of Jesus’ birth from the perspective of the Shopkeepers. The experience ends at the stable where you will find out what they have all been talking about—baby Jesus!\n\nActivities will take about one hour. Please register online at www.christchurchotsego.org/children so that there will be enough supplies for everyone.
URL:https://stmamom.com/event/a-night-in-bethlehem-2024-12-14/
LOCATION:Christ Church Otsego\, 15849 90th St. NE\, Otsego\, MN\, 55330\, United States
END:VEVENT
BEGIN:VEVENT
DTSTART;TZID=America/Chicago:20241214T103000
DTEND;TZID=America/Chicago:20241214T110000
DTSTAMP:20260425T083057
CREATED:20220902T201234Z
LAST-MODIFIED:20250213T224735Z
UID:8788-1734172200-1734174000@stmamom.com
SUMMARY:Family Storytime with Miss Hollee
DESCRIPTION:Join Miss Hollee for this fun family storytime that includes songs\, rhymes\, and stories that celebrate reading. This event is for children of all ages and their families.
URL:https://stmamom.com/event/family-storytime-with-miss-hollee-2024-12-14/
LOCATION:St. Michael Public Library\, 11800 Town Center Dr NE\, St. Michael\, MN\, 55376\, United States
ATTACH;FMTTYPE=image/jpeg:https://stmamom.com/wp-content/uploads/2024/08/storytime-e1725045078975.jpg
END:VEVENT
BEGIN:VEVENT
DTSTART;TZID=America/Chicago:20241214T100000
DTEND;TZID=America/Chicago:20241214T130000
DTSTAMP:20260425T083057
CREATED:20241120T222519Z
LAST-MODIFIED:20241120T222519Z
UID:8807-1734170400-1734181200@stmamom.com
SUMMARY:Otsego Santa Day
DESCRIPTION:The North Pole is coming to Otsego! The elves are busy transforming the city shop into a winter wonderland for you and your friends/family to walk through. The kids will get to listen to holiday music\, meet some of Santa’s friends\, and say hi to Santa himself. Kids are allowed to hand a letter to Santa and take a selfie with him.\nThis is a free event\, but you must pre-register for your group to attend. No on-site registrations will be allowed\, and quantities are limited.\n\nRegister for a time slot at https://otsego.recdesk.com/Community/Program?category=1
URL:https://stmamom.com/event/otsego-santa-day-4/
LOCATION:Otsego City Hall\, 13400 90th Street NE\, Otsego\, MN\, 55330\, United States
ORGANIZER;CN="Otsego Parks & Recreation":MAILTO:recreation@ci.otsego.mn.us
END:VEVENT
BEGIN:VEVENT
DTSTART;TZID=America/Chicago:20241212T160000
DTEND;TZID=America/Chicago:20241212T180000
DTSTAMP:20260425T083057
CREATED:20241211T142933Z
LAST-MODIFIED:20241211T142933Z
UID:8887-1734019200-1734026400@stmamom.com
SUMMARY:Cookies with Santa
DESCRIPTION:Enjoy crafts\, cookies & photos with Santa! This is a community event held at the Goddard School in Albertville.
URL:https://stmamom.com/event/cookies-with-santa/
LOCATION:The Goddard School\, 5301 Labeaux Ave NE\, Albertville\, MN\, 55301\, United States
END:VEVENT
BEGIN:VEVENT
DTSTART;TZID=America/Chicago:20241212T100000
DTEND;TZID=America/Chicago:20241212T113000
DTSTAMP:20260425T083057
CREATED:20240830T204814Z
LAST-MODIFIED:20250424T131406Z
UID:8942-1733997600-1734003000@stmamom.com
SUMMARY:Otsego Open Playtime
DESCRIPTION:Kids ages 5 & under are invited to play and meet new friends at Otsego’s Open Playtime. This drop-in program offers an open play session full of toys\, crafts\, active equipment\, and activities. Come for the whole time or stay while you can. (Parent/guardian supervision is required.) \nCost: $3/child at the door\, or pick up an 11-visit punchcard for $20 at https://otsego.recdesk.com\nPlease check Facebook for closures due to holidays or inclement weather:
URL:https://stmamom.com/event/otsego-open-playtime-2024-12-12/
LOCATION:Prairie Center\, 8899 Nashua Ave NE\, Otsego\, MN\, 55330\, United States
ATTACH;FMTTYPE=image/png:https://stmamom.com/wp-content/uploads/2021/04/otsego-parks-rec-e1619580266549.png
ORGANIZER;CN="Otsego Parks & Recreation":MAILTO:recreation@ci.otsego.mn.us
END:VEVENT
BEGIN:VEVENT
DTSTART;TZID=America/Chicago:20241212T100000
DTEND;TZID=America/Chicago:20241212T103000
DTSTAMP:20260425T083057
CREATED:20240830T193848Z
LAST-MODIFIED:20250424T132129Z
UID:8782-1733997600-1733999400@stmamom.com
SUMMARY:ECFE Storytime at the Library
DESCRIPTION:Come hang out at the library with your friends from ECFE! A staff member from STMA’s Early Childhood program will lead storytime along with crafts\, games\, songs. This event is intended for ages 0 to 6 along with their parent or caregiver.
URL:https://stmamom.com/event/ecfe-storytime-at-the-library-2024-2024-12-12/
LOCATION:St. Michael Public Library\, 11800 Town Center Dr NE\, St. Michael\, MN\, 55376\, United States
ATTACH;FMTTYPE=image/jpeg:https://stmamom.com/wp-content/uploads/2021/04/ecfe-e1619575280453.jpg
END:VEVENT
BEGIN:VEVENT
DTSTART;TZID=America/Chicago:20241209T180000
DTEND;TZID=America/Chicago:20241209T190000
DTSTAMP:20260425T083057
CREATED:20241121T023845Z
LAST-MODIFIED:20241121T023845Z
UID:8825-1733767200-1733770800@stmamom.com
SUMMARY:ECFE "Wonders of Winter"
DESCRIPTION:Embark on a magical journey through the enchanting world of winter storybooks with ECFE’s special “Wonders of Winter” event! Designed for children and their families\, this literacy-focused event celebrates the joy of reading and the wonders of winter through engaging activities inspired by beloved children’s books. \nDon’t miss out on this exciting opportunity to stimulate the magic of winter through hands-on crafts and activities that enhance literacy skills while fostering creativity. \nCost: $10/child\nRegister at stma.ce.eleyo.com
URL:https://stmamom.com/event/ecfe-wonders-of-winter/
LOCATION:STMA Community Education Building\, 60 Central Avenue W\, St. Michael\, MN\, 55376\, United States
ATTACH;FMTTYPE=image/jpeg:https://stmamom.com/wp-content/uploads/2021/04/ecfe-e1619575280453.jpg
END:VEVENT
BEGIN:VEVENT
DTSTART;TZID=America/Chicago:20241209T103000
DTEND;TZID=America/Chicago:20241209T110000
DTSTAMP:20260425T083057
CREATED:20240830T191216Z
LAST-MODIFIED:20250424T132005Z
UID:8779-1733740200-1733742000@stmamom.com
SUMMARY:Library Storytime
DESCRIPTION:Start your week out right… at the library! Share books\, songs\, and rhymes with your children at this storytime designed to promote school readiness in 0- to 5-year-olds. Librarians\, caregivers\, and children will sing\, talk\, read\, write\, and play together to build early literacy skills. Siblings are also welcome.
URL:https://stmamom.com/event/library-storytime-2024-2024-12-09/
LOCATION:St. Michael Public Library\, 11800 Town Center Dr NE\, St. Michael\, MN\, 55376\, United States
ATTACH;FMTTYPE=image/jpeg:https://stmamom.com/wp-content/uploads/2024/08/storytime-e1725045078975.jpg
END:VEVENT
BEGIN:VEVENT
DTSTART;TZID=America/Chicago:20241209T100000
DTEND;TZID=America/Chicago:20241209T113000
DTSTAMP:20260425T083057
CREATED:20240830T204814Z
LAST-MODIFIED:20250424T131406Z
UID:8941-1733738400-1733743800@stmamom.com
SUMMARY:Otsego Open Playtime
DESCRIPTION:Kids ages 5 & under are invited to play and meet new friends at Otsego’s Open Playtime. This drop-in program offers an open play session full of toys\, crafts\, active equipment\, and activities. Come for the whole time or stay while you can. (Parent/guardian supervision is required.) \nCost: $3/child at the door\, or pick up an 11-visit punchcard for $20 at https://otsego.recdesk.com\nPlease check Facebook for closures due to holidays or inclement weather:
URL:https://stmamom.com/event/otsego-open-playtime-2024-12-09/
LOCATION:Prairie Center\, 8899 Nashua Ave NE\, Otsego\, MN\, 55330\, United States
ATTACH;FMTTYPE=image/png:https://stmamom.com/wp-content/uploads/2021/04/otsego-parks-rec-e1619580266549.png
ORGANIZER;CN="Otsego Parks & Recreation":MAILTO:recreation@ci.otsego.mn.us
END:VEVENT
END:VCALENDAR