BEGIN:VCALENDAR
VERSION:2.0
PRODID:-//STMAmom.com - ECPv6.15.16.1//NONSGML v1.0//EN
CALSCALE:GREGORIAN
METHOD:PUBLISH
X-WR-CALNAME:STMAmom.com
X-ORIGINAL-URL:https://stmamom.com
X-WR-CALDESC:Events for STMAmom.com
REFRESH-INTERVAL;VALUE=DURATION:PT1H
X-Robots-Tag:noindex
X-PUBLISHED-TTL:PT1H
BEGIN:VTIMEZONE
TZID:America/Chicago
BEGIN:DAYLIGHT
TZOFFSETFROM:-0600
TZOFFSETTO:-0500
TZNAME:CDT
DTSTART:20250309T080000
END:DAYLIGHT
BEGIN:STANDARD
TZOFFSETFROM:-0500
TZOFFSETTO:-0600
TZNAME:CST
DTSTART:20251102T070000
END:STANDARD
BEGIN:DAYLIGHT
TZOFFSETFROM:-0600
TZOFFSETTO:-0500
TZNAME:CDT
DTSTART:20260308T080000
END:DAYLIGHT
BEGIN:STANDARD
TZOFFSETFROM:-0500
TZOFFSETTO:-0600
TZNAME:CST
DTSTART:20261101T070000
END:STANDARD
BEGIN:DAYLIGHT
TZOFFSETFROM:-0600
TZOFFSETTO:-0500
TZNAME:CDT
DTSTART:20270314T080000
END:DAYLIGHT
BEGIN:STANDARD
TZOFFSETFROM:-0500
TZOFFSETTO:-0600
TZNAME:CST
DTSTART:20271107T070000
END:STANDARD
END:VTIMEZONE
BEGIN:VEVENT
DTSTART;VALUE=DATE:20260405
DTEND;VALUE=DATE:20260406
DTSTAMP:20260423T175800
CREATED:20260325T212851Z
LAST-MODIFIED:20260325T212851Z
UID:10228-1775347200-1775433599@stmamom.com
SUMMARY:EASTER
DESCRIPTION:Happy Easter from our family to yours! 💙
URL:https://stmamom.com/event/easter-5/
LOCATION:MN
END:VEVENT
BEGIN:VEVENT
DTSTART;TZID=America/Chicago:20260404T120000
DTEND;TZID=America/Chicago:20260404T150000
DTSTAMP:20260423T175800
CREATED:20260401T002100Z
LAST-MODIFIED:20260401T002100Z
UID:10234-1775304000-1775314800@stmamom.com
SUMMARY:Egg Hunt at T&J Construction
DESCRIPTION:Hop on over to T&J Construction for an indoor Easter celebration that’s perfect for the whole family! Bring your baskets and your best bunny ears to enjoy an egg hunt\, Easter Bunny photos\, arts & crafts\, face painting\, donuts\, coffee\, and more.
URL:https://stmamom.com/event/egg-hunt-at-tj-construction/
LOCATION:T&J Construction\, 6737 Labeaux Ave NE Unit #3\, Albertville\, MN\, 55301\, United States
END:VEVENT
BEGIN:VEVENT
DTSTART;TZID=America/Chicago:20260404T110000
DTEND;TZID=America/Chicago:20260404T140000
DTSTAMP:20260423T175800
CREATED:20260401T011157Z
LAST-MODIFIED:20260401T011157Z
UID:10237-1775300400-1775311200@stmamom.com
SUMMARY:Egg Hunt at The Quarry (Monticello)
DESCRIPTION:Join Quarry Church for a joyful and inclusive* Easter Egg Hunt! Families can look forward to egg hunts by age\, including an inclusive hunt (for all ages & abilities)\, a Gospel-centered craft\, coffee\, cocoa\, & donuts for sale\, a local craft vendor\, an Easter bunny photo op\, and time together in a safe and joyful environment. \n\nPlease register each child individually at https://quarrycommunitychurch.ccbchurch.com/…/respo…/new\n\n\n*The “Inclusive Egg Hunt” area is designed to ensure that everyone can fully enjoy the joy of Easter\, regardless of ability\, unique needs\, or age. The inclusive egg hunt will be held indoors\, will be wheelchair accessible and will offer reduced sensory input\, including lower noise levels\, softer lighting\, and fewer crowds\, with volunteers available to help as needed. To preserve this supportive environment\, Quarry kindly asks families to use this area only if it is the best fit for their child/participant’s needs. Families may participate at their own pace and return any time throughout their registered time slot.
URL:https://stmamom.com/event/egg-hunt-at-the-quarry-monticello/
LOCATION:Quarry Church\, 8585 MN-25\, Monticello\, MN\, 55362\, United States
END:VEVENT
BEGIN:VEVENT
DTSTART;TZID=America/Chicago:20260404T110000
DTEND;TZID=America/Chicago:20260404T120000
DTSTAMP:20260423T175800
CREATED:20260401T012013Z
LAST-MODIFIED:20260401T012844Z
UID:10239-1775300400-1775304000@stmamom.com
SUMMARY:Easter Fun at Active Adventures
DESCRIPTION:Get ready to hop into Easter fun at Active Adventures in Monticello! They’re teaming up with Little Makers Society for a morning filled with creativity and play. Kids can get hands-on at three unique craft stations\, including Peep stamping art and custom bunny ears. After the crafting\, join the egg hunt—find three eggs to claim a special prize\, and every child will be entered for a chance to win a grand Easter basket! \nThis event is FREE with your $8 Active Adventures day pass\, but spots are limited. Visit activeadventures.org to book!
URL:https://stmamom.com/event/easter-fun-at-active-adventures/
LOCATION:Active Adventures\, 207 Dundas Road Suite 100\, Monticello\, MN\, 55362\, United States
END:VEVENT
BEGIN:VEVENT
DTSTART;TZID=America/Chicago:20260404T090000
DTEND;TZID=America/Chicago:20260404T120000
DTSTAMP:20260423T175800
CREATED:20230627T221107Z
LAST-MODIFIED:20260325T211850Z
UID:10078-1775293200-1775304000@stmamom.com
SUMMARY:Home Depot Kids Workshop
DESCRIPTION:Bring your kids to Home Depot to complete a free\, hands-on building project created with them in mind! Workshops take place the 1st Saturday of each month and vary by theme. \nFind out more information and register for the workshop at https://www.homedepot.com/c/kids
URL:https://stmamom.com/event/home-depot-kids-workshop-2026-04-04/
LOCATION:Home Depot\, 1385 E 7th Street\, Monticello\, MN\, 55362\, United States
ATTACH;FMTTYPE=image/png:https://stmamom.com/wp-content/uploads/2023/06/home-depot-e1691001383784.png
END:VEVENT
BEGIN:VEVENT
DTSTART;TZID=America/Chicago:20260402T100000
DTEND;TZID=America/Chicago:20260402T113000
DTSTAMP:20260423T175800
CREATED:20250827T152548Z
LAST-MODIFIED:20260325T211913Z
UID:10092-1775124000-1775129400@stmamom.com
SUMMARY:Otsego Open Playtime
DESCRIPTION:Kids ages 5 & under are invited to play and meet new friends at Otsego’s Open Playtime. This drop-in program offers an open play session full of toys\, crafts\, active equipment\, and activities. Come for the whole time or stay while you can. (Parent/guardian supervision is required.) \nCost: $3/child at the door\, or pick up a punch pass!\nPlease check Facebook for closures due to holidays or inclement weather: \nNot meeting October 30\, November 27\, December 25\, January 19 and February 16\nLast day is Thursday\, May 14
URL:https://stmamom.com/event/otsego-open-playtime-2025-2026-04-02/
LOCATION:Prairie Center\, 8899 Nashua Ave NE\, Otsego\, MN\, 55330\, United States
ATTACH;FMTTYPE=image/png:https://stmamom.com/wp-content/uploads/2021/04/otsego-parks-rec-e1619580266549.png
ORGANIZER;CN="Otsego Parks & Recreation":MAILTO:recreation@ci.otsego.mn.us
END:VEVENT
BEGIN:VEVENT
DTSTART;TZID=America/Chicago:20260401T093000
DTEND;TZID=America/Chicago:20260401T110000
DTSTAMP:20260423T175800
CREATED:20260310T190554Z
LAST-MODIFIED:20260310T190623Z
UID:10183-1775035800-1775041200@stmamom.com
SUMMARY:Legacy Bunny Hop Trail
DESCRIPTION:Kids are invited to bring their Easter baskets to The Legacy of St. Michael and “hop” along the trail\, collecting candy from its wonderful residents. The Easter Bunny will also be stopping by for photos and fun!\n\nThis is a sweet way to bring generations together and celebrate the season. Guests are also invited to bring a non-perishable food item to share in the Food Drive for STMA Food Pantry.
URL:https://stmamom.com/event/legacy-bunny-hop-trail-2026/
LOCATION:The Legacy of St. Michael\, 4400 Lange Ave NE\, St. Michael\, MN\, 55376\, United States
END:VEVENT
BEGIN:VEVENT
DTSTART;TZID=America/Chicago:20260331T100000
DTEND;TZID=America/Chicago:20260331T120000
DTSTAMP:20260423T175800
CREATED:20260227T184410Z
LAST-MODIFIED:20260227T184410Z
UID:10169-1774951200-1774958400@stmamom.com
SUMMARY:Parent-Child Dragon Painting Class
DESCRIPTION:Learn how to create a scene from How to Train Your Dragon in this free class provided by the Rum River Art Center! You will use oil pastel\, ink\, and white acrylic paint\, then practice blending the oil pastel to create a moonlit glow and use textures to make the scene come alive. Register today for this fun\, beginner-friendly class! \nFor school-age children age 5+ with a caregiver. Limit 12.\nRegister at https://events.griver.org/event/16383714
URL:https://stmamom.com/event/parent-child-dragon-painting-class/
LOCATION:St. Michael Public Library\, 11800 Town Center Dr NE\, St. Michael\, MN\, 55376\, United States
ATTACH;FMTTYPE=image/jpeg:https://stmamom.com/wp-content/uploads/2019/09/st-michael-library.jpg
END:VEVENT
BEGIN:VEVENT
DTSTART;TZID=America/Chicago:20260330T103000
DTEND;TZID=America/Chicago:20260330T113000
DTSTAMP:20260423T175800
CREATED:20230901T200258Z
LAST-MODIFIED:20260325T212238Z
UID:10155-1774866600-1774870200@stmamom.com
SUMMARY:Preschooler Play & Learn Workshop
DESCRIPTION:Encourage a love of learning as you and your child play\, explore\, discover\, count\, and create. Join the library staff anytime during the hour for an open-ended play session. Activities are designed for ages 1 to 5. Registration is not required\, but room limits may be enforced.
URL:https://stmamom.com/event/preschooler-play-learn-workshop-2026-03-30/
LOCATION:St. Michael Public Library\, 11800 Town Center Dr NE\, St. Michael\, MN\, 55376\, United States
ATTACH;FMTTYPE=image/jpeg:https://stmamom.com/wp-content/uploads/2019/09/st-michael-library.jpg
END:VEVENT
BEGIN:VEVENT
DTSTART;TZID=America/Chicago:20260330T100000
DTEND;TZID=America/Chicago:20260330T113000
DTSTAMP:20260423T175800
CREATED:20250827T152548Z
LAST-MODIFIED:20260325T211913Z
UID:10091-1774864800-1774870200@stmamom.com
SUMMARY:Otsego Open Playtime
DESCRIPTION:Kids ages 5 & under are invited to play and meet new friends at Otsego’s Open Playtime. This drop-in program offers an open play session full of toys\, crafts\, active equipment\, and activities. Come for the whole time or stay while you can. (Parent/guardian supervision is required.) \nCost: $3/child at the door\, or pick up a punch pass!\nPlease check Facebook for closures due to holidays or inclement weather: \nNot meeting October 30\, November 27\, December 25\, January 19 and February 16\nLast day is Thursday\, May 14
URL:https://stmamom.com/event/otsego-open-playtime-2025-2026-03-30/
LOCATION:Prairie Center\, 8899 Nashua Ave NE\, Otsego\, MN\, 55330\, United States
ATTACH;FMTTYPE=image/png:https://stmamom.com/wp-content/uploads/2021/04/otsego-parks-rec-e1619580266549.png
ORGANIZER;CN="Otsego Parks & Recreation":MAILTO:recreation@ci.otsego.mn.us
END:VEVENT
BEGIN:VEVENT
DTSTART;VALUE=DATE:20260330
DTEND;VALUE=DATE:20260404
DTSTAMP:20260423T175800
CREATED:20260128T194302Z
LAST-MODIFIED:20260128T194302Z
UID:10071-1774828800-1775260799@stmamom.com
SUMMARY:STMA Spring Break
DESCRIPTION:
URL:https://stmamom.com/event/stma-spring-break-3/
LOCATION:MN
END:VEVENT
BEGIN:VEVENT
DTSTART;TZID=America/Chicago:20260328T100000
DTEND;TZID=America/Chicago:20260328T120000
DTSTAMP:20260423T175800
CREATED:20260227T190711Z
LAST-MODIFIED:20260227T190711Z
UID:10177-1774692000-1774699200@stmamom.com
SUMMARY:Otsego Egg Hunt
DESCRIPTION:Get ready for a day of egg-citing fun! Join Otsego Parks & Rec at Prairie Park on Saturday\, March 28 for its FREE Annual Egg Hunt Event!\n\nThis year\, they’re making the Bunny Trail experience even more magical with the new themed stations filled with candy-filled eggs and surprises. Hop\, skip\, and jump your way through the adventure\, and don’t forget to bring a basket or bag to collect your treasures! After gathering your goodies\, stop by to meet the Bunny-snap a selfie\, wave hello\, or just enjoy the moment for a perfect keepsake photo.But the fun doesn’t stop there! A DJ will be spinning lively tunes\, keeping the energy high as kids dance and play under the Prairie Park shelter. Plus\, bring your leashed furry friends along-they’ll get a special treat too!\n\nPreregistration is required\, so sign up early to secure your spot!\n10:00-10:55 time slot: https://otsego.recdesk.com/Community/Program/Detail…\n11:00-11:55 time slot:https://otsego.recdesk.com/Community/Program/Detail…
URL:https://stmamom.com/event/otsego-egg-hunt-2026/
LOCATION:Prairie Park\, Otsego\, 13355 90th Street NE\, Otsego\, MN\, 55330\, United States
ATTACH;FMTTYPE=image/png:https://stmamom.com/wp-content/uploads/2021/04/otsego-parks-rec-e1619580266549.png
ORGANIZER;CN="Otsego Parks & Recreation":MAILTO:recreation@ci.otsego.mn.us
END:VEVENT
BEGIN:VEVENT
DTSTART;TZID=America/Chicago:20260328T093000
DTEND;TZID=America/Chicago:20260328T113000
DTSTAMP:20260423T175800
CREATED:20260227T185422Z
LAST-MODIFIED:20260227T185422Z
UID:10173-1774690200-1774697400@stmamom.com
SUMMARY:FYCC Bunny Fest
DESCRIPTION:Hop on down to FYCC for the annual Bunny Fest event\, hosted in cooperation with several community organizations. This free event features photos with the Easter Bunny\, egg-themed activities\, and more! \nRegister online at myfycc.com
URL:https://stmamom.com/event/fycc-bunny-fest-2026/
LOCATION:FYCC Building\, 5975 Main Ave NE\, Albertville\, MN\, 55301\, United States
ATTACH;FMTTYPE=image/png:https://stmamom.com/wp-content/uploads/2021/04/fycc-e1697061396286.png
ORGANIZER;CN="FYCC":MAILTO:FYCCinformation@gmail.com
END:VEVENT
BEGIN:VEVENT
DTSTART;TZID=America/Chicago:20260328T090000
DTEND;TZID=America/Chicago:20260328T103000
DTSTAMP:20260423T175800
CREATED:20260227T190033Z
LAST-MODIFIED:20260227T190033Z
UID:10175-1774688400-1774693800@stmamom.com
SUMMARY:Bunny Trail at St. Michael Cinema
DESCRIPTION:Celebrate spring at St. Michael Cinema during its annual Bunny Trail — a fun\, family-friendly morning designed for kids of all ages! Families will follow a trail of Egg Stops\, collecting treats\, enjoying spring-themed fun\, and stopping for photos with the Bunny. Best of all\, entry is FREE for everyone! \n\nIn addition\, enjoy a FREE kids movie on the big screen! (movie title TBA)\n SHOWTIMES: 9:25\, 9:35\, 9:55\, 10:05\, 10:20\, 10:35
URL:https://stmamom.com/event/bunny-trail-at-st-michael-cinema-2026/
LOCATION:St. Michael Cinema\, 4300 O'Day Ave NE\, St. Michael\, MN\, 55376\, United States
ATTACH;FMTTYPE=image/png:https://stmamom.com/wp-content/uploads/2021/07/stmichaelcinema.png
END:VEVENT
BEGIN:VEVENT
DTSTART;TZID=America/Chicago:20260326T100000
DTEND;TZID=America/Chicago:20260326T113000
DTSTAMP:20260423T175800
CREATED:20250827T152548Z
LAST-MODIFIED:20260325T211913Z
UID:10090-1774519200-1774524600@stmamom.com
SUMMARY:Otsego Open Playtime
DESCRIPTION:Kids ages 5 & under are invited to play and meet new friends at Otsego’s Open Playtime. This drop-in program offers an open play session full of toys\, crafts\, active equipment\, and activities. Come for the whole time or stay while you can. (Parent/guardian supervision is required.) \nCost: $3/child at the door\, or pick up a punch pass!\nPlease check Facebook for closures due to holidays or inclement weather: \nNot meeting October 30\, November 27\, December 25\, January 19 and February 16\nLast day is Thursday\, May 14
URL:https://stmamom.com/event/otsego-open-playtime-2025-2026-03-26/
LOCATION:Prairie Center\, 8899 Nashua Ave NE\, Otsego\, MN\, 55330\, United States
ATTACH;FMTTYPE=image/png:https://stmamom.com/wp-content/uploads/2021/04/otsego-parks-rec-e1619580266549.png
ORGANIZER;CN="Otsego Parks & Recreation":MAILTO:recreation@ci.otsego.mn.us
END:VEVENT
BEGIN:VEVENT
DTSTART;TZID=America/Chicago:20260325T180000
DTEND;TZID=America/Chicago:20260325T191000
DTSTAMP:20260423T175800
CREATED:20250903T190403Z
LAST-MODIFIED:20250903T190403Z
UID:10051-1774461600-1774465800@stmamom.com
SUMMARY:Glow-n-Skate
DESCRIPTION:The coolest event in town! Glow-n-Skate is a special nighttime open skating event with the lights down and the music up. \nCost: $6/skater (includes glow necklace)\nRental skates: $2/pair
URL:https://stmamom.com/event/glow-n-skate-2025-2026-03-25/
LOCATION:Rogers Trustone Ice Arena\, 21080 141st Ave N\, Rogers\, MN\, 55374\, United States
ORGANIZER;CN="City of Rogers":MAILTO:info@rogersmn.gov
END:VEVENT
BEGIN:VEVENT
DTSTART;TZID=America/Chicago:20260323T103000
DTEND;TZID=America/Chicago:20260323T110000
DTSTAMP:20260423T175800
CREATED:20250827T140359Z
LAST-MODIFIED:20260325T212108Z
UID:10150-1774261800-1774263600@stmamom.com
SUMMARY:Library Storytime
DESCRIPTION:Start your week out right… at the library! Share books\, songs\, and rhymes with your children at this storytime designed to promote school readiness in 0- to 6-year-olds. Librarians\, caregivers\, and children will sing\, talk\, read\, write\, and play together to build early literacy skills. Siblings are also welcome.
URL:https://stmamom.com/event/library-storytime-2025-2026-03-23/
LOCATION:St. Michael Public Library\, 11800 Town Center Dr NE\, St. Michael\, MN\, 55376\, United States
ATTACH;FMTTYPE=image/jpeg:https://stmamom.com/wp-content/uploads/2024/08/storytime-e1725045078975.jpg
END:VEVENT
BEGIN:VEVENT
DTSTART;TZID=America/Chicago:20260323T100000
DTEND;TZID=America/Chicago:20260323T113000
DTSTAMP:20260423T175800
CREATED:20250827T152548Z
LAST-MODIFIED:20260325T211913Z
UID:10089-1774260000-1774265400@stmamom.com
SUMMARY:Otsego Open Playtime
DESCRIPTION:Kids ages 5 & under are invited to play and meet new friends at Otsego’s Open Playtime. This drop-in program offers an open play session full of toys\, crafts\, active equipment\, and activities. Come for the whole time or stay while you can. (Parent/guardian supervision is required.) \nCost: $3/child at the door\, or pick up a punch pass!\nPlease check Facebook for closures due to holidays or inclement weather: \nNot meeting October 30\, November 27\, December 25\, January 19 and February 16\nLast day is Thursday\, May 14
URL:https://stmamom.com/event/otsego-open-playtime-2025-2026-03-23/
LOCATION:Prairie Center\, 8899 Nashua Ave NE\, Otsego\, MN\, 55330\, United States
ATTACH;FMTTYPE=image/png:https://stmamom.com/wp-content/uploads/2021/04/otsego-parks-rec-e1619580266549.png
ORGANIZER;CN="Otsego Parks & Recreation":MAILTO:recreation@ci.otsego.mn.us
END:VEVENT
BEGIN:VEVENT
DTSTART;TZID=America/Chicago:20260321T083000
DTEND;TZID=America/Chicago:20260321T113000
DTSTAMP:20260423T175800
CREATED:20260310T191444Z
LAST-MODIFIED:20260310T191444Z
UID:10186-1774081800-1774092600@stmamom.com
SUMMARY:Breakfast with the Bunny
DESCRIPTION:Join Swan River Montessori for a fun\, family-friendly morning at the Monticello Community Center! You can enjoy breakfast\, pictures with the Bunny\, games and activities along with a raffle and silent auction benefitting the Swan River PTO.\n\nCost: $12 Adults\, $6 Children\, FREE ages 2 & under\, FREE first respondersTake $1 off per ticket with a donated food item for the local Help Center
URL:https://stmamom.com/event/breakfast-with-the-bunny-2026/
LOCATION:Monticello Community Center\, 505 Walnut Street\, Monticello\, MN\, 55362\, United States
ORGANIZER;CN="Swan River Montessori":MAILTO:srpto@swanrivermontessori.org
END:VEVENT
BEGIN:VEVENT
DTSTART;TZID=America/Chicago:20260320T081500
DTEND;TZID=America/Chicago:20260320T101500
DTSTAMP:20260423T175800
CREATED:20260105T210622Z
LAST-MODIFIED:20260105T210622Z
UID:9929-1773994500-1774001700@stmamom.com
SUMMARY:ECFE Dome Day
DESCRIPTION:Kids ages 6 and under are invited to run and play with friends at the STMA Dome from December 4 through March 20 on alternating Thursdays & Friday mornings. The cost is just $2 per child (max $5 per family)\, payable by cash at the door. No registration required.
URL:https://stmamom.com/event/ecfe-dome-day-2026-2026-03-20/
LOCATION:STMA High School\, 5800 Jamison Ave NE\, St. Michael\, MN\, 55376\, United States
ATTACH;FMTTYPE=image/jpeg:https://stmamom.com/wp-content/uploads/2018/11/stmadome.jpg
END:VEVENT
BEGIN:VEVENT
DTSTART;TZID=America/Chicago:20260319T170000
DTEND;TZID=America/Chicago:20260319T180000
DTSTAMP:20260423T175800
CREATED:20240830T194317Z
LAST-MODIFIED:20260325T212543Z
UID:10164-1773939600-1773943200@stmamom.com
SUMMARY:LEGO Fun at the Library
DESCRIPTION:School-age kids are invited to show off their LEGO building skills! The library will provide the bricks\, you provide the imagination. Come meet with other builders and have some fun.
URL:https://stmamom.com/event/lego-fun-at-the-library-2026-03-19/
LOCATION:St. Michael Public Library\, 11800 Town Center Dr NE\, St. Michael\, MN\, 55376\, United States
ATTACH;FMTTYPE=image/jpeg:https://stmamom.com/wp-content/uploads/2024/08/lego-scaled.jpg
END:VEVENT
BEGIN:VEVENT
DTSTART;TZID=America/Chicago:20260319T100000
DTEND;TZID=America/Chicago:20260319T113000
DTSTAMP:20260423T175800
CREATED:20250827T152548Z
LAST-MODIFIED:20260325T211913Z
UID:10088-1773914400-1773919800@stmamom.com
SUMMARY:Otsego Open Playtime
DESCRIPTION:Kids ages 5 & under are invited to play and meet new friends at Otsego’s Open Playtime. This drop-in program offers an open play session full of toys\, crafts\, active equipment\, and activities. Come for the whole time or stay while you can. (Parent/guardian supervision is required.) \nCost: $3/child at the door\, or pick up a punch pass!\nPlease check Facebook for closures due to holidays or inclement weather: \nNot meeting October 30\, November 27\, December 25\, January 19 and February 16\nLast day is Thursday\, May 14
URL:https://stmamom.com/event/otsego-open-playtime-2025-2026-03-19/
LOCATION:Prairie Center\, 8899 Nashua Ave NE\, Otsego\, MN\, 55330\, United States
ATTACH;FMTTYPE=image/png:https://stmamom.com/wp-content/uploads/2021/04/otsego-parks-rec-e1619580266549.png
ORGANIZER;CN="Otsego Parks & Recreation":MAILTO:recreation@ci.otsego.mn.us
END:VEVENT
BEGIN:VEVENT
DTSTART;TZID=America/Chicago:20260319T100000
DTEND;TZID=America/Chicago:20260319T103000
DTSTAMP:20260423T175800
CREATED:20250827T141326Z
LAST-MODIFIED:20260325T212157Z
UID:10159-1773914400-1773916200@stmamom.com
SUMMARY:ECFE Storytime at the Library
DESCRIPTION:Come hang out at the library with your friends from ECFE! A staff member from STMA’s Early Childhood program will lead storytime along with crafts\, games\, songs. This event is intended for ages 0 to 6 along with their parent or caregiver.
URL:https://stmamom.com/event/ecfe-storytime-at-the-library-2-2026-03-19/
LOCATION:St. Michael Public Library\, 11800 Town Center Dr NE\, St. Michael\, MN\, 55376\, United States
ATTACH;FMTTYPE=image/jpeg:https://stmamom.com/wp-content/uploads/2021/04/ecfe-e1619575280453.jpg
END:VEVENT
BEGIN:VEVENT
DTSTART;TZID=America/Chicago:20260316T103000
DTEND;TZID=America/Chicago:20260316T110000
DTSTAMP:20260423T175800
CREATED:20250827T140359Z
LAST-MODIFIED:20260325T212108Z
UID:10149-1773657000-1773658800@stmamom.com
SUMMARY:Library Storytime
DESCRIPTION:Start your week out right… at the library! Share books\, songs\, and rhymes with your children at this storytime designed to promote school readiness in 0- to 6-year-olds. Librarians\, caregivers\, and children will sing\, talk\, read\, write\, and play together to build early literacy skills. Siblings are also welcome.
URL:https://stmamom.com/event/library-storytime-2025-2026-03-16/
LOCATION:St. Michael Public Library\, 11800 Town Center Dr NE\, St. Michael\, MN\, 55376\, United States
ATTACH;FMTTYPE=image/jpeg:https://stmamom.com/wp-content/uploads/2024/08/storytime-e1725045078975.jpg
END:VEVENT
BEGIN:VEVENT
DTSTART;TZID=America/Chicago:20260316T100000
DTEND;TZID=America/Chicago:20260316T113000
DTSTAMP:20260423T175800
CREATED:20250827T152548Z
LAST-MODIFIED:20260325T211912Z
UID:10087-1773655200-1773660600@stmamom.com
SUMMARY:Otsego Open Playtime
DESCRIPTION:Kids ages 5 & under are invited to play and meet new friends at Otsego’s Open Playtime. This drop-in program offers an open play session full of toys\, crafts\, active equipment\, and activities. Come for the whole time or stay while you can. (Parent/guardian supervision is required.) \nCost: $3/child at the door\, or pick up a punch pass!\nPlease check Facebook for closures due to holidays or inclement weather: \nNot meeting October 30\, November 27\, December 25\, January 19 and February 16\nLast day is Thursday\, May 14
URL:https://stmamom.com/event/otsego-open-playtime-2025-2026-03-16/
LOCATION:Prairie Center\, 8899 Nashua Ave NE\, Otsego\, MN\, 55330\, United States
ATTACH;FMTTYPE=image/png:https://stmamom.com/wp-content/uploads/2021/04/otsego-parks-rec-e1619580266549.png
ORGANIZER;CN="Otsego Parks & Recreation":MAILTO:recreation@ci.otsego.mn.us
END:VEVENT
BEGIN:VEVENT
DTSTART;TZID=America/Chicago:20260312T183000
DTEND;TZID=America/Chicago:20260312T193000
DTSTAMP:20260423T175800
CREATED:20260227T184903Z
LAST-MODIFIED:20260227T184903Z
UID:10171-1773340200-1773343800@stmamom.com
SUMMARY:FYCC Bunny Bingo
DESCRIPTION:Bring your family (grandparents included) for a fun night of Easter-themed bingo with FYCC. Have fun playing together and win some great prizes! \nCost: $25/family\nRegister at: https://secure.rec1.com/MN/family-youth-community-connections/catalog
URL:https://stmamom.com/event/fycc-bunny-bingo/
LOCATION:Albertville City Hall\, 5959 Main Ave NE\, Albertville\, MN\, 55301\, United States
ORGANIZER;CN="FYCC":MAILTO:FYCCinformation@gmail.com
END:VEVENT
BEGIN:VEVENT
DTSTART;TZID=America/Chicago:20260312T101500
DTEND;TZID=America/Chicago:20260312T114500
DTSTAMP:20260423T175800
CREATED:20250903T180906Z
LAST-MODIFIED:20250903T180906Z
UID:10038-1773310500-1773315900@stmamom.com
SUMMARY:ECFE Drop In & Play
DESCRIPTION:Drop in and play with your friends at ECFE! This monthly drop-in class offers young children and their caregivers a relaxed\, unstructured setting for connection and play. With no formal activities\, the focus is on creativity\, curiosity\, and making memories! \nFall Dates: September 18\, October 2 & 30\, November 13\, December 4\nWinter/Spring Dates: January 15 & 29\, February 12 & 26\, March 12\, April 16\, May 14 \nLocation: Community Education room #203\nCost: $2 per child / max $5/family (no preregistration required)
URL:https://stmamom.com/event/ecfe-drop-in-play-2025-2026-03-12/
LOCATION:STMA Community Education Building\, 60 Central Avenue W\, St. Michael\, MN\, 55376\, United States
ATTACH;FMTTYPE=image/jpeg:https://stmamom.com/wp-content/uploads/2021/04/ecfe-e1619575280453.jpg
END:VEVENT
BEGIN:VEVENT
DTSTART;TZID=America/Chicago:20260312T100000
DTEND;TZID=America/Chicago:20260312T113000
DTSTAMP:20260423T175800
CREATED:20250827T152548Z
LAST-MODIFIED:20260325T211912Z
UID:10086-1773309600-1773315000@stmamom.com
SUMMARY:Otsego Open Playtime
DESCRIPTION:Kids ages 5 & under are invited to play and meet new friends at Otsego’s Open Playtime. This drop-in program offers an open play session full of toys\, crafts\, active equipment\, and activities. Come for the whole time or stay while you can. (Parent/guardian supervision is required.) \nCost: $3/child at the door\, or pick up a punch pass!\nPlease check Facebook for closures due to holidays or inclement weather: \nNot meeting October 30\, November 27\, December 25\, January 19 and February 16\nLast day is Thursday\, May 14
URL:https://stmamom.com/event/otsego-open-playtime-2025-2026-03-12/
LOCATION:Prairie Center\, 8899 Nashua Ave NE\, Otsego\, MN\, 55330\, United States
ATTACH;FMTTYPE=image/png:https://stmamom.com/wp-content/uploads/2021/04/otsego-parks-rec-e1619580266549.png
ORGANIZER;CN="Otsego Parks & Recreation":MAILTO:recreation@ci.otsego.mn.us
END:VEVENT
BEGIN:VEVENT
DTSTART;TZID=America/Chicago:20260312T081500
DTEND;TZID=America/Chicago:20260312T101500
DTSTAMP:20260423T175800
CREATED:20260105T210622Z
LAST-MODIFIED:20260105T210622Z
UID:9927-1773303300-1773310500@stmamom.com
SUMMARY:ECFE Dome Day
DESCRIPTION:Kids ages 6 and under are invited to run and play with friends at the STMA Dome from December 4 through March 20 on alternating Thursdays & Friday mornings. The cost is just $2 per child (max $5 per family)\, payable by cash at the door. No registration required.
URL:https://stmamom.com/event/ecfe-dome-day-2026-2026-03-12/
LOCATION:STMA High School\, 5800 Jamison Ave NE\, St. Michael\, MN\, 55376\, United States
ATTACH;FMTTYPE=image/jpeg:https://stmamom.com/wp-content/uploads/2018/11/stmadome.jpg
END:VEVENT
BEGIN:VEVENT
DTSTART;TZID=America/Chicago:20260309T103000
DTEND;TZID=America/Chicago:20260309T110000
DTSTAMP:20260423T175800
CREATED:20250827T140359Z
LAST-MODIFIED:20260325T212108Z
UID:10148-1773052200-1773054000@stmamom.com
SUMMARY:Library Storytime
DESCRIPTION:Start your week out right… at the library! Share books\, songs\, and rhymes with your children at this storytime designed to promote school readiness in 0- to 6-year-olds. Librarians\, caregivers\, and children will sing\, talk\, read\, write\, and play together to build early literacy skills. Siblings are also welcome.
URL:https://stmamom.com/event/library-storytime-2025-2026-03-09/
LOCATION:St. Michael Public Library\, 11800 Town Center Dr NE\, St. Michael\, MN\, 55376\, United States
ATTACH;FMTTYPE=image/jpeg:https://stmamom.com/wp-content/uploads/2024/08/storytime-e1725045078975.jpg
END:VEVENT
END:VCALENDAR