BEGIN:VCALENDAR
VERSION:2.0
PRODID:-//STMAmom.com - ECPv6.15.16.1//NONSGML v1.0//EN
CALSCALE:GREGORIAN
METHOD:PUBLISH
X-WR-CALNAME:STMAmom.com
X-ORIGINAL-URL:https://stmamom.com
X-WR-CALDESC:Events for STMAmom.com
REFRESH-INTERVAL;VALUE=DURATION:PT1H
X-Robots-Tag:noindex
X-PUBLISHED-TTL:PT1H
BEGIN:VTIMEZONE
TZID:America/Chicago
BEGIN:DAYLIGHT
TZOFFSETFROM:-0600
TZOFFSETTO:-0500
TZNAME:CDT
DTSTART:20230312T080000
END:DAYLIGHT
BEGIN:STANDARD
TZOFFSETFROM:-0500
TZOFFSETTO:-0600
TZNAME:CST
DTSTART:20231105T070000
END:STANDARD
BEGIN:DAYLIGHT
TZOFFSETFROM:-0600
TZOFFSETTO:-0500
TZNAME:CDT
DTSTART:20240310T080000
END:DAYLIGHT
BEGIN:STANDARD
TZOFFSETFROM:-0500
TZOFFSETTO:-0600
TZNAME:CST
DTSTART:20241103T070000
END:STANDARD
BEGIN:DAYLIGHT
TZOFFSETFROM:-0600
TZOFFSETTO:-0500
TZNAME:CDT
DTSTART:20250309T080000
END:DAYLIGHT
BEGIN:STANDARD
TZOFFSETFROM:-0500
TZOFFSETTO:-0600
TZNAME:CST
DTSTART:20251102T070000
END:STANDARD
END:VTIMEZONE
BEGIN:VEVENT
DTSTART;TZID=America/Chicago:20240923T103000
DTEND;TZID=America/Chicago:20240923T110000
DTSTAMP:20260425T114136
CREATED:20240830T191216Z
LAST-MODIFIED:20250424T131958Z
UID:8673-1727087400-1727089200@stmamom.com
SUMMARY:Library Storytime
DESCRIPTION:Start your week out right… at the library! Share books\, songs\, and rhymes with your children at this storytime designed to promote school readiness in 0- to 5-year-olds. Librarians\, caregivers\, and children will sing\, talk\, read\, write\, and play together to build early literacy skills. Siblings are also welcome.
URL:https://stmamom.com/event/library-storytime-2024-2024-09-23/
LOCATION:St. Michael Public Library\, 11800 Town Center Dr NE\, St. Michael\, MN\, 55376\, United States
ATTACH;FMTTYPE=image/jpeg:https://stmamom.com/wp-content/uploads/2024/08/storytime-e1725045078975.jpg
END:VEVENT
BEGIN:VEVENT
DTSTART;TZID=America/Chicago:20240923T160000
DTEND;TZID=America/Chicago:20240923T170000
DTSTAMP:20260425T114136
CREATED:20240830T191859Z
LAST-MODIFIED:20250129T180643Z
UID:8549-1727107200-1727110800@stmamom.com
SUMMARY:STEAM Fun at the Library
DESCRIPTION:STEAM* at the Library is back! Join library staff for an hour of learning\, exploring\, and inventing. All you need is your imagination! \nFor ages 7 to 11. Limit 10 children\, but parents/guardians are encouraged to stay to work with their child.\nRegistration required: https://events.griver.org/calendar/stmichaellibraryevents \n  \n*Science\, Technology\, Engineering\, Art\, and Mathematics
URL:https://stmamom.com/event/steam-fun-at-the-library/
LOCATION:St. Michael Public Library\, 11800 Town Center Dr NE\, St. Michael\, MN\, 55376\, United States
ATTACH;FMTTYPE=image/jpeg:https://stmamom.com/wp-content/uploads/2024/08/steam-library-scaled-e1725046126165.jpg
END:VEVENT
BEGIN:VEVENT
DTSTART;TZID=America/Chicago:20240925T180000
DTEND;TZID=America/Chicago:20240925T191000
DTSTAMP:20260425T114136
CREATED:20240905T134318Z
LAST-MODIFIED:20250425T155252Z
UID:8609-1727287200-1727291400@stmamom.com
SUMMARY:Rogers Glow N Skate
DESCRIPTION:The coolest event in town! Glow N Skate is a special nighttime open skating event with the lights down and the music up. \nCost: $6/skater (includes glow necklace)\nRental skates: $2/pair
URL:https://stmamom.com/event/rogers-glow-n-skate/
LOCATION:Rogers Trustone Ice Arena\, 21080 141st Ave N\, Rogers\, MN\, 55374\, United States
ATTACH;FMTTYPE=image/jpeg:https://stmamom.com/wp-content/uploads/2021/04/73131867_3379341468750133_1414841314830188544_n-e1619577412521.jpg
ORGANIZER;CN="City of Rogers":MAILTO:info@rogersmn.gov
END:VEVENT
BEGIN:VEVENT
DTSTART;TZID=America/Chicago:20240926T100000
DTEND;TZID=America/Chicago:20240926T103000
DTSTAMP:20260425T114136
CREATED:20240830T193848Z
LAST-MODIFIED:20250424T132124Z
UID:8564-1727344800-1727346600@stmamom.com
SUMMARY:ECFE Storytime at the Library
DESCRIPTION:Come hang out at the library with your friends from ECFE! A staff member from STMA’s Early Childhood program will lead storytime along with crafts\, games\, songs. This event is intended for ages 0 to 6 along with their parent or caregiver.
URL:https://stmamom.com/event/ecfe-storytime-at-the-library-2024-2024-09-26/
LOCATION:St. Michael Public Library\, 11800 Town Center Dr NE\, St. Michael\, MN\, 55376\, United States
ATTACH;FMTTYPE=image/jpeg:https://stmamom.com/wp-content/uploads/2021/04/ecfe-e1619575280453.jpg
END:VEVENT
BEGIN:VEVENT
DTSTART;TZID=America/Chicago:20240930T100000
DTEND;TZID=America/Chicago:20240930T113000
DTSTAMP:20260425T114136
CREATED:20240830T204814Z
LAST-MODIFIED:20250424T131347Z
UID:8585-1727690400-1727695800@stmamom.com
SUMMARY:Otsego Open Playtime
DESCRIPTION:Kids ages 5 & under are invited to play and meet new friends at Otsego’s Open Playtime. This drop-in program offers an open play session full of toys\, crafts\, active equipment\, and activities. Come for the whole time or stay while you can. (Parent/guardian supervision is required.) \nCost: $3/child at the door\, or pick up an 11-visit punchcard for $20 at https://otsego.recdesk.com\nPlease check Facebook for closures due to holidays or inclement weather:
URL:https://stmamom.com/event/otsego-open-playtime/
LOCATION:Prairie Center\, 8899 Nashua Ave NE\, Otsego\, MN\, 55330\, United States
ATTACH;FMTTYPE=image/png:https://stmamom.com/wp-content/uploads/2021/04/otsego-parks-rec-e1619580266549.png
ORGANIZER;CN="Otsego Parks & Recreation":MAILTO:recreation@ci.otsego.mn.us
END:VEVENT
BEGIN:VEVENT
DTSTART;TZID=America/Chicago:20240930T103000
DTEND;TZID=America/Chicago:20240930T113000
DTSTAMP:20260425T114136
CREATED:20240830T192752Z
LAST-MODIFIED:20250326T122516Z
UID:8553-1727692200-1727695800@stmamom.com
SUMMARY:Preschool "Play & Learn" at the Library
DESCRIPTION:Encourage a love of learning as you and your child play\, explore\, discover\, count\, and create. Stations are set up for participants to come and go as time and attention span permits. Activities are designed for ages 1 to 5. No registration\, but room limits may be enforced.
URL:https://stmamom.com/event/preschool-play-learn-at-the-library/
LOCATION:St. Michael Public Library\, 11800 Town Center Dr NE\, St. Michael\, MN\, 55376\, United States
ATTACH;FMTTYPE=image/png:https://stmamom.com/wp-content/uploads/2024/08/library-play-learn-e1725046036166.png
END:VEVENT
BEGIN:VEVENT
DTSTART;TZID=America/Chicago:20241003T100000
DTEND;TZID=America/Chicago:20241003T103000
DTSTAMP:20260425T114136
CREATED:20240830T193848Z
LAST-MODIFIED:20250424T132124Z
UID:8565-1727949600-1727951400@stmamom.com
SUMMARY:ECFE Storytime at the Library
DESCRIPTION:Come hang out at the library with your friends from ECFE! A staff member from STMA’s Early Childhood program will lead storytime along with crafts\, games\, songs. This event is intended for ages 0 to 6 along with their parent or caregiver.
URL:https://stmamom.com/event/ecfe-storytime-at-the-library-2024-2024-10-03/
LOCATION:St. Michael Public Library\, 11800 Town Center Dr NE\, St. Michael\, MN\, 55376\, United States
ATTACH;FMTTYPE=image/jpeg:https://stmamom.com/wp-content/uploads/2021/04/ecfe-e1619575280453.jpg
END:VEVENT
BEGIN:VEVENT
DTSTART;TZID=America/Chicago:20241003T100000
DTEND;TZID=America/Chicago:20241003T113000
DTSTAMP:20260425T114136
CREATED:20240830T204814Z
LAST-MODIFIED:20250424T131347Z
UID:8598-1727949600-1727955000@stmamom.com
SUMMARY:Otsego Open Playtime
DESCRIPTION:Kids ages 5 & under are invited to play and meet new friends at Otsego’s Open Playtime. This drop-in program offers an open play session full of toys\, crafts\, active equipment\, and activities. Come for the whole time or stay while you can. (Parent/guardian supervision is required.) \nCost: $3/child at the door\, or pick up an 11-visit punchcard for $20 at https://otsego.recdesk.com\nPlease check Facebook for closures due to holidays or inclement weather:
URL:https://stmamom.com/event/otsego-open-playtime-2024-10-03/
LOCATION:Prairie Center\, 8899 Nashua Ave NE\, Otsego\, MN\, 55330\, United States
ATTACH;FMTTYPE=image/png:https://stmamom.com/wp-content/uploads/2021/04/otsego-parks-rec-e1619580266549.png
ORGANIZER;CN="Otsego Parks & Recreation":MAILTO:recreation@ci.otsego.mn.us
END:VEVENT
BEGIN:VEVENT
DTSTART;TZID=America/Chicago:20241003T160000
DTEND;TZID=America/Chicago:20241003T180000
DTSTAMP:20260425T114136
CREATED:20240920T001617Z
LAST-MODIFIED:20240920T001617Z
UID:8625-1727971200-1727978400@stmamom.com
SUMMARY:Albertville Lions Pumpkin Party
DESCRIPTION:Kids ages 10 & under are invited to join Albertville Lions for family-friendly fall fun in Central Park! Pumpkin games\, photos\, face painting\, balloon artist\, and more. Each kid will receive a free pumpkin while supplies last. \nAlso featuring the Brian Richards “Spooky\, Not Scary Show” from 4:45 to 5:45
URL:https://stmamom.com/event/albertville-lions-pumpkin-party-2024/
LOCATION:Albertville Central Park\, 5801 Main Ave NE\, Albertville\, MN\, 55301\, United States
END:VEVENT
BEGIN:VEVENT
DTSTART;TZID=America/Chicago:20241005T090000
DTEND;TZID=America/Chicago:20241005T120000
DTSTAMP:20260425T114136
CREATED:20230627T221107Z
LAST-MODIFIED:20260325T211843Z
UID:8581-1728118800-1728129600@stmamom.com
SUMMARY:Home Depot Kids Workshop
DESCRIPTION:Bring your kids to Home Depot to complete a free\, hands-on building project created with them in mind! Workshops take place the 1st Saturday of each month and vary by theme. \nFind out more information and register for the workshop at https://www.homedepot.com/c/kids
URL:https://stmamom.com/event/home-depot-kids-workshop-2024-10-05/
LOCATION:Home Depot\, 1385 E 7th Street\, Monticello\, MN\, 55362\, United States
ATTACH;FMTTYPE=image/png:https://stmamom.com/wp-content/uploads/2023/06/home-depot-e1691001383784.png
END:VEVENT
BEGIN:VEVENT
DTSTART;TZID=America/Chicago:20241005T100000
DTEND;TZID=America/Chicago:20241005T130000
DTSTAMP:20260425T114136
CREATED:20240925T172033Z
LAST-MODIFIED:20240925T172203Z
UID:8628-1728122400-1728133200@stmamom.com
SUMMARY:Fire Hall Open House
DESCRIPTION:Join the St. Michael Fire Department for its annual open house! Meet local firefighters\, check out the trucks\, meet firehouse dog Stanley Potatoes\, and enjoy some free food.
URL:https://stmamom.com/event/fire-hall-open-house/
LOCATION:St. Michael Fire Department\, 216 Main Street South\, St. Michael\, MN\, 55376\, United States
ATTACH;FMTTYPE=image/png:https://stmamom.com/wp-content/uploads/2021/05/stmichael.png
ORGANIZER;CN="City of St. Michael":MAILTO:cityhall@ci.st-michael.mn.us
END:VEVENT
BEGIN:VEVENT
DTSTART;TZID=America/Chicago:20241005T110000
DTEND;TZID=America/Chicago:20241005T140000
DTSTAMP:20260425T114136
CREATED:20240927T202513Z
LAST-MODIFIED:20240927T202513Z
UID:8643-1728126000-1728136800@stmamom.com
SUMMARY:Harvest Festival at Northwest Bible Church
DESCRIPTION:Join Northwest Bible Church for a free community event featuring inflatables\, live music\, pumpkin painting\, yard games and more.\n\nFood will be available for purchase\, and the first 100 guests will receive a free scoop of What’s the Scoop ice cream!
URL:https://stmamom.com/event/harvest-festival-at-northwest-bible-church/
LOCATION:Northwest Bible Church\, 4343 Edgewood Dr NE\, St. Michael\, MN\, 55369\, United States
END:VEVENT
BEGIN:VEVENT
DTSTART;TZID=America/Chicago:20241007T100000
DTEND;TZID=America/Chicago:20241007T113000
DTSTAMP:20260425T114136
CREATED:20240830T204814Z
LAST-MODIFIED:20250424T131347Z
UID:8599-1728295200-1728300600@stmamom.com
SUMMARY:Otsego Open Playtime
DESCRIPTION:Kids ages 5 & under are invited to play and meet new friends at Otsego’s Open Playtime. This drop-in program offers an open play session full of toys\, crafts\, active equipment\, and activities. Come for the whole time or stay while you can. (Parent/guardian supervision is required.) \nCost: $3/child at the door\, or pick up an 11-visit punchcard for $20 at https://otsego.recdesk.com\nPlease check Facebook for closures due to holidays or inclement weather:
URL:https://stmamom.com/event/otsego-open-playtime-2024-10-07/
LOCATION:Prairie Center\, 8899 Nashua Ave NE\, Otsego\, MN\, 55330\, United States
ATTACH;FMTTYPE=image/png:https://stmamom.com/wp-content/uploads/2021/04/otsego-parks-rec-e1619580266549.png
ORGANIZER;CN="Otsego Parks & Recreation":MAILTO:recreation@ci.otsego.mn.us
END:VEVENT
BEGIN:VEVENT
DTSTART;TZID=America/Chicago:20241007T103000
DTEND;TZID=America/Chicago:20241007T110000
DTSTAMP:20260425T114136
CREATED:20240830T191216Z
LAST-MODIFIED:20250424T131958Z
UID:8675-1728297000-1728298800@stmamom.com
SUMMARY:Library Storytime
DESCRIPTION:Start your week out right… at the library! Share books\, songs\, and rhymes with your children at this storytime designed to promote school readiness in 0- to 5-year-olds. Librarians\, caregivers\, and children will sing\, talk\, read\, write\, and play together to build early literacy skills. Siblings are also welcome.
URL:https://stmamom.com/event/library-storytime-2024-2024-10-07/
LOCATION:St. Michael Public Library\, 11800 Town Center Dr NE\, St. Michael\, MN\, 55376\, United States
ATTACH;FMTTYPE=image/jpeg:https://stmamom.com/wp-content/uploads/2024/08/storytime-e1725045078975.jpg
END:VEVENT
BEGIN:VEVENT
DTSTART;TZID=America/Chicago:20241009T100000
DTEND;TZID=America/Chicago:20241009T104500
DTSTAMP:20260425T114136
CREATED:20241001T003805Z
LAST-MODIFIED:20241001T003805Z
UID:8661-1728468000-1728470700@stmamom.com
SUMMARY:Music Therapy for Tots
DESCRIPTION:An introductory session for parents and children ages 2 to 5 to learn about music therapy intervention as designed by a board-certified music therapist. Session will include quick and easy songs and activities that harness the power of music to address developmental goals such as physical\, social\, behavioral\, and cognitive skills. \nThis event is free\, but space is limited. Please pre-register online at events.griver.org/event/12957065
URL:https://stmamom.com/event/music-therapy-for-tots-2/
LOCATION:St. Michael Public Library\, 11800 Town Center Dr NE\, St. Michael\, MN\, 55376\, United States
ATTACH;FMTTYPE=image/jpeg:https://stmamom.com/wp-content/uploads/2019/09/st-michael-library.jpg
END:VEVENT
BEGIN:VEVENT
DTSTART;TZID=America/Chicago:20241010T100000
DTEND;TZID=America/Chicago:20241010T103000
DTSTAMP:20260425T114136
CREATED:20240830T193848Z
LAST-MODIFIED:20250424T132124Z
UID:8566-1728554400-1728556200@stmamom.com
SUMMARY:ECFE Storytime at the Library
DESCRIPTION:Come hang out at the library with your friends from ECFE! A staff member from STMA’s Early Childhood program will lead storytime along with crafts\, games\, songs. This event is intended for ages 0 to 6 along with their parent or caregiver.
URL:https://stmamom.com/event/ecfe-storytime-at-the-library-2024-2024-10-10/
LOCATION:St. Michael Public Library\, 11800 Town Center Dr NE\, St. Michael\, MN\, 55376\, United States
ATTACH;FMTTYPE=image/jpeg:https://stmamom.com/wp-content/uploads/2021/04/ecfe-e1619575280453.jpg
END:VEVENT
BEGIN:VEVENT
DTSTART;TZID=America/Chicago:20241010T100000
DTEND;TZID=America/Chicago:20241010T113000
DTSTAMP:20260425T114136
CREATED:20240830T204814Z
LAST-MODIFIED:20250424T131348Z
UID:8600-1728554400-1728559800@stmamom.com
SUMMARY:Otsego Open Playtime
DESCRIPTION:Kids ages 5 & under are invited to play and meet new friends at Otsego’s Open Playtime. This drop-in program offers an open play session full of toys\, crafts\, active equipment\, and activities. Come for the whole time or stay while you can. (Parent/guardian supervision is required.) \nCost: $3/child at the door\, or pick up an 11-visit punchcard for $20 at https://otsego.recdesk.com\nPlease check Facebook for closures due to holidays or inclement weather:
URL:https://stmamom.com/event/otsego-open-playtime-2024-10-10/
LOCATION:Prairie Center\, 8899 Nashua Ave NE\, Otsego\, MN\, 55330\, United States
ATTACH;FMTTYPE=image/png:https://stmamom.com/wp-content/uploads/2021/04/otsego-parks-rec-e1619580266549.png
ORGANIZER;CN="Otsego Parks & Recreation":MAILTO:recreation@ci.otsego.mn.us
END:VEVENT
BEGIN:VEVENT
DTSTART;TZID=America/Chicago:20241010T183000
DTEND;TZID=America/Chicago:20241010T193000
DTSTAMP:20260425T114136
CREATED:20240830T202625Z
LAST-MODIFIED:20241030T213626Z
UID:8578-1728585000-1728588600@stmamom.com
SUMMARY:FYCC Halloween Family Bingo
DESCRIPTION:Join FYCC for a fun night of Bingo! Have fun with your family and win some great prizes. \nCost $20/family (includes grandparents) Register online at myfycc.com
URL:https://stmamom.com/event/fycc-family-bingo-2024/
LOCATION:Albertville City Hall\, 5959 Main Ave NE\, Albertville\, MN\, 55301\, United States
ATTACH;FMTTYPE=image/png:https://stmamom.com/wp-content/uploads/2021/04/fycc-e1697061396286.png
ORGANIZER;CN="FYCC":MAILTO:FYCCinformation@gmail.com
END:VEVENT
BEGIN:VEVENT
DTSTART;TZID=America/Chicago:20241011T180000
DTEND;TZID=America/Chicago:20241011T200000
DTSTAMP:20260425T114136
CREATED:20240927T211955Z
LAST-MODIFIED:20240927T211955Z
UID:8651-1728669600-1728676800@stmamom.com
SUMMARY:Pirates & Princesses Party
DESCRIPTION:Calling all kids! Join Albertville Royalty for this year’s Pirates and Princesses Party. Come in your favorite princess dress\, pirate costume\, or outfit of your choice to enjoy games\, crafts\, and snacks.\n\nCost: $5 per child (parents free)\nPlease RSVP by October 4 at facebook.com/events/537022752049120
URL:https://stmamom.com/event/pirates-princesses-party/
LOCATION:Albertville City Hall\, 5959 Main Ave NE\, Albertville\, MN\, 55301\, United States
ORGANIZER;CN="Albertville Royalty":MAILTO:albertvilleroyalty.events@gmail.com
END:VEVENT
BEGIN:VEVENT
DTSTART;TZID=America/Chicago:20241012T100000
DTEND;TZID=America/Chicago:20241012T120000
DTSTAMP:20260425T114136
CREATED:20240927T185141Z
LAST-MODIFIED:20240927T185300Z
UID:8634-1728727200-1728734400@stmamom.com
SUMMARY:Otsego Pumpkin Patch
DESCRIPTION:Kids\, dress in your Halloween costumes and walk along the friendly Pumpkin Patch Trail in Prairie Park\, where there will be fun stops for trick-or-treating. At the end kids will be given a pumpkin to take home. Please bring a non-perishable food item for CAER. \nRegistration is required to participate and guarantee a pumpkin\, one pumpkin per child. Space is limited\, so please register early.\n10-11 time slot: otsego.recdesk.com/Community/Program/Detail?programId=1692\n11-12 time slot: otsego.recdesk.com/Community/Program/Detail?programId=1693
URL:https://stmamom.com/event/otsego-pumpkin-patch-2024/
LOCATION:Prairie Park\, Otsego\, 13355 90th Street NE\, Otsego\, MN\, 55330\, United States
ATTACH;FMTTYPE=image/png:https://stmamom.com/wp-content/uploads/2021/04/otsego-parks-rec-e1619580266549.png
ORGANIZER;CN="Otsego Parks & Recreation":MAILTO:recreation@ci.otsego.mn.us
END:VEVENT
BEGIN:VEVENT
DTSTART;TZID=America/Chicago:20241014T100000
DTEND;TZID=America/Chicago:20241014T113000
DTSTAMP:20260425T114136
CREATED:20240830T204814Z
LAST-MODIFIED:20250424T131354Z
UID:8601-1728900000-1728905400@stmamom.com
SUMMARY:Otsego Open Playtime
DESCRIPTION:Kids ages 5 & under are invited to play and meet new friends at Otsego’s Open Playtime. This drop-in program offers an open play session full of toys\, crafts\, active equipment\, and activities. Come for the whole time or stay while you can. (Parent/guardian supervision is required.) \nCost: $3/child at the door\, or pick up an 11-visit punchcard for $20 at https://otsego.recdesk.com\nPlease check Facebook for closures due to holidays or inclement weather:
URL:https://stmamom.com/event/otsego-open-playtime-2024-10-14/
LOCATION:Prairie Center\, 8899 Nashua Ave NE\, Otsego\, MN\, 55330\, United States
ATTACH;FMTTYPE=image/png:https://stmamom.com/wp-content/uploads/2021/04/otsego-parks-rec-e1619580266549.png
ORGANIZER;CN="Otsego Parks & Recreation":MAILTO:recreation@ci.otsego.mn.us
END:VEVENT
BEGIN:VEVENT
DTSTART;TZID=America/Chicago:20241014T103000
DTEND;TZID=America/Chicago:20241014T110000
DTSTAMP:20260425T114136
CREATED:20240830T191216Z
LAST-MODIFIED:20250424T131958Z
UID:8676-1728901800-1728903600@stmamom.com
SUMMARY:Library Storytime
DESCRIPTION:Start your week out right… at the library! Share books\, songs\, and rhymes with your children at this storytime designed to promote school readiness in 0- to 5-year-olds. Librarians\, caregivers\, and children will sing\, talk\, read\, write\, and play together to build early literacy skills. Siblings are also welcome.
URL:https://stmamom.com/event/library-storytime-2024-2024-10-14/
LOCATION:St. Michael Public Library\, 11800 Town Center Dr NE\, St. Michael\, MN\, 55376\, United States
ATTACH;FMTTYPE=image/jpeg:https://stmamom.com/wp-content/uploads/2024/08/storytime-e1725045078975.jpg
END:VEVENT
BEGIN:VEVENT
DTSTART;TZID=America/Chicago:20241015T180000
DTEND;TZID=America/Chicago:20241015T200000
DTSTAMP:20260425T114136
CREATED:20240927T212351Z
LAST-MODIFIED:20240927T212351Z
UID:8653-1729015200-1729022400@stmamom.com
SUMMARY:Nerf Night at Avery's Adventures
DESCRIPTION:Join Avery’s Adventures for a spooktacular\, Halloween-themed Nerf Night! Bring your favorite Nerf Gun. They’ll provide the Nerf bullets\, safety glasses\, and fun targets. Costumes are highly suggested for the October event!\n\nCost: $13/child\, adults free\n\nSign up by emailing averysadventuresmn@gmail.com\nSet up an account through the Avery’s Adventures app for waiver and to facilitate payment at the door
URL:https://stmamom.com/event/nerf-night-at-averys-adventures-2/
LOCATION:Avery’s Adventures\, 19138 Freeport St NW\, Elk River\, MN\, 55330\, United States
END:VEVENT
BEGIN:VEVENT
DTSTART;VALUE=DATE:20241017
DTEND;VALUE=DATE:20241020
DTSTAMP:20260425T114136
CREATED:20240830T193050Z
LAST-MODIFIED:20240830T193050Z
UID:8558-1729123200-1729382399@stmamom.com
SUMMARY:NO SCHOOL (MEA Break)
DESCRIPTION:
URL:https://stmamom.com/event/no-school-mea-break/
LOCATION:MN
END:VEVENT
BEGIN:VEVENT
DTSTART;TZID=America/Chicago:20241017T100000
DTEND;TZID=America/Chicago:20241017T103000
DTSTAMP:20260425T114136
CREATED:20240830T193848Z
LAST-MODIFIED:20250424T132125Z
UID:8707-1729159200-1729161000@stmamom.com
SUMMARY:ECFE Storytime at the Library
DESCRIPTION:Come hang out at the library with your friends from ECFE! A staff member from STMA’s Early Childhood program will lead storytime along with crafts\, games\, songs. This event is intended for ages 0 to 6 along with their parent or caregiver.
URL:https://stmamom.com/event/ecfe-storytime-at-the-library-2024-2024-10-17/
LOCATION:St. Michael Public Library\, 11800 Town Center Dr NE\, St. Michael\, MN\, 55376\, United States
ATTACH;FMTTYPE=image/jpeg:https://stmamom.com/wp-content/uploads/2021/04/ecfe-e1619575280453.jpg
END:VEVENT
BEGIN:VEVENT
DTSTART;TZID=America/Chicago:20241017T100000
DTEND;TZID=America/Chicago:20241017T113000
DTSTAMP:20260425T114136
CREATED:20240830T204814Z
LAST-MODIFIED:20250424T131355Z
UID:8602-1729159200-1729164600@stmamom.com
SUMMARY:Otsego Open Playtime
DESCRIPTION:Kids ages 5 & under are invited to play and meet new friends at Otsego’s Open Playtime. This drop-in program offers an open play session full of toys\, crafts\, active equipment\, and activities. Come for the whole time or stay while you can. (Parent/guardian supervision is required.) \nCost: $3/child at the door\, or pick up an 11-visit punchcard for $20 at https://otsego.recdesk.com\nPlease check Facebook for closures due to holidays or inclement weather:
URL:https://stmamom.com/event/otsego-open-playtime-2024-10-17/
LOCATION:Prairie Center\, 8899 Nashua Ave NE\, Otsego\, MN\, 55330\, United States
ATTACH;FMTTYPE=image/png:https://stmamom.com/wp-content/uploads/2021/04/otsego-parks-rec-e1619580266549.png
ORGANIZER;CN="Otsego Parks & Recreation":MAILTO:recreation@ci.otsego.mn.us
END:VEVENT
BEGIN:VEVENT
DTSTART;TZID=America/Chicago:20241017T120000
DTEND;TZID=America/Chicago:20241017T131500
DTSTAMP:20260425T114136
CREATED:20241017T220819Z
LAST-MODIFIED:20241017T220819Z
UID:8702-1729166400-1729170900@stmamom.com
SUMMARY:Open Skate at STMA Ice Arena
DESCRIPTION:Bring your skates and drop in to STMA Ice Arena for open skating during MEA Break! \nCost: $5/skater
URL:https://stmamom.com/event/open-skate-at-stma-ice-arena/
LOCATION:STMA Ice Arena\, 5898 Lachman Ave NE\, Albertville\, MN\, 55301\, United States
END:VEVENT
BEGIN:VEVENT
DTSTART;TZID=America/Chicago:20241017T170000
DTEND;TZID=America/Chicago:20241017T180000
DTSTAMP:20260425T114136
CREATED:20240830T194317Z
LAST-MODIFIED:20260325T212538Z
UID:8571-1729184400-1729188000@stmamom.com
SUMMARY:LEGO Fun at the Library
DESCRIPTION:School-age kids are invited to show off their LEGO building skills! The library will provide the bricks\, you provide the imagination. Come meet with other builders and have some fun.
URL:https://stmamom.com/event/lego-fun-at-the-library-2024-10-17/
LOCATION:St. Michael Public Library\, 11800 Town Center Dr NE\, St. Michael\, MN\, 55376\, United States
ATTACH;FMTTYPE=image/jpeg:https://stmamom.com/wp-content/uploads/2024/08/lego-scaled.jpg
END:VEVENT
BEGIN:VEVENT
DTSTART;TZID=America/Chicago:20241017T173000
DTEND;TZID=America/Chicago:20241017T183000
DTSTAMP:20260425T114136
CREATED:20240927T192817Z
LAST-MODIFIED:20240927T192817Z
UID:8641-1729186200-1729189800@stmamom.com
SUMMARY:PeekabooBOO's Halloween Bash
DESCRIPTION:Prepare for a spook-tacular evening your little ones will love at Peekabooboo’s Play Cafe! You and your littles are invited to dress in your favorite costumes for a night filled with games\, treats\, and tons of festive fun.\n\nCost: $23/child ages 1 to 8\n(Parents/caregivers and children ages 9 and up are free) \nRegistration required: \nhttps://peekabooboosplaycafe.as.me/schedule.php?appointmentType=67988338
URL:https://stmamom.com/event/peekabooboos-halloween-bash/
LOCATION:Peekabooboo’s Play Cafe\, 5985 Large Ave NE\, Albertville\, MN\, 55301\, United States
END:VEVENT
BEGIN:VEVENT
DTSTART;TZID=America/Chicago:20241018T120000
DTEND;TZID=America/Chicago:20241018T131500
DTSTAMP:20260425T114136
CREATED:20241017T220819Z
LAST-MODIFIED:20241017T220819Z
UID:8704-1729252800-1729257300@stmamom.com
SUMMARY:Open Skate at STMA Ice Arena
DESCRIPTION:Bring your skates and drop in to STMA Ice Arena for open skating during MEA Break! \nCost: $5/skater
URL:https://stmamom.com/event/open-skate-at-stma-ice-arena-2024-10-18/
LOCATION:STMA Ice Arena\, 5898 Lachman Ave NE\, Albertville\, MN\, 55301\, United States
END:VEVENT
END:VCALENDAR