BEGIN:VCALENDAR
VERSION:2.0
PRODID:-//STMAmom.com - ECPv6.15.16.1//NONSGML v1.0//EN
CALSCALE:GREGORIAN
METHOD:PUBLISH
X-WR-CALNAME:STMAmom.com
X-ORIGINAL-URL:https://stmamom.com
X-WR-CALDESC:Events for STMAmom.com
REFRESH-INTERVAL;VALUE=DURATION:PT1H
X-Robots-Tag:noindex
X-PUBLISHED-TTL:PT1H
BEGIN:VTIMEZONE
TZID:America/Chicago
BEGIN:DAYLIGHT
TZOFFSETFROM:-0600
TZOFFSETTO:-0500
TZNAME:CDT
DTSTART:20250309T080000
END:DAYLIGHT
BEGIN:STANDARD
TZOFFSETFROM:-0500
TZOFFSETTO:-0600
TZNAME:CST
DTSTART:20251102T070000
END:STANDARD
BEGIN:DAYLIGHT
TZOFFSETFROM:-0600
TZOFFSETTO:-0500
TZNAME:CDT
DTSTART:20260308T080000
END:DAYLIGHT
BEGIN:STANDARD
TZOFFSETFROM:-0500
TZOFFSETTO:-0600
TZNAME:CST
DTSTART:20261101T070000
END:STANDARD
BEGIN:DAYLIGHT
TZOFFSETFROM:-0600
TZOFFSETTO:-0500
TZNAME:CDT
DTSTART:20270314T080000
END:DAYLIGHT
BEGIN:STANDARD
TZOFFSETFROM:-0500
TZOFFSETTO:-0600
TZNAME:CST
DTSTART:20271107T070000
END:STANDARD
END:VTIMEZONE
BEGIN:VEVENT
DTSTART;TZID=America/Chicago:20260103T090000
DTEND;TZID=America/Chicago:20260103T120000
DTSTAMP:20260423T192457
CREATED:20230627T221107Z
LAST-MODIFIED:20260325T211849Z
UID:10044-1767430800-1767441600@stmamom.com
SUMMARY:Home Depot Kids Workshop
DESCRIPTION:Bring your kids to Home Depot to complete a free\, hands-on building project created with them in mind! Workshops take place the 1st Saturday of each month and vary by theme. \nFind out more information and register for the workshop at https://www.homedepot.com/c/kids
URL:https://stmamom.com/event/home-depot-kids-workshop-2026-01-03/
LOCATION:Home Depot\, 1385 E 7th Street\, Monticello\, MN\, 55362\, United States
ATTACH;FMTTYPE=image/png:https://stmamom.com/wp-content/uploads/2023/06/home-depot-e1691001383784.png
END:VEVENT
BEGIN:VEVENT
DTSTART;TZID=America/Chicago:20260105T100000
DTEND;TZID=America/Chicago:20260105T113000
DTSTAMP:20260423T192457
CREATED:20250827T152548Z
LAST-MODIFIED:20260325T211911Z
UID:9955-1767607200-1767612600@stmamom.com
SUMMARY:Otsego Open Playtime
DESCRIPTION:Kids ages 5 & under are invited to play and meet new friends at Otsego’s Open Playtime. This drop-in program offers an open play session full of toys\, crafts\, active equipment\, and activities. Come for the whole time or stay while you can. (Parent/guardian supervision is required.) \nCost: $3/child at the door\, or pick up a punch pass!\nPlease check Facebook for closures due to holidays or inclement weather: \nNot meeting October 30\, November 27\, December 25\, January 19 and February 16\nLast day is Thursday\, May 14
URL:https://stmamom.com/event/otsego-open-playtime-2025-2026-01-05/
LOCATION:Prairie Center\, 8899 Nashua Ave NE\, Otsego\, MN\, 55330\, United States
ATTACH;FMTTYPE=image/png:https://stmamom.com/wp-content/uploads/2021/04/otsego-parks-rec-e1619580266549.png
ORGANIZER;CN="Otsego Parks & Recreation":MAILTO:recreation@ci.otsego.mn.us
END:VEVENT
BEGIN:VEVENT
DTSTART;TZID=America/Chicago:20260105T103000
DTEND;TZID=America/Chicago:20260105T110000
DTSTAMP:20260423T192457
CREATED:20250827T140359Z
LAST-MODIFIED:20260325T212107Z
UID:9934-1767609000-1767610800@stmamom.com
SUMMARY:Library Storytime
DESCRIPTION:Start your week out right… at the library! Share books\, songs\, and rhymes with your children at this storytime designed to promote school readiness in 0- to 6-year-olds. Librarians\, caregivers\, and children will sing\, talk\, read\, write\, and play together to build early literacy skills. Siblings are also welcome.
URL:https://stmamom.com/event/library-storytime-2025-2026-01-05/
LOCATION:St. Michael Public Library\, 11800 Town Center Dr NE\, St. Michael\, MN\, 55376\, United States
ATTACH;FMTTYPE=image/jpeg:https://stmamom.com/wp-content/uploads/2024/08/storytime-e1725045078975.jpg
END:VEVENT
BEGIN:VEVENT
DTSTART;TZID=America/Chicago:20260108T100000
DTEND;TZID=America/Chicago:20260108T103000
DTSTAMP:20260423T192457
CREATED:20250827T141326Z
LAST-MODIFIED:20260325T212155Z
UID:9947-1767866400-1767868200@stmamom.com
SUMMARY:ECFE Storytime at the Library
DESCRIPTION:Come hang out at the library with your friends from ECFE! A staff member from STMA’s Early Childhood program will lead storytime along with crafts\, games\, songs. This event is intended for ages 0 to 6 along with their parent or caregiver.
URL:https://stmamom.com/event/ecfe-storytime-at-the-library-2-2026-01-08/
LOCATION:St. Michael Public Library\, 11800 Town Center Dr NE\, St. Michael\, MN\, 55376\, United States
ATTACH;FMTTYPE=image/jpeg:https://stmamom.com/wp-content/uploads/2021/04/ecfe-e1619575280453.jpg
END:VEVENT
BEGIN:VEVENT
DTSTART;TZID=America/Chicago:20260108T100000
DTEND;TZID=America/Chicago:20260108T113000
DTSTAMP:20260423T192457
CREATED:20250827T152548Z
LAST-MODIFIED:20260325T211911Z
UID:9956-1767866400-1767871800@stmamom.com
SUMMARY:Otsego Open Playtime
DESCRIPTION:Kids ages 5 & under are invited to play and meet new friends at Otsego’s Open Playtime. This drop-in program offers an open play session full of toys\, crafts\, active equipment\, and activities. Come for the whole time or stay while you can. (Parent/guardian supervision is required.) \nCost: $3/child at the door\, or pick up a punch pass!\nPlease check Facebook for closures due to holidays or inclement weather: \nNot meeting October 30\, November 27\, December 25\, January 19 and February 16\nLast day is Thursday\, May 14
URL:https://stmamom.com/event/otsego-open-playtime-2025-2026-01-08/
LOCATION:Prairie Center\, 8899 Nashua Ave NE\, Otsego\, MN\, 55330\, United States
ATTACH;FMTTYPE=image/png:https://stmamom.com/wp-content/uploads/2021/04/otsego-parks-rec-e1619580266549.png
ORGANIZER;CN="Otsego Parks & Recreation":MAILTO:recreation@ci.otsego.mn.us
END:VEVENT
BEGIN:VEVENT
DTSTART;TZID=America/Chicago:20260108T180000
DTEND;TZID=America/Chicago:20260108T190000
DTSTAMP:20260423T192457
CREATED:20260105T210846Z
LAST-MODIFIED:20260105T210846Z
UID:9930-1767895200-1767898800@stmamom.com
SUMMARY:Dome Night
DESCRIPTION:Join your friends from ECFE for Dome Night\, a fantastic evening of fun for the whole family at the STMA Multipurpose Facility! Designed for children ages 8 and under\, this event features an array of inflatables and age-appropriate toys that will keep your little ones active and entertained. Come bounce\, slide\, and play in a safe and exciting environment\, where families can enjoy quality time together and socialize with other families while letting the kids burn off some energy! \nCost: $5/family\nRegister & pay online at https://stma.ce.eleyo.com/course/ecfe/7389/fall-2025%E2%80%941/ecfe-dome-nights
URL:https://stmamom.com/event/dome-night-2/
LOCATION:STMA High School\, 5800 Jamison Ave NE\, St. Michael\, MN\, 55376\, United States
ATTACH;FMTTYPE=image/jpeg:https://stmamom.com/wp-content/uploads/2018/11/stmadome.jpg
END:VEVENT
BEGIN:VEVENT
DTSTART;TZID=America/Chicago:20260108T180000
DTEND;TZID=America/Chicago:20260108T200000
DTSTAMP:20260423T192457
CREATED:20260105T211536Z
LAST-MODIFIED:20260105T211536Z
UID:9941-1767895200-1767902400@stmamom.com
SUMMARY:Preschool Fair
DESCRIPTION:Parents of future preschoolers are invited to join MOMS Club of St. Michael\, Albertville & Hanover for a FREE community fair featuring local preschools and child-focused businesses. Meet with representatives from preschools in St. Michael-Albertville and the surrounding area to find out which school might be right for your little learner. \n  \n \n 
URL:https://stmamom.com/event/preschool-fair-4/
LOCATION:St. Michael City Hall\, 11800 Town Center Drive\, St. Michael\, MN\, 55376\, United States
ORGANIZER;CN="MOMS Club of St. Michael-Albertville-Hanover":MAILTO:momsclubstmh@gmail.com
END:VEVENT
BEGIN:VEVENT
DTSTART;TZID=America/Chicago:20260109T081500
DTEND;TZID=America/Chicago:20260109T101500
DTSTAMP:20260423T192457
CREATED:20260105T210622Z
LAST-MODIFIED:20260105T210622Z
UID:9919-1767946500-1767953700@stmamom.com
SUMMARY:ECFE Dome Day
DESCRIPTION:Kids ages 6 and under are invited to run and play with friends at the STMA Dome from December 4 through March 20 on alternating Thursdays & Friday mornings. The cost is just $2 per child (max $5 per family)\, payable by cash at the door. No registration required.
URL:https://stmamom.com/event/ecfe-dome-day-2026-2026-01-09/
LOCATION:STMA High School\, 5800 Jamison Ave NE\, St. Michael\, MN\, 55376\, United States
ATTACH;FMTTYPE=image/jpeg:https://stmamom.com/wp-content/uploads/2018/11/stmadome.jpg
END:VEVENT
BEGIN:VEVENT
DTSTART;TZID=America/Chicago:20260110T103000
DTEND;TZID=America/Chicago:20260110T113000
DTSTAMP:20260423T192457
CREATED:20250827T144925Z
LAST-MODIFIED:20250827T144925Z
UID:9952-1768041000-1768044600@stmamom.com
SUMMARY:Family Storytime
DESCRIPTION:This fun family storytime is aimed at welcoming new families to the library. It includes songs\, rhymes and stories that celebrate reading\, books and using the library as a family. For children of all ages and their families.
URL:https://stmamom.com/event/family-storytime-2025-2026-01-10/
LOCATION:St. Michael Public Library\, 11800 Town Center Dr NE\, St. Michael\, MN\, 55376\, United States
ATTACH;FMTTYPE=image/jpeg:https://stmamom.com/wp-content/uploads/2019/09/st-michael-library.jpg
END:VEVENT
BEGIN:VEVENT
DTSTART;TZID=America/Chicago:20260112T100000
DTEND;TZID=America/Chicago:20260112T113000
DTSTAMP:20260423T192457
CREATED:20250827T152548Z
LAST-MODIFIED:20260325T211911Z
UID:9957-1768212000-1768217400@stmamom.com
SUMMARY:Otsego Open Playtime
DESCRIPTION:Kids ages 5 & under are invited to play and meet new friends at Otsego’s Open Playtime. This drop-in program offers an open play session full of toys\, crafts\, active equipment\, and activities. Come for the whole time or stay while you can. (Parent/guardian supervision is required.) \nCost: $3/child at the door\, or pick up a punch pass!\nPlease check Facebook for closures due to holidays or inclement weather: \nNot meeting October 30\, November 27\, December 25\, January 19 and February 16\nLast day is Thursday\, May 14
URL:https://stmamom.com/event/otsego-open-playtime-2025-2026-01-12/
LOCATION:Prairie Center\, 8899 Nashua Ave NE\, Otsego\, MN\, 55330\, United States
ATTACH;FMTTYPE=image/png:https://stmamom.com/wp-content/uploads/2021/04/otsego-parks-rec-e1619580266549.png
ORGANIZER;CN="Otsego Parks & Recreation":MAILTO:recreation@ci.otsego.mn.us
END:VEVENT
BEGIN:VEVENT
DTSTART;TZID=America/Chicago:20260112T103000
DTEND;TZID=America/Chicago:20260112T110000
DTSTAMP:20260423T192457
CREATED:20250827T140359Z
LAST-MODIFIED:20260325T212107Z
UID:9935-1768213800-1768215600@stmamom.com
SUMMARY:Library Storytime
DESCRIPTION:Start your week out right… at the library! Share books\, songs\, and rhymes with your children at this storytime designed to promote school readiness in 0- to 6-year-olds. Librarians\, caregivers\, and children will sing\, talk\, read\, write\, and play together to build early literacy skills. Siblings are also welcome.
URL:https://stmamom.com/event/library-storytime-2025-2026-01-12/
LOCATION:St. Michael Public Library\, 11800 Town Center Dr NE\, St. Michael\, MN\, 55376\, United States
ATTACH;FMTTYPE=image/jpeg:https://stmamom.com/wp-content/uploads/2024/08/storytime-e1725045078975.jpg
END:VEVENT
BEGIN:VEVENT
DTSTART;TZID=America/Chicago:20260115T081500
DTEND;TZID=America/Chicago:20260115T101500
DTSTAMP:20260423T192457
CREATED:20260105T210622Z
LAST-MODIFIED:20260105T210622Z
UID:9920-1768464900-1768472100@stmamom.com
SUMMARY:ECFE Dome Day
DESCRIPTION:Kids ages 6 and under are invited to run and play with friends at the STMA Dome from December 4 through March 20 on alternating Thursdays & Friday mornings. The cost is just $2 per child (max $5 per family)\, payable by cash at the door. No registration required.
URL:https://stmamom.com/event/ecfe-dome-day-2026-2026-01-15/
LOCATION:STMA High School\, 5800 Jamison Ave NE\, St. Michael\, MN\, 55376\, United States
ATTACH;FMTTYPE=image/jpeg:https://stmamom.com/wp-content/uploads/2018/11/stmadome.jpg
END:VEVENT
BEGIN:VEVENT
DTSTART;TZID=America/Chicago:20260115T100000
DTEND;TZID=America/Chicago:20260115T113000
DTSTAMP:20260423T192457
CREATED:20250827T152548Z
LAST-MODIFIED:20260325T211911Z
UID:9958-1768471200-1768476600@stmamom.com
SUMMARY:Otsego Open Playtime
DESCRIPTION:Kids ages 5 & under are invited to play and meet new friends at Otsego’s Open Playtime. This drop-in program offers an open play session full of toys\, crafts\, active equipment\, and activities. Come for the whole time or stay while you can. (Parent/guardian supervision is required.) \nCost: $3/child at the door\, or pick up a punch pass!\nPlease check Facebook for closures due to holidays or inclement weather: \nNot meeting October 30\, November 27\, December 25\, January 19 and February 16\nLast day is Thursday\, May 14
URL:https://stmamom.com/event/otsego-open-playtime-2025-2026-01-15/
LOCATION:Prairie Center\, 8899 Nashua Ave NE\, Otsego\, MN\, 55330\, United States
ATTACH;FMTTYPE=image/png:https://stmamom.com/wp-content/uploads/2021/04/otsego-parks-rec-e1619580266549.png
ORGANIZER;CN="Otsego Parks & Recreation":MAILTO:recreation@ci.otsego.mn.us
END:VEVENT
BEGIN:VEVENT
DTSTART;TZID=America/Chicago:20260115T101500
DTEND;TZID=America/Chicago:20260115T114500
DTSTAMP:20260423T192457
CREATED:20250903T180906Z
LAST-MODIFIED:20250903T180906Z
UID:10034-1768472100-1768477500@stmamom.com
SUMMARY:ECFE Drop In & Play
DESCRIPTION:Drop in and play with your friends at ECFE! This monthly drop-in class offers young children and their caregivers a relaxed\, unstructured setting for connection and play. With no formal activities\, the focus is on creativity\, curiosity\, and making memories! \nFall Dates: September 18\, October 2 & 30\, November 13\, December 4\nWinter/Spring Dates: January 15 & 29\, February 12 & 26\, March 12\, April 16\, May 14 \nLocation: Community Education room #203\nCost: $2 per child / max $5/family (no preregistration required)
URL:https://stmamom.com/event/ecfe-drop-in-play-2025-2026-01-15/
LOCATION:STMA Community Education Building\, 60 Central Avenue W\, St. Michael\, MN\, 55376\, United States
ATTACH;FMTTYPE=image/jpeg:https://stmamom.com/wp-content/uploads/2021/04/ecfe-e1619575280453.jpg
END:VEVENT
BEGIN:VEVENT
DTSTART;TZID=America/Chicago:20260115T170000
DTEND;TZID=America/Chicago:20260115T180000
DTSTAMP:20260423T192457
CREATED:20240830T194317Z
LAST-MODIFIED:20260325T212543Z
UID:10054-1768496400-1768500000@stmamom.com
SUMMARY:LEGO Fun at the Library
DESCRIPTION:School-age kids are invited to show off their LEGO building skills! The library will provide the bricks\, you provide the imagination. Come meet with other builders and have some fun.
URL:https://stmamom.com/event/lego-fun-at-the-library-2026-01-15/
LOCATION:St. Michael Public Library\, 11800 Town Center Dr NE\, St. Michael\, MN\, 55376\, United States
ATTACH;FMTTYPE=image/jpeg:https://stmamom.com/wp-content/uploads/2024/08/lego-scaled.jpg
END:VEVENT
BEGIN:VEVENT
DTSTART;VALUE=DATE:20260119
DTEND;VALUE=DATE:20260120
DTSTAMP:20260423T192457
CREATED:20260105T215545Z
LAST-MODIFIED:20260105T215734Z
UID:10024-1768780800-1768867199@stmamom.com
SUMMARY:NO SCHOOL STMA (MLK)
DESCRIPTION:
URL:https://stmamom.com/event/martin-luther-king-day/
LOCATION:MN
END:VEVENT
BEGIN:VEVENT
DTSTART;TZID=America/Chicago:20260120T140000
DTEND;TZID=America/Chicago:20260120T190000
DTSTAMP:20260423T192457
CREATED:20250827T144229Z
LAST-MODIFIED:20250827T144229Z
UID:10057-1768917600-1768935600@stmamom.com
SUMMARY:Library Sensory Stations
DESCRIPTION:Stop by the library for some self-led sensory fun! There will be mess-free activities and sensory bins out in the children’s area for free play. This activity is suitable for preschool ages and up.
URL:https://stmamom.com/event/library-sensory-stations-2026-01-20/
LOCATION:St. Michael Public Library\, 11800 Town Center Dr NE\, St. Michael\, MN\, 55376\, United States
ATTACH;FMTTYPE=image/jpeg:https://stmamom.com/wp-content/uploads/2019/09/st-michael-library.jpg
END:VEVENT
BEGIN:VEVENT
DTSTART;TZID=America/Chicago:20260122T100000
DTEND;TZID=America/Chicago:20260122T103000
DTSTAMP:20260423T192457
CREATED:20250827T141326Z
LAST-MODIFIED:20260325T212155Z
UID:9948-1769076000-1769077800@stmamom.com
SUMMARY:ECFE Storytime at the Library
DESCRIPTION:Come hang out at the library with your friends from ECFE! A staff member from STMA’s Early Childhood program will lead storytime along with crafts\, games\, songs. This event is intended for ages 0 to 6 along with their parent or caregiver.
URL:https://stmamom.com/event/ecfe-storytime-at-the-library-2-2026-01-22/
LOCATION:St. Michael Public Library\, 11800 Town Center Dr NE\, St. Michael\, MN\, 55376\, United States
ATTACH;FMTTYPE=image/jpeg:https://stmamom.com/wp-content/uploads/2021/04/ecfe-e1619575280453.jpg
END:VEVENT
BEGIN:VEVENT
DTSTART;TZID=America/Chicago:20260122T100000
DTEND;TZID=America/Chicago:20260122T113000
DTSTAMP:20260423T192457
CREATED:20250827T152548Z
LAST-MODIFIED:20260325T211911Z
UID:9960-1769076000-1769081400@stmamom.com
SUMMARY:Otsego Open Playtime
DESCRIPTION:Kids ages 5 & under are invited to play and meet new friends at Otsego’s Open Playtime. This drop-in program offers an open play session full of toys\, crafts\, active equipment\, and activities. Come for the whole time or stay while you can. (Parent/guardian supervision is required.) \nCost: $3/child at the door\, or pick up a punch pass!\nPlease check Facebook for closures due to holidays or inclement weather: \nNot meeting October 30\, November 27\, December 25\, January 19 and February 16\nLast day is Thursday\, May 14
URL:https://stmamom.com/event/otsego-open-playtime-2025-2026-01-22/
LOCATION:Prairie Center\, 8899 Nashua Ave NE\, Otsego\, MN\, 55330\, United States
ATTACH;FMTTYPE=image/png:https://stmamom.com/wp-content/uploads/2021/04/otsego-parks-rec-e1619580266549.png
ORGANIZER;CN="Otsego Parks & Recreation":MAILTO:recreation@ci.otsego.mn.us
END:VEVENT
BEGIN:VEVENT
DTSTART;TZID=America/Chicago:20260123T081500
DTEND;TZID=America/Chicago:20260123T101500
DTSTAMP:20260423T192457
CREATED:20260105T210622Z
LAST-MODIFIED:20260105T210622Z
UID:9921-1769156100-1769163300@stmamom.com
SUMMARY:ECFE Dome Day
DESCRIPTION:Kids ages 6 and under are invited to run and play with friends at the STMA Dome from December 4 through March 20 on alternating Thursdays & Friday mornings. The cost is just $2 per child (max $5 per family)\, payable by cash at the door. No registration required.
URL:https://stmamom.com/event/ecfe-dome-day-2026-2026-01-23/
LOCATION:STMA High School\, 5800 Jamison Ave NE\, St. Michael\, MN\, 55376\, United States
ATTACH;FMTTYPE=image/jpeg:https://stmamom.com/wp-content/uploads/2018/11/stmadome.jpg
END:VEVENT
BEGIN:VEVENT
DTSTART;TZID=America/Chicago:20260126T100000
DTEND;TZID=America/Chicago:20260126T113000
DTSTAMP:20260423T192457
CREATED:20250827T152548Z
LAST-MODIFIED:20260325T211911Z
UID:9961-1769421600-1769427000@stmamom.com
SUMMARY:Otsego Open Playtime
DESCRIPTION:Kids ages 5 & under are invited to play and meet new friends at Otsego’s Open Playtime. This drop-in program offers an open play session full of toys\, crafts\, active equipment\, and activities. Come for the whole time or stay while you can. (Parent/guardian supervision is required.) \nCost: $3/child at the door\, or pick up a punch pass!\nPlease check Facebook for closures due to holidays or inclement weather: \nNot meeting October 30\, November 27\, December 25\, January 19 and February 16\nLast day is Thursday\, May 14
URL:https://stmamom.com/event/otsego-open-playtime-2025-2026-01-26/
LOCATION:Prairie Center\, 8899 Nashua Ave NE\, Otsego\, MN\, 55330\, United States
ATTACH;FMTTYPE=image/png:https://stmamom.com/wp-content/uploads/2021/04/otsego-parks-rec-e1619580266549.png
ORGANIZER;CN="Otsego Parks & Recreation":MAILTO:recreation@ci.otsego.mn.us
END:VEVENT
BEGIN:VEVENT
DTSTART;TZID=America/Chicago:20260126T103000
DTEND;TZID=America/Chicago:20260126T113000
DTSTAMP:20260423T192457
CREATED:20230901T200258Z
LAST-MODIFIED:20260325T212238Z
UID:9942-1769423400-1769427000@stmamom.com
SUMMARY:Preschooler Play & Learn Workshop
DESCRIPTION:Encourage a love of learning as you and your child play\, explore\, discover\, count\, and create. Join the library staff anytime during the hour for an open-ended play session. Activities are designed for ages 1 to 5. Registration is not required\, but room limits may be enforced.
URL:https://stmamom.com/event/preschooler-play-learn-workshop-2026-01-26/
LOCATION:St. Michael Public Library\, 11800 Town Center Dr NE\, St. Michael\, MN\, 55376\, United States
ATTACH;FMTTYPE=image/jpeg:https://stmamom.com/wp-content/uploads/2019/09/st-michael-library.jpg
END:VEVENT
BEGIN:VEVENT
DTSTART;TZID=America/Chicago:20260128T180000
DTEND;TZID=America/Chicago:20260128T191000
DTSTAMP:20260423T192457
CREATED:20250903T190403Z
LAST-MODIFIED:20250903T190403Z
UID:10049-1769623200-1769627400@stmamom.com
SUMMARY:Glow-n-Skate
DESCRIPTION:The coolest event in town! Glow-n-Skate is a special nighttime open skating event with the lights down and the music up. \nCost: $6/skater (includes glow necklace)\nRental skates: $2/pair
URL:https://stmamom.com/event/glow-n-skate-2025-2026-01-28/
LOCATION:Rogers Trustone Ice Arena\, 21080 141st Ave N\, Rogers\, MN\, 55374\, United States
ORGANIZER;CN="City of Rogers":MAILTO:info@rogersmn.gov
END:VEVENT
BEGIN:VEVENT
DTSTART;TZID=America/Chicago:20260129T081500
DTEND;TZID=America/Chicago:20260129T101500
DTSTAMP:20260423T192457
CREATED:20260105T210622Z
LAST-MODIFIED:20260105T210622Z
UID:9922-1769674500-1769681700@stmamom.com
SUMMARY:ECFE Dome Day
DESCRIPTION:Kids ages 6 and under are invited to run and play with friends at the STMA Dome from December 4 through March 20 on alternating Thursdays & Friday mornings. The cost is just $2 per child (max $5 per family)\, payable by cash at the door. No registration required.
URL:https://stmamom.com/event/ecfe-dome-day-2026-2026-01-29/
LOCATION:STMA High School\, 5800 Jamison Ave NE\, St. Michael\, MN\, 55376\, United States
ATTACH;FMTTYPE=image/jpeg:https://stmamom.com/wp-content/uploads/2018/11/stmadome.jpg
END:VEVENT
BEGIN:VEVENT
DTSTART;TZID=America/Chicago:20260129T100000
DTEND;TZID=America/Chicago:20260129T113000
DTSTAMP:20260423T192457
CREATED:20250827T152548Z
LAST-MODIFIED:20260325T211911Z
UID:9962-1769680800-1769686200@stmamom.com
SUMMARY:Otsego Open Playtime
DESCRIPTION:Kids ages 5 & under are invited to play and meet new friends at Otsego’s Open Playtime. This drop-in program offers an open play session full of toys\, crafts\, active equipment\, and activities. Come for the whole time or stay while you can. (Parent/guardian supervision is required.) \nCost: $3/child at the door\, or pick up a punch pass!\nPlease check Facebook for closures due to holidays or inclement weather: \nNot meeting October 30\, November 27\, December 25\, January 19 and February 16\nLast day is Thursday\, May 14
URL:https://stmamom.com/event/otsego-open-playtime-2025-2026-01-29/
LOCATION:Prairie Center\, 8899 Nashua Ave NE\, Otsego\, MN\, 55330\, United States
ATTACH;FMTTYPE=image/png:https://stmamom.com/wp-content/uploads/2021/04/otsego-parks-rec-e1619580266549.png
ORGANIZER;CN="Otsego Parks & Recreation":MAILTO:recreation@ci.otsego.mn.us
END:VEVENT
BEGIN:VEVENT
DTSTART;TZID=America/Chicago:20260129T101500
DTEND;TZID=America/Chicago:20260129T114500
DTSTAMP:20260423T192457
CREATED:20250903T180906Z
LAST-MODIFIED:20250903T180906Z
UID:10035-1769681700-1769687100@stmamom.com
SUMMARY:ECFE Drop In & Play
DESCRIPTION:Drop in and play with your friends at ECFE! This monthly drop-in class offers young children and their caregivers a relaxed\, unstructured setting for connection and play. With no formal activities\, the focus is on creativity\, curiosity\, and making memories! \nFall Dates: September 18\, October 2 & 30\, November 13\, December 4\nWinter/Spring Dates: January 15 & 29\, February 12 & 26\, March 12\, April 16\, May 14 \nLocation: Community Education room #203\nCost: $2 per child / max $5/family (no preregistration required)
URL:https://stmamom.com/event/ecfe-drop-in-play-2025-2026-01-29/
LOCATION:STMA Community Education Building\, 60 Central Avenue W\, St. Michael\, MN\, 55376\, United States
ATTACH;FMTTYPE=image/jpeg:https://stmamom.com/wp-content/uploads/2021/04/ecfe-e1619575280453.jpg
END:VEVENT
BEGIN:VEVENT
DTSTART;TZID=America/Chicago:20260202T100000
DTEND;TZID=America/Chicago:20260202T113000
DTSTAMP:20260423T192457
CREATED:20250827T152548Z
LAST-MODIFIED:20260325T211911Z
UID:9963-1770026400-1770031800@stmamom.com
SUMMARY:Otsego Open Playtime
DESCRIPTION:Kids ages 5 & under are invited to play and meet new friends at Otsego’s Open Playtime. This drop-in program offers an open play session full of toys\, crafts\, active equipment\, and activities. Come for the whole time or stay while you can. (Parent/guardian supervision is required.) \nCost: $3/child at the door\, or pick up a punch pass!\nPlease check Facebook for closures due to holidays or inclement weather: \nNot meeting October 30\, November 27\, December 25\, January 19 and February 16\nLast day is Thursday\, May 14
URL:https://stmamom.com/event/otsego-open-playtime-2025-2026-02-02/
LOCATION:Prairie Center\, 8899 Nashua Ave NE\, Otsego\, MN\, 55330\, United States
ATTACH;FMTTYPE=image/png:https://stmamom.com/wp-content/uploads/2021/04/otsego-parks-rec-e1619580266549.png
ORGANIZER;CN="Otsego Parks & Recreation":MAILTO:recreation@ci.otsego.mn.us
END:VEVENT
BEGIN:VEVENT
DTSTART;TZID=America/Chicago:20260202T103000
DTEND;TZID=America/Chicago:20260202T110000
DTSTAMP:20260423T192457
CREATED:20250827T140359Z
LAST-MODIFIED:20260325T212107Z
UID:9936-1770028200-1770030000@stmamom.com
SUMMARY:Library Storytime
DESCRIPTION:Start your week out right… at the library! Share books\, songs\, and rhymes with your children at this storytime designed to promote school readiness in 0- to 6-year-olds. Librarians\, caregivers\, and children will sing\, talk\, read\, write\, and play together to build early literacy skills. Siblings are also welcome.
URL:https://stmamom.com/event/library-storytime-2025-2026-02-02/
LOCATION:St. Michael Public Library\, 11800 Town Center Dr NE\, St. Michael\, MN\, 55376\, United States
ATTACH;FMTTYPE=image/jpeg:https://stmamom.com/wp-content/uploads/2024/08/storytime-e1725045078975.jpg
END:VEVENT
BEGIN:VEVENT
DTSTART;TZID=America/Chicago:20260205T100000
DTEND;TZID=America/Chicago:20260205T103000
DTSTAMP:20260423T192457
CREATED:20250827T141326Z
LAST-MODIFIED:20260325T212157Z
UID:9949-1770285600-1770287400@stmamom.com
SUMMARY:ECFE Storytime at the Library
DESCRIPTION:Come hang out at the library with your friends from ECFE! A staff member from STMA’s Early Childhood program will lead storytime along with crafts\, games\, songs. This event is intended for ages 0 to 6 along with their parent or caregiver.
URL:https://stmamom.com/event/ecfe-storytime-at-the-library-2-2026-02-05/
LOCATION:St. Michael Public Library\, 11800 Town Center Dr NE\, St. Michael\, MN\, 55376\, United States
ATTACH;FMTTYPE=image/jpeg:https://stmamom.com/wp-content/uploads/2021/04/ecfe-e1619575280453.jpg
END:VEVENT
BEGIN:VEVENT
DTSTART;TZID=America/Chicago:20260205T100000
DTEND;TZID=America/Chicago:20260205T113000
DTSTAMP:20260423T192457
CREATED:20250827T152548Z
LAST-MODIFIED:20260325T211912Z
UID:9964-1770285600-1770291000@stmamom.com
SUMMARY:Otsego Open Playtime
DESCRIPTION:Kids ages 5 & under are invited to play and meet new friends at Otsego’s Open Playtime. This drop-in program offers an open play session full of toys\, crafts\, active equipment\, and activities. Come for the whole time or stay while you can. (Parent/guardian supervision is required.) \nCost: $3/child at the door\, or pick up a punch pass!\nPlease check Facebook for closures due to holidays or inclement weather: \nNot meeting October 30\, November 27\, December 25\, January 19 and February 16\nLast day is Thursday\, May 14
URL:https://stmamom.com/event/otsego-open-playtime-2025-2026-02-05/
LOCATION:Prairie Center\, 8899 Nashua Ave NE\, Otsego\, MN\, 55330\, United States
ATTACH;FMTTYPE=image/png:https://stmamom.com/wp-content/uploads/2021/04/otsego-parks-rec-e1619580266549.png
ORGANIZER;CN="Otsego Parks & Recreation":MAILTO:recreation@ci.otsego.mn.us
END:VEVENT
END:VCALENDAR