BEGIN:VCALENDAR
VERSION:2.0
PRODID:-//STMAmom.com - ECPv6.15.16.1//NONSGML v1.0//EN
CALSCALE:GREGORIAN
METHOD:PUBLISH
X-ORIGINAL-URL:https://stmamom.com
X-WR-CALDESC:Events for STMAmom.com
REFRESH-INTERVAL;VALUE=DURATION:PT1H
X-Robots-Tag:noindex
X-PUBLISHED-TTL:PT1H
BEGIN:VTIMEZONE
TZID:America/Chicago
BEGIN:DAYLIGHT
TZOFFSETFROM:-0600
TZOFFSETTO:-0500
TZNAME:CDT
DTSTART:20240310T080000
END:DAYLIGHT
BEGIN:STANDARD
TZOFFSETFROM:-0500
TZOFFSETTO:-0600
TZNAME:CST
DTSTART:20241103T070000
END:STANDARD
BEGIN:DAYLIGHT
TZOFFSETFROM:-0600
TZOFFSETTO:-0500
TZNAME:CDT
DTSTART:20250309T080000
END:DAYLIGHT
BEGIN:STANDARD
TZOFFSETFROM:-0500
TZOFFSETTO:-0600
TZNAME:CST
DTSTART:20251102T070000
END:STANDARD
BEGIN:DAYLIGHT
TZOFFSETFROM:-0600
TZOFFSETTO:-0500
TZNAME:CDT
DTSTART:20260308T080000
END:DAYLIGHT
BEGIN:STANDARD
TZOFFSETFROM:-0500
TZOFFSETTO:-0600
TZNAME:CST
DTSTART:20261101T070000
END:STANDARD
END:VTIMEZONE
BEGIN:VEVENT
DTSTART;VALUE=DATE:20250220
DTEND;VALUE=DATE:20250224
DTSTAMP:20260425T081553
CREATED:20250213T222808Z
LAST-MODIFIED:20250213T222835Z
UID:9017-1740009600-1740355199@stmamom.com
SUMMARY:SOAR Presents "Alice in Wonderland"
DESCRIPTION:Tickets are on sale now for SOAR Regional Arts’ production of Disney’s Alice in Wonderland Jr.! Join nearly 100 talented students in grades 1-8 as they bring this whimsical story to life on stage at STMA Middle School West. \nPerformance Dates:– Thursday\, February 20 at 7pm– Saturday\, February 22 at 2pm & 7pm– Sunday\, February 23 at 1pm & 4pmDon’t be late for this very important date! Grab your tickets today at soararts.org\nTickets: $12 online / $14 at the door
URL:https://stmamom.com/event/soar-presents-alice-in-wonderland/
LOCATION:STMA Middle School West\, 11343 50th St NE\, Albertville\, MN\, 55301\, United States
ATTACH;FMTTYPE=image/png:https://stmamom.com/wp-content/uploads/2021/04/soar-e1725544174724.png
ORGANIZER;CN="SOAR Regional Arts":MAILTO:laurynwhite@gmail.com
END:VEVENT
BEGIN:VEVENT
DTSTART;TZID=America/Chicago:20250224T100000
DTEND;TZID=America/Chicago:20250224T113000
DTSTAMP:20260425T081553
CREATED:20240830T204814Z
LAST-MODIFIED:20250424T131411Z
UID:8991-1740391200-1740396600@stmamom.com
SUMMARY:Otsego Open Playtime
DESCRIPTION:Kids ages 5 & under are invited to play and meet new friends at Otsego’s Open Playtime. This drop-in program offers an open play session full of toys\, crafts\, active equipment\, and activities. Come for the whole time or stay while you can. (Parent/guardian supervision is required.) \nCost: $3/child at the door\, or pick up an 11-visit punchcard for $20 at https://otsego.recdesk.com\nPlease check Facebook for closures due to holidays or inclement weather:
URL:https://stmamom.com/event/otsego-open-playtime-2025-02-24/
LOCATION:Prairie Center\, 8899 Nashua Ave NE\, Otsego\, MN\, 55330\, United States
ATTACH;FMTTYPE=image/png:https://stmamom.com/wp-content/uploads/2021/04/otsego-parks-rec-e1619580266549.png
ORGANIZER;CN="Otsego Parks & Recreation":MAILTO:recreation@ci.otsego.mn.us
END:VEVENT
BEGIN:VEVENT
DTSTART;TZID=America/Chicago:20250224T103000
DTEND;TZID=America/Chicago:20250224T113000
DTSTAMP:20260425T081553
CREATED:20240830T192752Z
LAST-MODIFIED:20250326T122517Z
UID:8970-1740393000-1740396600@stmamom.com
SUMMARY:Preschool "Play & Learn" at the Library
DESCRIPTION:Encourage a love of learning as you and your child play\, explore\, discover\, count\, and create. Stations are set up for participants to come and go as time and attention span permits. Activities are designed for ages 1 to 5. No registration\, but room limits may be enforced.
URL:https://stmamom.com/event/preschool-play-learn-at-the-library-2025-02-24/
LOCATION:St. Michael Public Library\, 11800 Town Center Dr NE\, St. Michael\, MN\, 55376\, United States
ATTACH;FMTTYPE=image/png:https://stmamom.com/wp-content/uploads/2024/08/library-play-learn-e1725046036166.png
END:VEVENT
BEGIN:VEVENT
DTSTART;TZID=America/Chicago:20250224T160000
DTEND;TZID=America/Chicago:20250224T170000
DTSTAMP:20260425T081553
CREATED:20240830T191859Z
LAST-MODIFIED:20240830T191859Z
UID:8972-1740412800-1740416400@stmamom.com
SUMMARY:STEAM Fun at the Library
DESCRIPTION:STEAM* at the Library is back! Join library staff for an hour of learning\, exploring\, and inventing. All you need is your imagination! \nFor ages 7 to 11. Limit 10 children\, but parents/guardians are encouraged to stay to work with their child.\nRegistration required: https://events.griver.org/calendar/stmichaellibraryevents \n  \n*Science\, Technology\, Engineering\, Art\, and Mathematics
URL:https://stmamom.com/event/steam-fun-at-the-library-2025-02-24/
LOCATION:St. Michael Public Library\, 11800 Town Center Dr NE\, St. Michael\, MN\, 55376\, United States
ATTACH;FMTTYPE=image/jpeg:https://stmamom.com/wp-content/uploads/2024/08/steam-library-scaled-e1725046126165.jpg
END:VEVENT
BEGIN:VEVENT
DTSTART;TZID=America/Chicago:20250225T180000
DTEND;TZID=America/Chicago:20250225T190000
DTSTAMP:20260425T081553
CREATED:20250204T015655Z
LAST-MODIFIED:20250221T200401Z
UID:9006-1740506400-1740510000@stmamom.com
SUMMARY:"Little Picassos" Family Event
DESCRIPTION:Unleash your little ones’ inner artists at ECFE’s special event class\, Little Picassos! Come ready to paint\, create\, and express yourselves in a supportive and fun environment. Enjoy engaging activities that foster exploration and play and allow families to enjoy creating masterpieces together. \nCost: $10/family\nRegister online at stma.ce.eleyo.com/course/ecfe/7102/winter-spring-2025/little-picasso-s
URL:https://stmamom.com/event/little-picassos-family-event/
LOCATION:STMA Community Education Building\, 60 Central Avenue W\, St. Michael\, MN\, 55376\, United States
ATTACH;FMTTYPE=image/jpeg:https://stmamom.com/wp-content/uploads/2021/04/ecfe-e1619575280453.jpg
END:VEVENT
BEGIN:VEVENT
DTSTART;TZID=America/Chicago:20250226T180000
DTEND;TZID=America/Chicago:20250226T191000
DTSTAMP:20260425T081553
CREATED:20240905T134318Z
LAST-MODIFIED:20250425T155253Z
UID:9008-1740592800-1740597000@stmamom.com
SUMMARY:Rogers Glow N Skate
DESCRIPTION:The coolest event in town! Glow N Skate is a special nighttime open skating event with the lights down and the music up. \nCost: $6/skater (includes glow necklace)\nRental skates: $2/pair
URL:https://stmamom.com/event/rogers-glow-n-skate-2025-02-26/
LOCATION:Rogers Trustone Ice Arena\, 21080 141st Ave N\, Rogers\, MN\, 55374\, United States
ATTACH;FMTTYPE=image/jpeg:https://stmamom.com/wp-content/uploads/2021/04/73131867_3379341468750133_1414841314830188544_n-e1619577412521.jpg
ORGANIZER;CN="City of Rogers":MAILTO:info@rogersmn.gov
END:VEVENT
BEGIN:VEVENT
DTSTART;TZID=America/Chicago:20250227T081500
DTEND;TZID=America/Chicago:20250227T101500
DTSTAMP:20260425T081553
CREATED:20241121T014041Z
LAST-MODIFIED:20241121T014041Z
UID:9068-1740644100-1740651300@stmamom.com
SUMMARY:ECFE Dome Day
DESCRIPTION:Kids ages 6 and under are invited to run and play with friends at the STMA Dome from December 5 through March 28 on alternating Thursdays & Friday mornings. The cost is just $2 per child (max $5 per family)\, payable by cash at the door. No registration required. \n 
URL:https://stmamom.com/event/ecfe-dome-days-2025-2025-02-27/
LOCATION:STMA High School\, 5800 Jamison Ave NE\, St. Michael\, MN\, 55376\, United States
ATTACH;FMTTYPE=image/jpeg:https://stmamom.com/wp-content/uploads/2018/11/stmadome.jpg
END:VEVENT
BEGIN:VEVENT
DTSTART;TZID=America/Chicago:20250227T100000
DTEND;TZID=America/Chicago:20250227T103000
DTSTAMP:20260425T081553
CREATED:20240830T193848Z
LAST-MODIFIED:20250424T132132Z
UID:8977-1740650400-1740652200@stmamom.com
SUMMARY:ECFE Storytime at the Library
DESCRIPTION:Come hang out at the library with your friends from ECFE! A staff member from STMA’s Early Childhood program will lead storytime along with crafts\, games\, songs. This event is intended for ages 0 to 6 along with their parent or caregiver.
URL:https://stmamom.com/event/ecfe-storytime-at-the-library-2024-2025-02-27/
LOCATION:St. Michael Public Library\, 11800 Town Center Dr NE\, St. Michael\, MN\, 55376\, United States
ATTACH;FMTTYPE=image/jpeg:https://stmamom.com/wp-content/uploads/2021/04/ecfe-e1619575280453.jpg
END:VEVENT
BEGIN:VEVENT
DTSTART;TZID=America/Chicago:20250227T100000
DTEND;TZID=America/Chicago:20250227T113000
DTSTAMP:20260425T081553
CREATED:20240830T204814Z
LAST-MODIFIED:20250424T131411Z
UID:8992-1740650400-1740655800@stmamom.com
SUMMARY:Otsego Open Playtime
DESCRIPTION:Kids ages 5 & under are invited to play and meet new friends at Otsego’s Open Playtime. This drop-in program offers an open play session full of toys\, crafts\, active equipment\, and activities. Come for the whole time or stay while you can. (Parent/guardian supervision is required.) \nCost: $3/child at the door\, or pick up an 11-visit punchcard for $20 at https://otsego.recdesk.com\nPlease check Facebook for closures due to holidays or inclement weather:
URL:https://stmamom.com/event/otsego-open-playtime-2025-02-27/
LOCATION:Prairie Center\, 8899 Nashua Ave NE\, Otsego\, MN\, 55330\, United States
ATTACH;FMTTYPE=image/png:https://stmamom.com/wp-content/uploads/2021/04/otsego-parks-rec-e1619580266549.png
ORGANIZER;CN="Otsego Parks & Recreation":MAILTO:recreation@ci.otsego.mn.us
END:VEVENT
BEGIN:VEVENT
DTSTART;TZID=America/Chicago:20250301T090000
DTEND;TZID=America/Chicago:20250301T120000
DTSTAMP:20260425T081553
CREATED:20230627T221107Z
LAST-MODIFIED:20260325T211847Z
UID:9010-1740819600-1740830400@stmamom.com
SUMMARY:Home Depot Kids Workshop
DESCRIPTION:Bring your kids to Home Depot to complete a free\, hands-on building project created with them in mind! Workshops take place the 1st Saturday of each month and vary by theme. \nFind out more information and register for the workshop at https://www.homedepot.com/c/kids
URL:https://stmamom.com/event/home-depot-kids-workshop-2025-03-01/
LOCATION:Home Depot\, 1385 E 7th Street\, Monticello\, MN\, 55362\, United States
ATTACH;FMTTYPE=image/png:https://stmamom.com/wp-content/uploads/2023/06/home-depot-e1691001383784.png
END:VEVENT
BEGIN:VEVENT
DTSTART;TZID=America/Chicago:20250303T100000
DTEND;TZID=America/Chicago:20250303T113000
DTSTAMP:20260425T081553
CREATED:20240830T204814Z
LAST-MODIFIED:20250424T131412Z
UID:9020-1740996000-1741001400@stmamom.com
SUMMARY:Otsego Open Playtime
DESCRIPTION:Kids ages 5 & under are invited to play and meet new friends at Otsego’s Open Playtime. This drop-in program offers an open play session full of toys\, crafts\, active equipment\, and activities. Come for the whole time or stay while you can. (Parent/guardian supervision is required.) \nCost: $3/child at the door\, or pick up an 11-visit punchcard for $20 at https://otsego.recdesk.com\nPlease check Facebook for closures due to holidays or inclement weather:
URL:https://stmamom.com/event/otsego-open-playtime-2025-03-03/
LOCATION:Prairie Center\, 8899 Nashua Ave NE\, Otsego\, MN\, 55330\, United States
ATTACH;FMTTYPE=image/png:https://stmamom.com/wp-content/uploads/2021/04/otsego-parks-rec-e1619580266549.png
ORGANIZER;CN="Otsego Parks & Recreation":MAILTO:recreation@ci.otsego.mn.us
END:VEVENT
BEGIN:VEVENT
DTSTART;TZID=America/Chicago:20250303T103000
DTEND;TZID=America/Chicago:20250303T110000
DTSTAMP:20260425T081553
CREATED:20240830T191216Z
LAST-MODIFIED:20250424T132007Z
UID:9036-1740997800-1740999600@stmamom.com
SUMMARY:Library Storytime
DESCRIPTION:Start your week out right… at the library! Share books\, songs\, and rhymes with your children at this storytime designed to promote school readiness in 0- to 5-year-olds. Librarians\, caregivers\, and children will sing\, talk\, read\, write\, and play together to build early literacy skills. Siblings are also welcome.
URL:https://stmamom.com/event/library-storytime-2024-2025-03-03/
LOCATION:St. Michael Public Library\, 11800 Town Center Dr NE\, St. Michael\, MN\, 55376\, United States
ATTACH;FMTTYPE=image/jpeg:https://stmamom.com/wp-content/uploads/2024/08/storytime-e1725045078975.jpg
END:VEVENT
BEGIN:VEVENT
DTSTART;TZID=America/Chicago:20250303T180000
DTEND;TZID=America/Chicago:20250303T190000
DTSTAMP:20260425T081553
CREATED:20241121T014624Z
LAST-MODIFIED:20241226T230414Z
UID:8927-1741024800-1741028400@stmamom.com
SUMMARY:Dome Night
DESCRIPTION:Join your friends from ECFE for Dome Night\, a fantastic evening of fun for the whole family at the STMA Multipurpose Facility! Designed for children ages 8 and under\, this event features an array of inflatables and age-appropriate toys that will keep your little ones active and entertained. Come bounce\, slide\, and play in a safe and exciting environment\, where families can enjoy quality time together and socialize with other families while letting the kids burn off some energy! \nCost: $5/family\nRegister online at stma.ce.eleyo.com/course/ecfe/7066/winter-spring-2025/ecfe-dome-nights
URL:https://stmamom.com/event/dome-nights-2025-2025-03-03/
LOCATION:STMA High School\, 5800 Jamison Ave NE\, St. Michael\, MN\, 55376\, United States
ATTACH;FMTTYPE=image/jpeg:https://stmamom.com/wp-content/uploads/2018/11/stmadome.jpg
END:VEVENT
BEGIN:VEVENT
DTSTART;TZID=America/Chicago:20250304T183000
DTEND;TZID=America/Chicago:20250304T193000
DTSTAMP:20260425T081553
CREATED:20250213T225236Z
LAST-MODIFIED:20250213T225236Z
UID:9059-1741113000-1741116600@stmamom.com
SUMMARY:FYCC Family Bingo
DESCRIPTION:Bring your whole family for a night of bingo with FYCC! Have fun and enjoy the chance to win some great prizes. \nCost: $20/family (can include grandparents)   Register at myfycc.com
URL:https://stmamom.com/event/fycc-family-bingo-2025-2025-03-04/
LOCATION:Albertville City Hall\, 5959 Main Ave NE\, Albertville\, MN\, 55301\, United States
ATTACH;FMTTYPE=image/png:https://stmamom.com/wp-content/uploads/2021/04/fycc-e1697061396286.png
ORGANIZER;CN="FYCC":MAILTO:FYCCinformation@gmail.com
END:VEVENT
BEGIN:VEVENT
DTSTART;TZID=America/Chicago:20250306T100000
DTEND;TZID=America/Chicago:20250306T113000
DTSTAMP:20260425T081553
CREATED:20240830T204814Z
LAST-MODIFIED:20250424T131412Z
UID:9021-1741255200-1741260600@stmamom.com
SUMMARY:Otsego Open Playtime
DESCRIPTION:Kids ages 5 & under are invited to play and meet new friends at Otsego’s Open Playtime. This drop-in program offers an open play session full of toys\, crafts\, active equipment\, and activities. Come for the whole time or stay while you can. (Parent/guardian supervision is required.) \nCost: $3/child at the door\, or pick up an 11-visit punchcard for $20 at https://otsego.recdesk.com\nPlease check Facebook for closures due to holidays or inclement weather:
URL:https://stmamom.com/event/otsego-open-playtime-2025-03-06/
LOCATION:Prairie Center\, 8899 Nashua Ave NE\, Otsego\, MN\, 55330\, United States
ATTACH;FMTTYPE=image/png:https://stmamom.com/wp-content/uploads/2021/04/otsego-parks-rec-e1619580266549.png
ORGANIZER;CN="Otsego Parks & Recreation":MAILTO:recreation@ci.otsego.mn.us
END:VEVENT
BEGIN:VEVENT
DTSTART;VALUE=DATE:20250307
DTEND;VALUE=DATE:20250309
DTSTAMP:20260425T081553
CREATED:20250213T224532Z
LAST-MODIFIED:20250221T200252Z
UID:9052-1741305600-1741478399@stmamom.com
SUMMARY:Stuffed Animal Sleepover at the Library
DESCRIPTION:Do you have a stuffed animal that has been begging for a library sleepover? Now is their chance! Drop off your stuffed animal at the library on Friday\, March 7 by 3pm. Under librarian supervision\, your stuffed animal will learn all about the library\, play with other stuffed animal friends\, and have their very own sleepover. Pick up your animal the next morning at storytime—Saturday\, March 8 at 10:30am. Listen to stories together\, have a breakfast snack and learn all about their sleepover adventures!
URL:https://stmamom.com/event/stuffed-animal-sleepover-at-the-library/
LOCATION:St. Michael Public Library\, 11800 Town Center Dr NE\, St. Michael\, MN\, 55376\, United States
ATTACH;FMTTYPE=image/jpeg:https://stmamom.com/wp-content/uploads/2019/09/st-michael-library.jpg
END:VEVENT
BEGIN:VEVENT
DTSTART;VALUE=DATE:20250307
DTEND;VALUE=DATE:20250316
DTSTAMP:20260425T081553
CREATED:20250221T200043Z
LAST-MODIFIED:20250221T200043Z
UID:9075-1741305600-1742083199@stmamom.com
SUMMARY:SPRING BREAK (STMA)
DESCRIPTION:
URL:https://stmamom.com/event/spring-break-stma/
LOCATION:MN
END:VEVENT
BEGIN:VEVENT
DTSTART;TZID=America/Chicago:20250310T100000
DTEND;TZID=America/Chicago:20250310T113000
DTSTAMP:20260425T081553
CREATED:20240830T204814Z
LAST-MODIFIED:20250424T131412Z
UID:9022-1741600800-1741606200@stmamom.com
SUMMARY:Otsego Open Playtime
DESCRIPTION:Kids ages 5 & under are invited to play and meet new friends at Otsego’s Open Playtime. This drop-in program offers an open play session full of toys\, crafts\, active equipment\, and activities. Come for the whole time or stay while you can. (Parent/guardian supervision is required.) \nCost: $3/child at the door\, or pick up an 11-visit punchcard for $20 at https://otsego.recdesk.com\nPlease check Facebook for closures due to holidays or inclement weather:
URL:https://stmamom.com/event/otsego-open-playtime-2025-03-10/
LOCATION:Prairie Center\, 8899 Nashua Ave NE\, Otsego\, MN\, 55330\, United States
ATTACH;FMTTYPE=image/png:https://stmamom.com/wp-content/uploads/2021/04/otsego-parks-rec-e1619580266549.png
ORGANIZER;CN="Otsego Parks & Recreation":MAILTO:recreation@ci.otsego.mn.us
END:VEVENT
BEGIN:VEVENT
DTSTART;TZID=America/Chicago:20250310T103000
DTEND;TZID=America/Chicago:20250310T110000
DTSTAMP:20260425T081553
CREATED:20240830T191216Z
LAST-MODIFIED:20250424T132007Z
UID:9037-1741602600-1741604400@stmamom.com
SUMMARY:Library Storytime
DESCRIPTION:Start your week out right… at the library! Share books\, songs\, and rhymes with your children at this storytime designed to promote school readiness in 0- to 5-year-olds. Librarians\, caregivers\, and children will sing\, talk\, read\, write\, and play together to build early literacy skills. Siblings are also welcome.
URL:https://stmamom.com/event/library-storytime-2024-2025-03-10/
LOCATION:St. Michael Public Library\, 11800 Town Center Dr NE\, St. Michael\, MN\, 55376\, United States
ATTACH;FMTTYPE=image/jpeg:https://stmamom.com/wp-content/uploads/2024/08/storytime-e1725045078975.jpg
END:VEVENT
BEGIN:VEVENT
DTSTART;TZID=America/Chicago:20250313T100000
DTEND;TZID=America/Chicago:20250313T113000
DTSTAMP:20260425T081553
CREATED:20240830T204814Z
LAST-MODIFIED:20250424T131412Z
UID:9023-1741860000-1741865400@stmamom.com
SUMMARY:Otsego Open Playtime
DESCRIPTION:Kids ages 5 & under are invited to play and meet new friends at Otsego’s Open Playtime. This drop-in program offers an open play session full of toys\, crafts\, active equipment\, and activities. Come for the whole time or stay while you can. (Parent/guardian supervision is required.) \nCost: $3/child at the door\, or pick up an 11-visit punchcard for $20 at https://otsego.recdesk.com\nPlease check Facebook for closures due to holidays or inclement weather:
URL:https://stmamom.com/event/otsego-open-playtime-2025-03-13/
LOCATION:Prairie Center\, 8899 Nashua Ave NE\, Otsego\, MN\, 55330\, United States
ATTACH;FMTTYPE=image/png:https://stmamom.com/wp-content/uploads/2021/04/otsego-parks-rec-e1619580266549.png
ORGANIZER;CN="Otsego Parks & Recreation":MAILTO:recreation@ci.otsego.mn.us
END:VEVENT
BEGIN:VEVENT
DTSTART;TZID=America/Chicago:20250317T100000
DTEND;TZID=America/Chicago:20250317T113000
DTSTAMP:20260425T081553
CREATED:20240830T204814Z
LAST-MODIFIED:20250424T131412Z
UID:9024-1742205600-1742211000@stmamom.com
SUMMARY:Otsego Open Playtime
DESCRIPTION:Kids ages 5 & under are invited to play and meet new friends at Otsego’s Open Playtime. This drop-in program offers an open play session full of toys\, crafts\, active equipment\, and activities. Come for the whole time or stay while you can. (Parent/guardian supervision is required.) \nCost: $3/child at the door\, or pick up an 11-visit punchcard for $20 at https://otsego.recdesk.com\nPlease check Facebook for closures due to holidays or inclement weather:
URL:https://stmamom.com/event/otsego-open-playtime-2025-03-17/
LOCATION:Prairie Center\, 8899 Nashua Ave NE\, Otsego\, MN\, 55330\, United States
ATTACH;FMTTYPE=image/png:https://stmamom.com/wp-content/uploads/2021/04/otsego-parks-rec-e1619580266549.png
ORGANIZER;CN="Otsego Parks & Recreation":MAILTO:recreation@ci.otsego.mn.us
END:VEVENT
BEGIN:VEVENT
DTSTART;TZID=America/Chicago:20250317T103000
DTEND;TZID=America/Chicago:20250317T110000
DTSTAMP:20260425T081553
CREATED:20240830T191216Z
LAST-MODIFIED:20250424T132009Z
UID:9038-1742207400-1742209200@stmamom.com
SUMMARY:Library Storytime
DESCRIPTION:Start your week out right… at the library! Share books\, songs\, and rhymes with your children at this storytime designed to promote school readiness in 0- to 5-year-olds. Librarians\, caregivers\, and children will sing\, talk\, read\, write\, and play together to build early literacy skills. Siblings are also welcome.
URL:https://stmamom.com/event/library-storytime-2024-2025-03-17/
LOCATION:St. Michael Public Library\, 11800 Town Center Dr NE\, St. Michael\, MN\, 55376\, United States
ATTACH;FMTTYPE=image/jpeg:https://stmamom.com/wp-content/uploads/2024/08/storytime-e1725045078975.jpg
END:VEVENT
BEGIN:VEVENT
DTSTART;TZID=America/Chicago:20250320T081500
DTEND;TZID=America/Chicago:20250320T101500
DTSTAMP:20260425T081553
CREATED:20241121T014041Z
LAST-MODIFIED:20241121T014041Z
UID:9069-1742458500-1742465700@stmamom.com
SUMMARY:ECFE Dome Day
DESCRIPTION:Kids ages 6 and under are invited to run and play with friends at the STMA Dome from December 5 through March 28 on alternating Thursdays & Friday mornings. The cost is just $2 per child (max $5 per family)\, payable by cash at the door. No registration required. \n 
URL:https://stmamom.com/event/ecfe-dome-days-2025-2025-03-20/
LOCATION:STMA High School\, 5800 Jamison Ave NE\, St. Michael\, MN\, 55376\, United States
ATTACH;FMTTYPE=image/jpeg:https://stmamom.com/wp-content/uploads/2018/11/stmadome.jpg
END:VEVENT
BEGIN:VEVENT
DTSTART;TZID=America/Chicago:20250320T100000
DTEND;TZID=America/Chicago:20250320T103000
DTSTAMP:20260425T081553
CREATED:20240830T193848Z
LAST-MODIFIED:20250424T132132Z
UID:9042-1742464800-1742466600@stmamom.com
SUMMARY:ECFE Storytime at the Library
DESCRIPTION:Come hang out at the library with your friends from ECFE! A staff member from STMA’s Early Childhood program will lead storytime along with crafts\, games\, songs. This event is intended for ages 0 to 6 along with their parent or caregiver.
URL:https://stmamom.com/event/ecfe-storytime-at-the-library-2024-2025-03-20/
LOCATION:St. Michael Public Library\, 11800 Town Center Dr NE\, St. Michael\, MN\, 55376\, United States
ATTACH;FMTTYPE=image/jpeg:https://stmamom.com/wp-content/uploads/2021/04/ecfe-e1619575280453.jpg
END:VEVENT
BEGIN:VEVENT
DTSTART;TZID=America/Chicago:20250320T100000
DTEND;TZID=America/Chicago:20250320T113000
DTSTAMP:20260425T081553
CREATED:20240830T204814Z
LAST-MODIFIED:20250424T131412Z
UID:9025-1742464800-1742470200@stmamom.com
SUMMARY:Otsego Open Playtime
DESCRIPTION:Kids ages 5 & under are invited to play and meet new friends at Otsego’s Open Playtime. This drop-in program offers an open play session full of toys\, crafts\, active equipment\, and activities. Come for the whole time or stay while you can. (Parent/guardian supervision is required.) \nCost: $3/child at the door\, or pick up an 11-visit punchcard for $20 at https://otsego.recdesk.com\nPlease check Facebook for closures due to holidays or inclement weather:
URL:https://stmamom.com/event/otsego-open-playtime-2025-03-20/
LOCATION:Prairie Center\, 8899 Nashua Ave NE\, Otsego\, MN\, 55330\, United States
ATTACH;FMTTYPE=image/png:https://stmamom.com/wp-content/uploads/2021/04/otsego-parks-rec-e1619580266549.png
ORGANIZER;CN="Otsego Parks & Recreation":MAILTO:recreation@ci.otsego.mn.us
END:VEVENT
BEGIN:VEVENT
DTSTART;TZID=America/Chicago:20250320T170000
DTEND;TZID=America/Chicago:20250320T180000
DTSTAMP:20260425T081553
CREATED:20240830T194317Z
LAST-MODIFIED:20260325T212538Z
UID:9050-1742490000-1742493600@stmamom.com
SUMMARY:LEGO Fun at the Library
DESCRIPTION:School-age kids are invited to show off their LEGO building skills! The library will provide the bricks\, you provide the imagination. Come meet with other builders and have some fun.
URL:https://stmamom.com/event/lego-fun-at-the-library-2025-03-20/
LOCATION:St. Michael Public Library\, 11800 Town Center Dr NE\, St. Michael\, MN\, 55376\, United States
ATTACH;FMTTYPE=image/jpeg:https://stmamom.com/wp-content/uploads/2024/08/lego-scaled.jpg
END:VEVENT
BEGIN:VEVENT
DTSTART;TZID=America/Chicago:20250322T103000
DTEND;TZID=America/Chicago:20250322T110000
DTSTAMP:20260425T081553
CREATED:20220902T201234Z
LAST-MODIFIED:20220902T201234Z
UID:9056-1742639400-1742641200@stmamom.com
SUMMARY:Family Storytime with Miss Hollee
DESCRIPTION:Join Miss Hollee for this fun family storytime that includes songs\, rhymes\, and stories that celebrate reading. This event is for children of all ages and their families.
URL:https://stmamom.com/event/family-storytime-with-miss-hollee-2025-03-22/
LOCATION:St. Michael Public Library\, 11800 Town Center Dr NE\, St. Michael\, MN\, 55376\, United States
ATTACH;FMTTYPE=image/jpeg:https://stmamom.com/wp-content/uploads/2024/08/storytime-e1725045078975.jpg
END:VEVENT
BEGIN:VEVENT
DTSTART;TZID=America/Chicago:20250324T100000
DTEND;TZID=America/Chicago:20250324T113000
DTSTAMP:20260425T081553
CREATED:20240830T204814Z
LAST-MODIFIED:20250424T131413Z
UID:9026-1742810400-1742815800@stmamom.com
SUMMARY:Otsego Open Playtime
DESCRIPTION:Kids ages 5 & under are invited to play and meet new friends at Otsego’s Open Playtime. This drop-in program offers an open play session full of toys\, crafts\, active equipment\, and activities. Come for the whole time or stay while you can. (Parent/guardian supervision is required.) \nCost: $3/child at the door\, or pick up an 11-visit punchcard for $20 at https://otsego.recdesk.com\nPlease check Facebook for closures due to holidays or inclement weather:
URL:https://stmamom.com/event/otsego-open-playtime-2025-03-24/
LOCATION:Prairie Center\, 8899 Nashua Ave NE\, Otsego\, MN\, 55330\, United States
ATTACH;FMTTYPE=image/png:https://stmamom.com/wp-content/uploads/2021/04/otsego-parks-rec-e1619580266549.png
ORGANIZER;CN="Otsego Parks & Recreation":MAILTO:recreation@ci.otsego.mn.us
END:VEVENT
BEGIN:VEVENT
DTSTART;TZID=America/Chicago:20250324T103000
DTEND;TZID=America/Chicago:20250324T110000
DTSTAMP:20260425T081553
CREATED:20240830T191216Z
LAST-MODIFIED:20250424T132009Z
UID:9039-1742812200-1742814000@stmamom.com
SUMMARY:Library Storytime
DESCRIPTION:Start your week out right… at the library! Share books\, songs\, and rhymes with your children at this storytime designed to promote school readiness in 0- to 5-year-olds. Librarians\, caregivers\, and children will sing\, talk\, read\, write\, and play together to build early literacy skills. Siblings are also welcome.
URL:https://stmamom.com/event/library-storytime-2024-2025-03-24/
LOCATION:St. Michael Public Library\, 11800 Town Center Dr NE\, St. Michael\, MN\, 55376\, United States
ATTACH;FMTTYPE=image/jpeg:https://stmamom.com/wp-content/uploads/2024/08/storytime-e1725045078975.jpg
END:VEVENT
BEGIN:VEVENT
DTSTART;TZID=America/Chicago:20250326T180000
DTEND;TZID=America/Chicago:20250326T191000
DTSTAMP:20260425T081553
CREATED:20240905T134318Z
LAST-MODIFIED:20250425T155253Z
UID:9063-1743012000-1743016200@stmamom.com
SUMMARY:Rogers Glow N Skate
DESCRIPTION:The coolest event in town! Glow N Skate is a special nighttime open skating event with the lights down and the music up. \nCost: $6/skater (includes glow necklace)\nRental skates: $2/pair
URL:https://stmamom.com/event/rogers-glow-n-skate-2025-03-26/
LOCATION:Rogers Trustone Ice Arena\, 21080 141st Ave N\, Rogers\, MN\, 55374\, United States
ATTACH;FMTTYPE=image/jpeg:https://stmamom.com/wp-content/uploads/2021/04/73131867_3379341468750133_1414841314830188544_n-e1619577412521.jpg
ORGANIZER;CN="City of Rogers":MAILTO:info@rogersmn.gov
END:VEVENT
END:VCALENDAR