BEGIN:VCALENDAR
VERSION:2.0
PRODID:-//STMAmom.com - ECPv6.15.16.1//NONSGML v1.0//EN
CALSCALE:GREGORIAN
METHOD:PUBLISH
X-WR-CALNAME:STMAmom.com
X-ORIGINAL-URL:https://stmamom.com
X-WR-CALDESC:Events for STMAmom.com
REFRESH-INTERVAL;VALUE=DURATION:PT1H
X-Robots-Tag:noindex
X-PUBLISHED-TTL:PT1H
BEGIN:VTIMEZONE
TZID:America/Chicago
BEGIN:DAYLIGHT
TZOFFSETFROM:-0600
TZOFFSETTO:-0500
TZNAME:CDT
DTSTART:20240310T080000
END:DAYLIGHT
BEGIN:STANDARD
TZOFFSETFROM:-0500
TZOFFSETTO:-0600
TZNAME:CST
DTSTART:20241103T070000
END:STANDARD
BEGIN:DAYLIGHT
TZOFFSETFROM:-0600
TZOFFSETTO:-0500
TZNAME:CDT
DTSTART:20250309T080000
END:DAYLIGHT
BEGIN:STANDARD
TZOFFSETFROM:-0500
TZOFFSETTO:-0600
TZNAME:CST
DTSTART:20251102T070000
END:STANDARD
BEGIN:DAYLIGHT
TZOFFSETFROM:-0600
TZOFFSETTO:-0500
TZNAME:CDT
DTSTART:20260308T080000
END:DAYLIGHT
BEGIN:STANDARD
TZOFFSETFROM:-0500
TZOFFSETTO:-0600
TZNAME:CST
DTSTART:20261101T070000
END:STANDARD
END:VTIMEZONE
BEGIN:VEVENT
DTSTART;TZID=America/Chicago:20250416T090000
DTEND;TZID=America/Chicago:20250416T110000
DTSTAMP:20260425T092238
CREATED:20250407T220045Z
LAST-MODIFIED:20250407T220045Z
UID:9151-1744794000-1744801200@stmamom.com
SUMMARY:Legacy Bunny Hop Trail
DESCRIPTION:Join The Legacy of St. Michael for its annual Bunny Hop Trail! Kids are invited to bring their Easter baskets and collect treats from the residents at The Legacy. New this year\, this event is also a food drive for the STMA food pantry. Please bring a non-perishable food item to contribute.
URL:https://stmamom.com/event/legacy-bunny-hop-trail-2/
LOCATION:The Legacy of St. Michael\, 4400 Lange Ave NE\, St. Michael\, MN\, 55376\, United States
END:VEVENT
BEGIN:VEVENT
DTSTART;TZID=America/Chicago:20250417T100000
DTEND;TZID=America/Chicago:20250417T103000
DTSTAMP:20260425T092238
CREATED:20240830T193848Z
LAST-MODIFIED:20250424T132132Z
UID:9087-1744884000-1744885800@stmamom.com
SUMMARY:ECFE Storytime at the Library
DESCRIPTION:Come hang out at the library with your friends from ECFE! A staff member from STMA’s Early Childhood program will lead storytime along with crafts\, games\, songs. This event is intended for ages 0 to 6 along with their parent or caregiver.
URL:https://stmamom.com/event/ecfe-storytime-at-the-library-2024-2025-04-17/
LOCATION:St. Michael Public Library\, 11800 Town Center Dr NE\, St. Michael\, MN\, 55376\, United States
ATTACH;FMTTYPE=image/jpeg:https://stmamom.com/wp-content/uploads/2021/04/ecfe-e1619575280453.jpg
END:VEVENT
BEGIN:VEVENT
DTSTART;TZID=America/Chicago:20250417T100000
DTEND;TZID=America/Chicago:20250417T113000
DTSTAMP:20260425T092238
CREATED:20240830T204814Z
LAST-MODIFIED:20250424T131414Z
UID:9111-1744884000-1744889400@stmamom.com
SUMMARY:Otsego Open Playtime
DESCRIPTION:Kids ages 5 & under are invited to play and meet new friends at Otsego’s Open Playtime. This drop-in program offers an open play session full of toys\, crafts\, active equipment\, and activities. Come for the whole time or stay while you can. (Parent/guardian supervision is required.) \nCost: $3/child at the door\, or pick up an 11-visit punchcard for $20 at https://otsego.recdesk.com\nPlease check Facebook for closures due to holidays or inclement weather:
URL:https://stmamom.com/event/otsego-open-playtime-2025-04-17/
LOCATION:Prairie Center\, 8899 Nashua Ave NE\, Otsego\, MN\, 55330\, United States
ATTACH;FMTTYPE=image/png:https://stmamom.com/wp-content/uploads/2021/04/otsego-parks-rec-e1619580266549.png
ORGANIZER;CN="Otsego Parks & Recreation":MAILTO:recreation@ci.otsego.mn.us
END:VEVENT
BEGIN:VEVENT
DTSTART;TZID=America/Chicago:20250417T170000
DTEND;TZID=America/Chicago:20250417T180000
DTSTAMP:20260425T092238
CREATED:20240830T194317Z
LAST-MODIFIED:20260325T212538Z
UID:9091-1744909200-1744912800@stmamom.com
SUMMARY:LEGO Fun at the Library
DESCRIPTION:School-age kids are invited to show off their LEGO building skills! The library will provide the bricks\, you provide the imagination. Come meet with other builders and have some fun.
URL:https://stmamom.com/event/lego-fun-at-the-library-2025-04-17/
LOCATION:St. Michael Public Library\, 11800 Town Center Dr NE\, St. Michael\, MN\, 55376\, United States
ATTACH;FMTTYPE=image/jpeg:https://stmamom.com/wp-content/uploads/2024/08/lego-scaled.jpg
END:VEVENT
BEGIN:VEVENT
DTSTART;VALUE=DATE:20250418
DTEND;VALUE=DATE:20250419
DTSTAMP:20260425T092238
CREATED:20250415T182059Z
LAST-MODIFIED:20250415T182059Z
UID:9217-1744934400-1745020799@stmamom.com
SUMMARY:NO SCHOOL STMA
DESCRIPTION:
URL:https://stmamom.com/event/no-school-stma-7/
LOCATION:MN
END:VEVENT
BEGIN:VEVENT
DTSTART;TZID=America/Chicago:20250418T130000
DTEND;TZID=America/Chicago:20250418T150000
DTSTAMP:20260425T092238
CREATED:20250415T151015Z
LAST-MODIFIED:20250415T151015Z
UID:9204-1744981200-1744988400@stmamom.com
SUMMARY:Easter Egg Hunt at Vision Transportation
DESCRIPTION:You’re invited to Vision Transportation’s 5th annual Easter Egg Hunt—a free\, fun-filled event for the whole family! While the event is free\, Vision encourages donations to CAER Foods to help support our community. \n\nHere’s what’s in store:1:00 – Games\, face painting\, temporary tattoos\, and a coloring contest begin and will last until 3pm1:15 – Egg Hunt for ages 6 & under2:15 – Egg Hunt for mixed ages2:45 – Grand Prize Drawing\n\nBring your own Easter basket!\n\nParking will be at Meadowvale Elementary School\, with shuttles running to and from the event for your convenience. No parking will be available on-site.
URL:https://stmamom.com/event/easter-egg-hunt-at-vision-transportation/
LOCATION:Meadowvale Elementary\, 12701 Elk Lake Rd NW\, Elk River\, MN\, 55330\, United States
ORGANIZER;CN="Vision Transportation":MAILTO:marketing@visionmidwest.com
END:VEVENT
BEGIN:VEVENT
DTSTART;TZID=America/Chicago:20250419T090000
DTEND;TZID=America/Chicago:20250419T113000
DTSTAMP:20260425T092238
CREATED:20250415T152546Z
LAST-MODIFIED:20250415T182225Z
UID:9210-1745053200-1745062200@stmamom.com
SUMMARY:Dayton Easter Egg Hunt
DESCRIPTION:Hop on over to the Central Park in Dayton for an Easter Egg Hunt! \nThere will be two Egg Hunt time slots (9:00 or 10:30)\, and the Easter Bunny will be making a special appearance! In addition\, there will also be games\, prizes and food. \nRegister online at https://forms.office.com/g/fqt9mNjB3H
URL:https://stmamom.com/event/easter-egg-hunt-dayton/
LOCATION:Central Park Dayton\, 12260 S Diamond Lake Rd\, Dayton\, MN\, 55327\, United States
END:VEVENT
BEGIN:VEVENT
DTSTART;TZID=America/Chicago:20250419T090000
DTEND;TZID=America/Chicago:20250419T150000
DTSTAMP:20260425T092238
CREATED:20250415T151346Z
LAST-MODIFIED:20250415T151346Z
UID:9208-1745053200-1745074800@stmamom.com
SUMMARY:Spring Celebration at Woods Gifts
DESCRIPTION:Mark your calendar for The Woods Gifts’ 27th annual Spring Celebration with the Easter Bunny!\n\n9 am – 3 pm: Easter Bunny photos* (BYO camera)9 am – 3 pm: Sweet Clouds & Cones (mini-donuts\, pretzels\, sno-cones\, and more)9 am – 2 pm: Jimmy Ray’s BBQ sauce demos\n10:30 – 1 pm: “Little Birdie Buddies” Book signing11 am – 2 pm: Baby Animals11 am – 2 pm: Gourmet food demos\n\n*There will be numbers available for the Easter Bunny’s waiting line\, but it is significantly less busy after 2pm. Pick up a number early and come back later for the Easter Bunny\, meaning your early number will put you at the front of the line when a new batch of numbers are called.
URL:https://stmamom.com/event/spring-celebration-at-woods-gifts/
LOCATION:The Woods Gifts\, 15825 95th Ave N\, Maple Grove\, MN\, 55369\, United States
END:VEVENT
BEGIN:VEVENT
DTSTART;VALUE=DATE:20250420
DTEND;VALUE=DATE:20250421
DTSTAMP:20260425T092238
CREATED:20250415T182151Z
LAST-MODIFIED:20250415T182151Z
UID:9219-1745107200-1745193599@stmamom.com
SUMMARY:EASTER
DESCRIPTION:Happy Easter from STMA Mom!
URL:https://stmamom.com/event/easter-4/
LOCATION:MN
END:VEVENT
BEGIN:VEVENT
DTSTART;TZID=America/Chicago:20250421T100000
DTEND;TZID=America/Chicago:20250421T113000
DTSTAMP:20260425T092238
CREATED:20240830T204814Z
LAST-MODIFIED:20250424T131414Z
UID:9112-1745229600-1745235000@stmamom.com
SUMMARY:Otsego Open Playtime
DESCRIPTION:Kids ages 5 & under are invited to play and meet new friends at Otsego’s Open Playtime. This drop-in program offers an open play session full of toys\, crafts\, active equipment\, and activities. Come for the whole time or stay while you can. (Parent/guardian supervision is required.) \nCost: $3/child at the door\, or pick up an 11-visit punchcard for $20 at https://otsego.recdesk.com\nPlease check Facebook for closures due to holidays or inclement weather:
URL:https://stmamom.com/event/otsego-open-playtime-2025-04-21/
LOCATION:Prairie Center\, 8899 Nashua Ave NE\, Otsego\, MN\, 55330\, United States
ATTACH;FMTTYPE=image/png:https://stmamom.com/wp-content/uploads/2021/04/otsego-parks-rec-e1619580266549.png
ORGANIZER;CN="Otsego Parks & Recreation":MAILTO:recreation@ci.otsego.mn.us
END:VEVENT
BEGIN:VEVENT
DTSTART;TZID=America/Chicago:20250421T103000
DTEND;TZID=America/Chicago:20250421T110000
DTSTAMP:20260425T092238
CREATED:20240830T191216Z
LAST-MODIFIED:20250424T132010Z
UID:9080-1745231400-1745233200@stmamom.com
SUMMARY:Library Storytime
DESCRIPTION:Start your week out right… at the library! Share books\, songs\, and rhymes with your children at this storytime designed to promote school readiness in 0- to 5-year-olds. Librarians\, caregivers\, and children will sing\, talk\, read\, write\, and play together to build early literacy skills. Siblings are also welcome.
URL:https://stmamom.com/event/library-storytime-2024-2025-04-21/
LOCATION:St. Michael Public Library\, 11800 Town Center Dr NE\, St. Michael\, MN\, 55376\, United States
ATTACH;FMTTYPE=image/jpeg:https://stmamom.com/wp-content/uploads/2024/08/storytime-e1725045078975.jpg
END:VEVENT
BEGIN:VEVENT
DTSTART;TZID=America/Chicago:20250424T100000
DTEND;TZID=America/Chicago:20250424T113000
DTSTAMP:20260425T092238
CREATED:20240830T204814Z
LAST-MODIFIED:20250424T131414Z
UID:9113-1745488800-1745494200@stmamom.com
SUMMARY:Otsego Open Playtime
DESCRIPTION:Kids ages 5 & under are invited to play and meet new friends at Otsego’s Open Playtime. This drop-in program offers an open play session full of toys\, crafts\, active equipment\, and activities. Come for the whole time or stay while you can. (Parent/guardian supervision is required.) \nCost: $3/child at the door\, or pick up an 11-visit punchcard for $20 at https://otsego.recdesk.com\nPlease check Facebook for closures due to holidays or inclement weather:
URL:https://stmamom.com/event/otsego-open-playtime-2025-04-24/
LOCATION:Prairie Center\, 8899 Nashua Ave NE\, Otsego\, MN\, 55330\, United States
ATTACH;FMTTYPE=image/png:https://stmamom.com/wp-content/uploads/2021/04/otsego-parks-rec-e1619580266549.png
ORGANIZER;CN="Otsego Parks & Recreation":MAILTO:recreation@ci.otsego.mn.us
END:VEVENT
BEGIN:VEVENT
DTSTART;TZID=America/Chicago:20250428T100000
DTEND;TZID=America/Chicago:20250428T113000
DTSTAMP:20260425T092238
CREATED:20240830T204814Z
LAST-MODIFIED:20250424T131414Z
UID:9114-1745834400-1745839800@stmamom.com
SUMMARY:Otsego Open Playtime
DESCRIPTION:Kids ages 5 & under are invited to play and meet new friends at Otsego’s Open Playtime. This drop-in program offers an open play session full of toys\, crafts\, active equipment\, and activities. Come for the whole time or stay while you can. (Parent/guardian supervision is required.) \nCost: $3/child at the door\, or pick up an 11-visit punchcard for $20 at https://otsego.recdesk.com\nPlease check Facebook for closures due to holidays or inclement weather:
URL:https://stmamom.com/event/otsego-open-playtime-2025-04-28/
LOCATION:Prairie Center\, 8899 Nashua Ave NE\, Otsego\, MN\, 55330\, United States
ATTACH;FMTTYPE=image/png:https://stmamom.com/wp-content/uploads/2021/04/otsego-parks-rec-e1619580266549.png
ORGANIZER;CN="Otsego Parks & Recreation":MAILTO:recreation@ci.otsego.mn.us
END:VEVENT
BEGIN:VEVENT
DTSTART;TZID=America/Chicago:20250428T103000
DTEND;TZID=America/Chicago:20250428T113000
DTSTAMP:20260425T092238
CREATED:20240830T192752Z
LAST-MODIFIED:20240830T192752Z
UID:9083-1745836200-1745839800@stmamom.com
SUMMARY:Preschool "Play & Learn" at the Library
DESCRIPTION:Encourage a love of learning as you and your child play\, explore\, discover\, count\, and create. Stations are set up for participants to come and go as time and attention span permits. Activities are designed for ages 1 to 5. No registration\, but room limits may be enforced.
URL:https://stmamom.com/event/preschool-play-learn-at-the-library-2025-04-28/
LOCATION:St. Michael Public Library\, 11800 Town Center Dr NE\, St. Michael\, MN\, 55376\, United States
ATTACH;FMTTYPE=image/png:https://stmamom.com/wp-content/uploads/2024/08/library-play-learn-e1725046036166.png
END:VEVENT
BEGIN:VEVENT
DTSTART;TZID=America/Chicago:20250429T163000
DTEND;TZID=America/Chicago:20250429T180000
DTSTAMP:20260425T092238
CREATED:20250326T125036Z
LAST-MODIFIED:20250326T125036Z
UID:9089-1745944200-1745949600@stmamom.com
SUMMARY:Build-a-Bot with STMA Robotics
DESCRIPTION:Ready to dive into the exciting world of robotics? Join the STMA Robotics team at the library for an unforgettable experience. Watch a live demo of their cutting-edge competition robot\, then get hands-on and build your very own robot to take home. Bring your mobile phone to control your bot using a fun\, easy-to-use app\, feel the thrill of making your creation come to life! \nRegistration required: https://events.griver.org/event/14015008
URL:https://stmamom.com/event/build-a-bot-with-stma-robotics/
LOCATION:St. Michael Public Library\, 11800 Town Center Dr NE\, St. Michael\, MN\, 55376\, United States
END:VEVENT
BEGIN:VEVENT
DTSTART;TZID=America/Chicago:20250501T100000
DTEND;TZID=America/Chicago:20250501T103000
DTSTAMP:20260425T092238
CREATED:20240830T193848Z
LAST-MODIFIED:20250424T132132Z
UID:9088-1746093600-1746095400@stmamom.com
SUMMARY:ECFE Storytime at the Library
DESCRIPTION:Come hang out at the library with your friends from ECFE! A staff member from STMA’s Early Childhood program will lead storytime along with crafts\, games\, songs. This event is intended for ages 0 to 6 along with their parent or caregiver.
URL:https://stmamom.com/event/ecfe-storytime-at-the-library-2024-2025-05-01/
LOCATION:St. Michael Public Library\, 11800 Town Center Dr NE\, St. Michael\, MN\, 55376\, United States
ATTACH;FMTTYPE=image/jpeg:https://stmamom.com/wp-content/uploads/2021/04/ecfe-e1619575280453.jpg
END:VEVENT
BEGIN:VEVENT
DTSTART;TZID=America/Chicago:20250501T100000
DTEND;TZID=America/Chicago:20250501T113000
DTSTAMP:20260425T092238
CREATED:20240830T204814Z
LAST-MODIFIED:20240830T204814Z
UID:9245-1746093600-1746099000@stmamom.com
SUMMARY:Otsego Open Playtime
DESCRIPTION:Kids ages 5 & under are invited to play and meet new friends at Otsego’s Open Playtime. This drop-in program offers an open play session full of toys\, crafts\, active equipment\, and activities. Come for the whole time or stay while you can. (Parent/guardian supervision is required.) \nCost: $3/child at the door\, or pick up an 11-visit punchcard for $20 at https://otsego.recdesk.com\nPlease check Facebook for closures due to holidays or inclement weather:
URL:https://stmamom.com/event/otsego-open-playtime-2025-05-01/
LOCATION:Prairie Center\, 8899 Nashua Ave NE\, Otsego\, MN\, 55330\, United States
ATTACH;FMTTYPE=image/png:https://stmamom.com/wp-content/uploads/2021/04/otsego-parks-rec-e1619580266549.png
ORGANIZER;CN="Otsego Parks & Recreation":MAILTO:recreation@ci.otsego.mn.us
END:VEVENT
BEGIN:VEVENT
DTSTART;TZID=America/Chicago:20250502T180000
DTEND;TZID=America/Chicago:20250502T190000
DTSTAMP:20260425T092238
CREATED:20250425T142726Z
LAST-MODIFIED:20250425T142726Z
UID:9297-1746208800-1746212400@stmamom.com
SUMMARY:ECFE Jammin' in Your Jammies
DESCRIPTION:Get ready to rock the night away in your comfiest pajamas at STMA ECFE’s “Jammin’ in Your Jammies” event! This family-friendly dance party is the perfect way to enjoy music\, games\, and fun with your loved ones. Come dressed in your favorite jammies and get ready to have a blast with music\, games\, and family fun! We can’t wait to see you there! Bring a stuffed animal and your dancing shoes (or slippers!) to make the night extra special! This event is open to all families who want to enjoy a fun\, casual evening together. \nCost: $10/family\nRegister: https://stma.ce.eleyo.com/course/ecfe/7342/winter-spring-2025/jammin-in-your-jammies-ecfe-dance-party
URL:https://stmamom.com/event/ecfe-jammin-in-your-jammies/
LOCATION:STMA Community Education Building\, 60 Central Avenue W\, St. Michael\, MN\, 55376\, United States
ATTACH;FMTTYPE=image/jpeg:https://stmamom.com/wp-content/uploads/2021/04/ecfe-e1619575280453.jpg
END:VEVENT
BEGIN:VEVENT
DTSTART;TZID=America/Chicago:20250503T090000
DTEND;TZID=America/Chicago:20250503T120000
DTSTAMP:20260425T092238
CREATED:20230627T221107Z
LAST-MODIFIED:20260325T211847Z
UID:9105-1746262800-1746273600@stmamom.com
SUMMARY:Home Depot Kids Workshop
DESCRIPTION:Bring your kids to Home Depot to complete a free\, hands-on building project created with them in mind! Workshops take place the 1st Saturday of each month and vary by theme. \nFind out more information and register for the workshop at https://www.homedepot.com/c/kids
URL:https://stmamom.com/event/home-depot-kids-workshop-2025-05-03/
LOCATION:Home Depot\, 1385 E 7th Street\, Monticello\, MN\, 55362\, United States
ATTACH;FMTTYPE=image/png:https://stmamom.com/wp-content/uploads/2023/06/home-depot-e1691001383784.png
END:VEVENT
BEGIN:VEVENT
DTSTART;TZID=America/Chicago:20250505T100000
DTEND;TZID=America/Chicago:20250505T113000
DTSTAMP:20260425T092238
CREATED:20240830T204814Z
LAST-MODIFIED:20240830T204814Z
UID:9246-1746439200-1746444600@stmamom.com
SUMMARY:Otsego Open Playtime
DESCRIPTION:Kids ages 5 & under are invited to play and meet new friends at Otsego’s Open Playtime. This drop-in program offers an open play session full of toys\, crafts\, active equipment\, and activities. Come for the whole time or stay while you can. (Parent/guardian supervision is required.) \nCost: $3/child at the door\, or pick up an 11-visit punchcard for $20 at https://otsego.recdesk.com\nPlease check Facebook for closures due to holidays or inclement weather:
URL:https://stmamom.com/event/otsego-open-playtime-2025-05-05/
LOCATION:Prairie Center\, 8899 Nashua Ave NE\, Otsego\, MN\, 55330\, United States
ATTACH;FMTTYPE=image/png:https://stmamom.com/wp-content/uploads/2021/04/otsego-parks-rec-e1619580266549.png
ORGANIZER;CN="Otsego Parks & Recreation":MAILTO:recreation@ci.otsego.mn.us
END:VEVENT
BEGIN:VEVENT
DTSTART;TZID=America/Chicago:20250505T103000
DTEND;TZID=America/Chicago:20250505T110000
DTSTAMP:20260425T092238
CREATED:20240830T191216Z
LAST-MODIFIED:20240830T191216Z
UID:9262-1746441000-1746442800@stmamom.com
SUMMARY:Library Storytime
DESCRIPTION:Start your week out right… at the library! Share books\, songs\, and rhymes with your children at this storytime designed to promote school readiness in 0- to 5-year-olds. Librarians\, caregivers\, and children will sing\, talk\, read\, write\, and play together to build early literacy skills. Siblings are also welcome.
URL:https://stmamom.com/event/library-storytime-2024-2025-05-05/
LOCATION:St. Michael Public Library\, 11800 Town Center Dr NE\, St. Michael\, MN\, 55376\, United States
ATTACH;FMTTYPE=image/jpeg:https://stmamom.com/wp-content/uploads/2024/08/storytime-e1725045078975.jpg
END:VEVENT
BEGIN:VEVENT
DTSTART;TZID=America/Chicago:20250506T183000
DTEND;TZID=America/Chicago:20250506T193000
DTSTAMP:20260425T092238
CREATED:20250424T140733Z
LAST-MODIFIED:20250424T140733Z
UID:9291-1746556200-1746559800@stmamom.com
SUMMARY:FYCC Family Bingo
DESCRIPTION:Bring your whole family for a night of bingo with FYCC! Have fun and enjoy the chance to win some great prizes. This special Spring Family Bingo will take place outdoors at Town Center Park in St. Michael. \nCost: $20/family (can include grandparents)   Register at myfycc.com
URL:https://stmamom.com/event/fycc-family-bingo-10/
LOCATION:Town Center Park\, 11800 Town Center Drive NE\, St. Michael\, MN\, 55376\, United States
ATTACH;FMTTYPE=image/png:https://stmamom.com/wp-content/uploads/2021/04/fycc-e1697061396286.png
ORGANIZER;CN="FYCC":MAILTO:FYCCinformation@gmail.com
END:VEVENT
BEGIN:VEVENT
DTSTART;TZID=America/Chicago:20250508T100000
DTEND;TZID=America/Chicago:20250508T103000
DTSTAMP:20260425T092238
CREATED:20240830T193848Z
LAST-MODIFIED:20240830T193848Z
UID:9268-1746698400-1746700200@stmamom.com
SUMMARY:ECFE Storytime at the Library
DESCRIPTION:Come hang out at the library with your friends from ECFE! A staff member from STMA’s Early Childhood program will lead storytime along with crafts\, games\, songs. This event is intended for ages 0 to 6 along with their parent or caregiver.
URL:https://stmamom.com/event/ecfe-storytime-at-the-library-2024-2025-05-08/
LOCATION:St. Michael Public Library\, 11800 Town Center Dr NE\, St. Michael\, MN\, 55376\, United States
ATTACH;FMTTYPE=image/jpeg:https://stmamom.com/wp-content/uploads/2021/04/ecfe-e1619575280453.jpg
END:VEVENT
BEGIN:VEVENT
DTSTART;TZID=America/Chicago:20250508T100000
DTEND;TZID=America/Chicago:20250508T113000
DTSTAMP:20260425T092238
CREATED:20240830T204814Z
LAST-MODIFIED:20240830T204814Z
UID:9247-1746698400-1746703800@stmamom.com
SUMMARY:Otsego Open Playtime
DESCRIPTION:Kids ages 5 & under are invited to play and meet new friends at Otsego’s Open Playtime. This drop-in program offers an open play session full of toys\, crafts\, active equipment\, and activities. Come for the whole time or stay while you can. (Parent/guardian supervision is required.) \nCost: $3/child at the door\, or pick up an 11-visit punchcard for $20 at https://otsego.recdesk.com\nPlease check Facebook for closures due to holidays or inclement weather:
URL:https://stmamom.com/event/otsego-open-playtime-2025-05-08/
LOCATION:Prairie Center\, 8899 Nashua Ave NE\, Otsego\, MN\, 55330\, United States
ATTACH;FMTTYPE=image/png:https://stmamom.com/wp-content/uploads/2021/04/otsego-parks-rec-e1619580266549.png
ORGANIZER;CN="Otsego Parks & Recreation":MAILTO:recreation@ci.otsego.mn.us
END:VEVENT
BEGIN:VEVENT
DTSTART;TZID=America/Chicago:20250512T100000
DTEND;TZID=America/Chicago:20250512T113000
DTSTAMP:20260425T092238
CREATED:20240830T204814Z
LAST-MODIFIED:20240830T204814Z
UID:9248-1747044000-1747049400@stmamom.com
SUMMARY:Otsego Open Playtime
DESCRIPTION:Kids ages 5 & under are invited to play and meet new friends at Otsego’s Open Playtime. This drop-in program offers an open play session full of toys\, crafts\, active equipment\, and activities. Come for the whole time or stay while you can. (Parent/guardian supervision is required.) \nCost: $3/child at the door\, or pick up an 11-visit punchcard for $20 at https://otsego.recdesk.com\nPlease check Facebook for closures due to holidays or inclement weather:
URL:https://stmamom.com/event/otsego-open-playtime-2025-05-12/
LOCATION:Prairie Center\, 8899 Nashua Ave NE\, Otsego\, MN\, 55330\, United States
ATTACH;FMTTYPE=image/png:https://stmamom.com/wp-content/uploads/2021/04/otsego-parks-rec-e1619580266549.png
ORGANIZER;CN="Otsego Parks & Recreation":MAILTO:recreation@ci.otsego.mn.us
END:VEVENT
BEGIN:VEVENT
DTSTART;TZID=America/Chicago:20250512T103000
DTEND;TZID=America/Chicago:20250512T110000
DTSTAMP:20260425T092238
CREATED:20240830T191216Z
LAST-MODIFIED:20240830T191216Z
UID:9263-1747045800-1747047600@stmamom.com
SUMMARY:Library Storytime
DESCRIPTION:Start your week out right… at the library! Share books\, songs\, and rhymes with your children at this storytime designed to promote school readiness in 0- to 5-year-olds. Librarians\, caregivers\, and children will sing\, talk\, read\, write\, and play together to build early literacy skills. Siblings are also welcome.
URL:https://stmamom.com/event/library-storytime-2024-2025-05-12/
LOCATION:St. Michael Public Library\, 11800 Town Center Dr NE\, St. Michael\, MN\, 55376\, United States
ATTACH;FMTTYPE=image/jpeg:https://stmamom.com/wp-content/uploads/2024/08/storytime-e1725045078975.jpg
END:VEVENT
BEGIN:VEVENT
DTSTART;TZID=America/Chicago:20250513T180000
DTEND;TZID=America/Chicago:20250513T193000
DTSTAMP:20260425T092238
CREATED:20250424T132811Z
LAST-MODIFIED:20250424T132811Z
UID:9275-1747159200-1747164600@stmamom.com
SUMMARY:Otsego Touch-a-Truck
DESCRIPTION:Rev up your summer! Otsego’s annual Touch-A-Truck is your all-access pass to explore the big\, bold\, and fascinating world of vehicles. This interactive event invites children and families to get behind the wheel and possibly meet the everyday heroes who operate these powerful machines. Whether it’s climbing aboard a fire truck\, checking out the sirens in a sheriff’s squad\, or seeing how a dump truck works\, there’s an adventure around every corner. The excitement really soars with a live helicopter landing and takeoff—a rare and unforgettable sight for all ages.
URL:https://stmamom.com/event/otsego-touch-a-truck-4/
LOCATION:Prairie Park\, Otsego\, 13355 90th Street NE\, Otsego\, MN\, 55330\, United States
ATTACH;FMTTYPE=image/png:https://stmamom.com/wp-content/uploads/2021/04/otsego-parks-rec-e1619580266549.png
ORGANIZER;CN="Otsego Parks & Recreation":MAILTO:recreation@ci.otsego.mn.us
END:VEVENT
BEGIN:VEVENT
DTSTART;TZID=America/Chicago:20250514T090000
DTEND;TZID=America/Chicago:20250514T110000
DTSTAMP:20260425T092238
CREATED:20250425T151104Z
LAST-MODIFIED:20250425T151104Z
UID:9299-1747213200-1747220400@stmamom.com
SUMMARY:ECFE Trip Around Town
DESCRIPTION:Little ones are invited to join their friends from ECFE to ride the school bus around town\, making stops at local destinations. This is a terrific way for your child to experience the bus first-hand! Bus departs from the St. Michael Elementary School parking lot. \nCost: $15/child  (chaperones free!)\nRegister: https://stma.ce.eleyo.com/course/ecfe/7332/winter-spring-2025/ecfe-trip-around-town
URL:https://stmamom.com/event/ecfe-trip-around-town/
LOCATION:St. Michael Elementary\, 101 Central Ave W\, St. Michael\, MN\, 55376\, United States
ATTACH;FMTTYPE=image/jpeg:https://stmamom.com/wp-content/uploads/2021/04/ecfe-e1619575280453.jpg
END:VEVENT
BEGIN:VEVENT
DTSTART;TZID=America/Chicago:20250515T100000
DTEND;TZID=America/Chicago:20250515T103000
DTSTAMP:20260425T092238
CREATED:20240830T193848Z
LAST-MODIFIED:20240830T193848Z
UID:9269-1747303200-1747305000@stmamom.com
SUMMARY:ECFE Storytime at the Library
DESCRIPTION:Come hang out at the library with your friends from ECFE! A staff member from STMA’s Early Childhood program will lead storytime along with crafts\, games\, songs. This event is intended for ages 0 to 6 along with their parent or caregiver.
URL:https://stmamom.com/event/ecfe-storytime-at-the-library-2024-2025-05-15/
LOCATION:St. Michael Public Library\, 11800 Town Center Dr NE\, St. Michael\, MN\, 55376\, United States
ATTACH;FMTTYPE=image/jpeg:https://stmamom.com/wp-content/uploads/2021/04/ecfe-e1619575280453.jpg
END:VEVENT
BEGIN:VEVENT
DTSTART;TZID=America/Chicago:20250515T100000
DTEND;TZID=America/Chicago:20250515T113000
DTSTAMP:20260425T092238
CREATED:20240830T204814Z
LAST-MODIFIED:20240830T204814Z
UID:9249-1747303200-1747308600@stmamom.com
SUMMARY:Otsego Open Playtime
DESCRIPTION:Kids ages 5 & under are invited to play and meet new friends at Otsego’s Open Playtime. This drop-in program offers an open play session full of toys\, crafts\, active equipment\, and activities. Come for the whole time or stay while you can. (Parent/guardian supervision is required.) \nCost: $3/child at the door\, or pick up an 11-visit punchcard for $20 at https://otsego.recdesk.com\nPlease check Facebook for closures due to holidays or inclement weather:
URL:https://stmamom.com/event/otsego-open-playtime-2025-05-15/
LOCATION:Prairie Center\, 8899 Nashua Ave NE\, Otsego\, MN\, 55330\, United States
ATTACH;FMTTYPE=image/png:https://stmamom.com/wp-content/uploads/2021/04/otsego-parks-rec-e1619580266549.png
ORGANIZER;CN="Otsego Parks & Recreation":MAILTO:recreation@ci.otsego.mn.us
END:VEVENT
END:VCALENDAR