BEGIN:VCALENDAR
VERSION:2.0
PRODID:-//STMAmom.com - ECPv6.15.16.1//NONSGML v1.0//EN
CALSCALE:GREGORIAN
METHOD:PUBLISH
X-ORIGINAL-URL:https://stmamom.com
X-WR-CALDESC:Events for STMAmom.com
REFRESH-INTERVAL;VALUE=DURATION:PT1H
X-Robots-Tag:noindex
X-PUBLISHED-TTL:PT1H
BEGIN:VTIMEZONE
TZID:America/Chicago
BEGIN:DAYLIGHT
TZOFFSETFROM:-0600
TZOFFSETTO:-0500
TZNAME:CDT
DTSTART:20240310T080000
END:DAYLIGHT
BEGIN:STANDARD
TZOFFSETFROM:-0500
TZOFFSETTO:-0600
TZNAME:CST
DTSTART:20241103T070000
END:STANDARD
BEGIN:DAYLIGHT
TZOFFSETFROM:-0600
TZOFFSETTO:-0500
TZNAME:CDT
DTSTART:20250309T080000
END:DAYLIGHT
BEGIN:STANDARD
TZOFFSETFROM:-0500
TZOFFSETTO:-0600
TZNAME:CST
DTSTART:20251102T070000
END:STANDARD
BEGIN:DAYLIGHT
TZOFFSETFROM:-0600
TZOFFSETTO:-0500
TZNAME:CDT
DTSTART:20260308T080000
END:DAYLIGHT
BEGIN:STANDARD
TZOFFSETFROM:-0500
TZOFFSETTO:-0600
TZNAME:CST
DTSTART:20261101T070000
END:STANDARD
END:VTIMEZONE
BEGIN:VEVENT
DTSTART;VALUE=DATE:20250609
DTEND;VALUE=DATE:20250610
DTSTAMP:20260425T104246
CREATED:20250523T191159Z
LAST-MODIFIED:20250523T191159Z
UID:9388-1749427200-1749513599@stmamom.com
SUMMARY:Summer Reading Program Begins
DESCRIPTION:Jump start your kids’ summer reading by signing up for the Summer Reading Program at St. Michael Public Library! \nThis year’s program (for infants through 12th grade) will run from June 9 through early August and features both fun events and the chance to win books and other great prizes.
URL:https://stmamom.com/event/summer-reading-program-begins-4/
LOCATION:St. Michael Public Library\, 11800 Town Center Dr NE\, St. Michael\, MN\, 55376\, United States
ATTACH;FMTTYPE=image/jpeg:https://stmamom.com/wp-content/uploads/2019/09/st-michael-library.jpg
END:VEVENT
BEGIN:VEVENT
DTSTART;TZID=America/Chicago:20250610T090000
DTEND;TZID=America/Chicago:20250610T103000
DTSTAMP:20260425T104246
CREATED:20250523T190833Z
LAST-MODIFIED:20250617T210353Z
UID:9375-1749546000-1749551400@stmamom.com
SUMMARY:Breakfast at the Playground
DESCRIPTION:All school-aged kids and teens in the STMA community are invited to enjoy a FREE breakfast every Tuesday from 9:00 to 10:30am at rotating school playground locations! You can “grab and go” your breakfast or stay to hang out and play. \nThis event is sponsored by Alleluia Lutheran Church and Imagine Church\, but donations are always appreciated! To donate breakfast items\, check out the Amazon Wish List. \nSchedule & Locations:
URL:https://stmamom.com/event/breakfast-at-the-playground-2025/
LOCATION:MN
ATTACH;FMTTYPE=image/jpeg:https://stmamom.com/wp-content/uploads/2025/05/breakfast-playground-e1748027177360.jpg
END:VEVENT
BEGIN:VEVENT
DTSTART;TZID=America/Chicago:20250610T100000
DTEND;TZID=America/Chicago:20250610T110000
DTSTAMP:20260425T104246
CREATED:20250523T184845Z
LAST-MODIFIED:20250523T184845Z
UID:9364-1749549600-1749553200@stmamom.com
SUMMARY:Otsego Entertainment in the Park
DESCRIPTION:Cool off at the Otsego Splash Pad and enjoy free family entertainment at Otsego’s Summer Entertainment in the Park series! \nEntertainment will take place in the park shelter (or move inside the Prairie Center if there is inclement weather). \nFull schedule:
URL:https://stmamom.com/event/otsego-entertainment-in-the-park/
LOCATION:Prairie Park\, Otsego\, 13355 90th Street NE\, Otsego\, MN\, 55330\, United States
ATTACH;FMTTYPE=image/png:https://stmamom.com/wp-content/uploads/2021/04/otsego-parks-rec-e1619580266549.png
ORGANIZER;CN="Otsego Parks & Recreation":MAILTO:recreation@ci.otsego.mn.us
END:VEVENT
BEGIN:VEVENT
DTSTART;VALUE=DATE:20250611
DTEND;VALUE=DATE:20250616
DTSTAMP:20260425T104246
CREATED:20250523T191329Z
LAST-MODIFIED:20250523T191329Z
UID:9390-1749600000-1750031999@stmamom.com
SUMMARY:Albertville Friendly City Days
DESCRIPTION:Kick off summer with 5 days of fun! There’s something for everyone at Albertville Friendly City Days\, including a carnival\, fireworks\, parade\, city-wide garage sale\, and much more. Visit albertvillefriendlycitydays.com for a full schedule of events.
URL:https://stmamom.com/event/albertville-friendly-city-days-4/
LOCATION:Albertville Central Park\, 5801 Main Ave NE\, Albertville\, MN\, 55301\, United States
ATTACH;FMTTYPE=image/png:https://stmamom.com/wp-content/uploads/2023/05/AFCD-Logo-e1685481697240.png
END:VEVENT
BEGIN:VEVENT
DTSTART;TZID=America/Chicago:20250611T180000
DTEND;TZID=America/Chicago:20250611T200000
DTSTAMP:20260425T104246
CREATED:20250523T213205Z
LAST-MODIFIED:20250531T194324Z
UID:9401-1749664800-1749672000@stmamom.com
SUMMARY:St. Michael Family Night in the Park
DESCRIPTION:Bring the family out to St. Michael Town Center Park for an evening of live entertainment sponsored by local community groups. \nVisit the City of St. Michael on Facebook for complete schedule and info.
URL:https://stmamom.com/event/st-michael-family-night-in-the-park-2025-06-11/
LOCATION:Town Center Park\, 11800 Town Center Drive NE\, St. Michael\, MN\, 55376\, United States
ATTACH;FMTTYPE=image/jpeg:https://stmamom.com/wp-content/uploads/2025/05/stm-family.jpg
ORGANIZER;CN="City of St. Michael":MAILTO:cityhall@ci.st-michael.mn.us
END:VEVENT
BEGIN:VEVENT
DTSTART;TZID=America/Chicago:20250612T093000
DTEND;TZID=America/Chicago:20250612T100000
DTSTAMP:20260425T104246
CREATED:20250523T182617Z
LAST-MODIFIED:20250523T182617Z
UID:9346-1749720600-1749722400@stmamom.com
SUMMARY:Reading in the Park (Hanover)
DESCRIPTION:Join FYCC every Thursday at Settler’s Park in Hanover to hear some great stories read by local community leaders. After storytime\, each child will get to take home a free book! \nThis event is for infants through 8th grade. Please register at myfycc.com
URL:https://stmamom.com/event/reading-in-the-park-hanover-10/
LOCATION:Hanover Settlers Park\, 11250 5th St NE\, Hanover\, MN\, 55341\, United States
ATTACH;FMTTYPE=image/png:https://stmamom.com/wp-content/uploads/2021/04/fycc-e1697061396286.png
ORGANIZER;CN="FYCC":MAILTO:FYCCinformation@gmail.com
END:VEVENT
BEGIN:VEVENT
DTSTART;TZID=America/Chicago:20250613T110000
DTEND;TZID=America/Chicago:20250613T120000
DTSTAMP:20260425T104246
CREATED:20250523T191804Z
LAST-MODIFIED:20250523T191804Z
UID:9392-1749812400-1749816000@stmamom.com
SUMMARY:Summer Reading Kickoff ft. The Jolly Pops
DESCRIPTION:Celebrate the Summer Reading Challenge with The Jolly Pops! Join these happy dads and their puppet friends as they sing about alligator dancing\, popsicles\, trains\, pet dinosaurs… and everything in between! This event is for preschool and school-age kids with their families. \nFollowing the show\, the St. Michael Royalty will be passing out treats and signing up kids for the Summer Reading Challenge. \nThis program was made possible with Arts & Cultural Heritage Funds from Minnesota’s Clean Water\, Land\, and Legacy Amendment and the St. Michael Friends of the Library
URL:https://stmamom.com/event/summer-reading-kickoff-ft-the-jolly-pops/
LOCATION:St. Michael Public Library\, 11800 Town Center Dr NE\, St. Michael\, MN\, 55376\, United States
ATTACH;FMTTYPE=image/jpeg:https://stmamom.com/wp-content/uploads/2019/09/st-michael-library.jpg
END:VEVENT
BEGIN:VEVENT
DTSTART;VALUE=DATE:20250614
DTEND;VALUE=DATE:20250620
DTSTAMP:20260425T104246
CREATED:20250523T180512Z
LAST-MODIFIED:20250528T030222Z
UID:9334-1749859200-1750377599@stmamom.com
SUMMARY:$1 Kids Movie: The Bad Guys
DESCRIPTION:Visit St. Michael Cinema for great kid-friendly movies all summer long for just $1 per person! Showtimes and tickets available at stmichaelcinema.com. \nComplete list of movies:
URL:https://stmamom.com/event/summer-movies-2025-bad-guys/
LOCATION:St. Michael Cinema\, 4300 O'Day Ave NE\, St. Michael\, MN\, 55376\, United States
ATTACH;FMTTYPE=image/jpeg:https://stmamom.com/wp-content/uploads/2024/05/summermovies-header-e1716754266575.jpg
END:VEVENT
BEGIN:VEVENT
DTSTART;TZID=America/Chicago:20250617T090000
DTEND;TZID=America/Chicago:20250617T103000
DTSTAMP:20260425T104246
CREATED:20250523T190833Z
LAST-MODIFIED:20250617T210353Z
UID:9378-1750150800-1750156200@stmamom.com
SUMMARY:Breakfast at the Playground
DESCRIPTION:All school-aged kids and teens in the STMA community are invited to enjoy a FREE breakfast every Tuesday from 9:00 to 10:30am at rotating school playground locations! You can “grab and go” your breakfast or stay to hang out and play. \nThis event is sponsored by Alleluia Lutheran Church and Imagine Church\, but donations are always appreciated! To donate breakfast items\, check out the Amazon Wish List. \nSchedule & Locations:
URL:https://stmamom.com/event/breakfast-at-the-playground-2025-2025-06-17/
LOCATION:MN
ATTACH;FMTTYPE=image/jpeg:https://stmamom.com/wp-content/uploads/2025/05/breakfast-playground-e1748027177360.jpg
END:VEVENT
BEGIN:VEVENT
DTSTART;TZID=America/Chicago:20250617T093000
DTEND;TZID=America/Chicago:20250617T100000
DTSTAMP:20260425T104246
CREATED:20250523T183405Z
LAST-MODIFIED:20250523T183405Z
UID:9360-1750152600-1750154400@stmamom.com
SUMMARY:Reading in the Park (St. Michael)
DESCRIPTION:Join FYCC at St. Michael’s Town Center Park to hear some great stories read by local community leaders. After storytime\, each child will get to take home a free book! \nThis event is for infants through 8th grade. Please register at myfycc.com
URL:https://stmamom.com/event/reading-in-the-park-st-michael-6/
LOCATION:Town Center Park\, 11800 Town Center Drive NE\, St. Michael\, MN\, 55376\, United States
ATTACH;FMTTYPE=image/png:https://stmamom.com/wp-content/uploads/2021/04/fycc-e1697061396286.png
ORGANIZER;CN="FYCC":MAILTO:FYCCinformation@gmail.com
END:VEVENT
BEGIN:VEVENT
DTSTART;TZID=America/Chicago:20250618T093000
DTEND;TZID=America/Chicago:20250618T100000
DTSTAMP:20260425T104246
CREATED:20250523T182946Z
LAST-MODIFIED:20250523T182946Z
UID:9356-1750239000-1750240800@stmamom.com
SUMMARY:Reading in the Park (Albertville)
DESCRIPTION:Join FYCC at Central Park in Albertville to hear some great stories read by local community leaders. After storytime\, each child will get to take home a free book! \nThis event is for infants through 8th grade. Please register at myfycc.com
URL:https://stmamom.com/event/reading-in-the-park-albertville-6/
LOCATION:Albertville Central Park\, 5801 Main Ave NE\, Albertville\, MN\, 55301\, United States
ATTACH;FMTTYPE=image/png:https://stmamom.com/wp-content/uploads/2021/04/fycc-e1697061396286.png
ORGANIZER;CN="FYCC":MAILTO:FYCCinformation@gmail.com
END:VEVENT
BEGIN:VEVENT
DTSTART;TZID=America/Chicago:20250618T180000
DTEND;TZID=America/Chicago:20250618T200000
DTSTAMP:20260425T104246
CREATED:20250523T213205Z
LAST-MODIFIED:20250531T194324Z
UID:9402-1750269600-1750276800@stmamom.com
SUMMARY:St. Michael Family Night in the Park
DESCRIPTION:Bring the family out to St. Michael Town Center Park for an evening of live entertainment sponsored by local community groups. \nVisit the City of St. Michael on Facebook for complete schedule and info.
URL:https://stmamom.com/event/st-michael-family-night-in-the-park-2025-06-18/
LOCATION:Town Center Park\, 11800 Town Center Drive NE\, St. Michael\, MN\, 55376\, United States
ATTACH;FMTTYPE=image/jpeg:https://stmamom.com/wp-content/uploads/2025/05/stm-family.jpg
ORGANIZER;CN="City of St. Michael":MAILTO:cityhall@ci.st-michael.mn.us
END:VEVENT
BEGIN:VEVENT
DTSTART;TZID=America/Chicago:20250619T093000
DTEND;TZID=America/Chicago:20250619T100000
DTSTAMP:20260425T104246
CREATED:20250523T182617Z
LAST-MODIFIED:20250523T182617Z
UID:9347-1750325400-1750327200@stmamom.com
SUMMARY:Reading in the Park (Hanover)
DESCRIPTION:Join FYCC every Thursday at Settler’s Park in Hanover to hear some great stories read by local community leaders. After storytime\, each child will get to take home a free book! \nThis event is for infants through 8th grade. Please register at myfycc.com
URL:https://stmamom.com/event/reading-in-the-park-hanover-10-2025-06-19/
LOCATION:Hanover Settlers Park\, 11250 5th St NE\, Hanover\, MN\, 55341\, United States
ATTACH;FMTTYPE=image/png:https://stmamom.com/wp-content/uploads/2021/04/fycc-e1697061396286.png
ORGANIZER;CN="FYCC":MAILTO:FYCCinformation@gmail.com
END:VEVENT
BEGIN:VEVENT
DTSTART;VALUE=DATE:20250621
DTEND;VALUE=DATE:20250627
DTSTAMP:20260425T104246
CREATED:20250523T180512Z
LAST-MODIFIED:20250528T030306Z
UID:9335-1750464000-1750982399@stmamom.com
SUMMARY:$1 Kids Movie: Trolls
DESCRIPTION:Visit St. Michael Cinema for great kid-friendly movies all summer long for just $1 per person! Showtimes and tickets available at stmichaelcinema.com. \nComplete list of movies:
URL:https://stmamom.com/event/summer-movies-2025-trolls/
LOCATION:St. Michael Cinema\, 4300 O'Day Ave NE\, St. Michael\, MN\, 55376\, United States
ATTACH;FMTTYPE=image/jpeg:https://stmamom.com/wp-content/uploads/2024/05/summermovies-header-e1716754266575.jpg
END:VEVENT
BEGIN:VEVENT
DTSTART;TZID=America/Chicago:20250623T103000
DTEND;TZID=America/Chicago:20250623T111500
DTSTAMP:20260425T104246
CREATED:20250523T192158Z
LAST-MODIFIED:20250523T192158Z
UID:9394-1750674600-1750677300@stmamom.com
SUMMARY:Storytime at Town Center Park
DESCRIPTION:Librarians\, caregivers and children will read\, talk\, craft and play together to build early literacy skills in kids ages 0-6. Each storytime will explore a different way to “Level Up” including reading specially curated books\, interactive activities\, and a craft. Siblings Welcome!
URL:https://stmamom.com/event/storytime-at-town-center-park/
LOCATION:Town Center Park\, 11800 Town Center Drive NE\, St. Michael\, MN\, 55376\, United States
ATTACH;FMTTYPE=image/jpeg:https://stmamom.com/wp-content/uploads/2025/05/summer-storytime.jpg
END:VEVENT
BEGIN:VEVENT
DTSTART;TZID=America/Chicago:20250624T090000
DTEND;TZID=America/Chicago:20250624T103000
DTSTAMP:20260425T104246
CREATED:20250523T190833Z
LAST-MODIFIED:20250617T210353Z
UID:9379-1750755600-1750761000@stmamom.com
SUMMARY:Breakfast at the Playground
DESCRIPTION:All school-aged kids and teens in the STMA community are invited to enjoy a FREE breakfast every Tuesday from 9:00 to 10:30am at rotating school playground locations! You can “grab and go” your breakfast or stay to hang out and play. \nThis event is sponsored by Alleluia Lutheran Church and Imagine Church\, but donations are always appreciated! To donate breakfast items\, check out the Amazon Wish List. \nSchedule & Locations:
URL:https://stmamom.com/event/breakfast-at-the-playground-2025-2025-06-24/
LOCATION:MN
ATTACH;FMTTYPE=image/jpeg:https://stmamom.com/wp-content/uploads/2025/05/breakfast-playground-e1748027177360.jpg
END:VEVENT
BEGIN:VEVENT
DTSTART;TZID=America/Chicago:20250625T180000
DTEND;TZID=America/Chicago:20250625T200000
DTSTAMP:20260425T104246
CREATED:20250523T213205Z
LAST-MODIFIED:20250531T194324Z
UID:9403-1750874400-1750881600@stmamom.com
SUMMARY:St. Michael Family Night in the Park
DESCRIPTION:Bring the family out to St. Michael Town Center Park for an evening of live entertainment sponsored by local community groups. \nVisit the City of St. Michael on Facebook for complete schedule and info.
URL:https://stmamom.com/event/st-michael-family-night-in-the-park-2025-06-25/
LOCATION:Town Center Park\, 11800 Town Center Drive NE\, St. Michael\, MN\, 55376\, United States
ATTACH;FMTTYPE=image/jpeg:https://stmamom.com/wp-content/uploads/2025/05/stm-family.jpg
ORGANIZER;CN="City of St. Michael":MAILTO:cityhall@ci.st-michael.mn.us
END:VEVENT
BEGIN:VEVENT
DTSTART;TZID=America/Chicago:20250626T093000
DTEND;TZID=America/Chicago:20250626T100000
DTSTAMP:20260425T104246
CREATED:20250523T182617Z
LAST-MODIFIED:20250523T182617Z
UID:9348-1750930200-1750932000@stmamom.com
SUMMARY:Reading in the Park (Hanover)
DESCRIPTION:Join FYCC every Thursday at Settler’s Park in Hanover to hear some great stories read by local community leaders. After storytime\, each child will get to take home a free book! \nThis event is for infants through 8th grade. Please register at myfycc.com
URL:https://stmamom.com/event/reading-in-the-park-hanover-10-2025-06-26/
LOCATION:Hanover Settlers Park\, 11250 5th St NE\, Hanover\, MN\, 55341\, United States
ATTACH;FMTTYPE=image/png:https://stmamom.com/wp-content/uploads/2021/04/fycc-e1697061396286.png
ORGANIZER;CN="FYCC":MAILTO:FYCCinformation@gmail.com
END:VEVENT
BEGIN:VEVENT
DTSTART;TZID=America/Chicago:20250626T130000
DTEND;TZID=America/Chicago:20250626T140000
DTSTAMP:20260425T104246
CREATED:20250618T130130Z
LAST-MODIFIED:20250618T130130Z
UID:9421-1750942800-1750946400@stmamom.com
SUMMARY:Open Swim
DESCRIPTION:Bring your family to enjoy lifeguard-supervised recreational swimming at STMA Middle School East. You can choose either to pay per visit or purchase a season pass. No registration required; pay on site at the pool. \nChildren 7 and under MUST be accompanied by an adult in the water. \nDaily Admission: \n\nChildren 4 and under – Free\nStudents and Adults – $3\nFamily (immediate family only) – $6\nActivity Center members – Free\n\nSummer Pool Pass: \n\nIndividual Pass – $50\nFamily Pass – $75
URL:https://stmamom.com/event/open-swim-2025/
LOCATION:STMA Middle School East\, 4862 Naber Avenue NE\, St. Michael\, MN\, 55376\, United States
ATTACH;FMTTYPE=image/png:https://stmamom.com/wp-content/uploads/2023/07/swim-e1689015869465.png
ORGANIZER;CN="STMA Community Education":MAILTO:janetm@mystma.org
END:VEVENT
BEGIN:VEVENT
DTSTART;TZID=America/Chicago:20250626T180000
DTEND;TZID=America/Chicago:20250626T190000
DTSTAMP:20260425T104246
CREATED:20250523T184845Z
LAST-MODIFIED:20250523T184845Z
UID:9366-1750960800-1750964400@stmamom.com
SUMMARY:Otsego Entertainment in the Park
DESCRIPTION:Cool off at the Otsego Splash Pad and enjoy free family entertainment at Otsego’s Summer Entertainment in the Park series! \nEntertainment will take place in the park shelter (or move inside the Prairie Center if there is inclement weather). \nFull schedule:
URL:https://stmamom.com/event/otsego-entertainment-in-the-park-2025-06-26/
LOCATION:Prairie Park\, Otsego\, 13355 90th Street NE\, Otsego\, MN\, 55330\, United States
ATTACH;FMTTYPE=image/png:https://stmamom.com/wp-content/uploads/2021/04/otsego-parks-rec-e1619580266549.png
ORGANIZER;CN="Otsego Parks & Recreation":MAILTO:recreation@ci.otsego.mn.us
END:VEVENT
BEGIN:VEVENT
DTSTART;VALUE=DATE:20250628
DTEND;VALUE=DATE:20250704
DTSTAMP:20260425T104246
CREATED:20250523T180512Z
LAST-MODIFIED:20250528T030339Z
UID:9336-1751068800-1751587199@stmamom.com
SUMMARY:$1 Kids Movie: Trolls Band Together
DESCRIPTION:Visit St. Michael Cinema for great kid-friendly movies all summer long for just $1 per person! Showtimes and tickets available at stmichaelcinema.com. \nComplete list of movies:
URL:https://stmamom.com/event/summer-movies-trolls-2/
LOCATION:St. Michael Cinema\, 4300 O'Day Ave NE\, St. Michael\, MN\, 55376\, United States
ATTACH;FMTTYPE=image/jpeg:https://stmamom.com/wp-content/uploads/2024/05/summermovies-header-e1716754266575.jpg
END:VEVENT
BEGIN:VEVENT
DTSTART;TZID=America/Chicago:20250701T090000
DTEND;TZID=America/Chicago:20250701T103000
DTSTAMP:20260425T104246
CREATED:20250523T190833Z
LAST-MODIFIED:20250617T210354Z
UID:9380-1751360400-1751365800@stmamom.com
SUMMARY:Breakfast at the Playground
DESCRIPTION:All school-aged kids and teens in the STMA community are invited to enjoy a FREE breakfast every Tuesday from 9:00 to 10:30am at rotating school playground locations! You can “grab and go” your breakfast or stay to hang out and play. \nThis event is sponsored by Alleluia Lutheran Church and Imagine Church\, but donations are always appreciated! To donate breakfast items\, check out the Amazon Wish List. \nSchedule & Locations:
URL:https://stmamom.com/event/breakfast-at-the-playground-2025-2025-07-01/
LOCATION:MN
ATTACH;FMTTYPE=image/jpeg:https://stmamom.com/wp-content/uploads/2025/05/breakfast-playground-e1748027177360.jpg
END:VEVENT
BEGIN:VEVENT
DTSTART;TZID=America/Chicago:20250702T180000
DTEND;TZID=America/Chicago:20250702T200000
DTSTAMP:20260425T104246
CREATED:20250523T213205Z
LAST-MODIFIED:20250531T194324Z
UID:9404-1751479200-1751486400@stmamom.com
SUMMARY:St. Michael Family Night in the Park
DESCRIPTION:Bring the family out to St. Michael Town Center Park for an evening of live entertainment sponsored by local community groups. \nVisit the City of St. Michael on Facebook for complete schedule and info.
URL:https://stmamom.com/event/st-michael-family-night-in-the-park-2025-07-02/
LOCATION:Town Center Park\, 11800 Town Center Drive NE\, St. Michael\, MN\, 55376\, United States
ATTACH;FMTTYPE=image/jpeg:https://stmamom.com/wp-content/uploads/2025/05/stm-family.jpg
ORGANIZER;CN="City of St. Michael":MAILTO:cityhall@ci.st-michael.mn.us
END:VEVENT
BEGIN:VEVENT
DTSTART;VALUE=DATE:20250703
DTEND;VALUE=DATE:20250707
DTSTAMP:20260425T104246
CREATED:20250528T023903Z
LAST-MODIFIED:20250528T023903Z
UID:9425-1751500800-1751846399@stmamom.com
SUMMARY:Delano 4th of July
DESCRIPTION:Bring your family to enjoy Delano’s Fourth of July celebration\, the oldest and largest Fourth of July celebration in Minnesota! Events take place over the course of four days\, including a 4th of July parade\, and culminating in fireworks on July 6th. \nClick here for a complete schedule of events: Delano 4th of July – Events
URL:https://stmamom.com/event/delano-4th-of-july-2025/
LOCATION:Delano 4th of July Celebration\, 559 North River Street\, Delano\, 55328
END:VEVENT
BEGIN:VEVENT
DTSTART;TZID=America/Chicago:20250703T130000
DTEND;TZID=America/Chicago:20250703T140000
DTSTAMP:20260425T104246
CREATED:20250618T130130Z
LAST-MODIFIED:20250618T130130Z
UID:9501-1751547600-1751551200@stmamom.com
SUMMARY:Open Swim
DESCRIPTION:Bring your family to enjoy lifeguard-supervised recreational swimming at STMA Middle School East. You can choose either to pay per visit or purchase a season pass. No registration required; pay on site at the pool. \nChildren 7 and under MUST be accompanied by an adult in the water. \nDaily Admission: \n\nChildren 4 and under – Free\nStudents and Adults – $3\nFamily (immediate family only) – $6\nActivity Center members – Free\n\nSummer Pool Pass: \n\nIndividual Pass – $50\nFamily Pass – $75
URL:https://stmamom.com/event/open-swim-2025-2025-07-03/
LOCATION:STMA Middle School East\, 4862 Naber Avenue NE\, St. Michael\, MN\, 55376\, United States
ATTACH;FMTTYPE=image/png:https://stmamom.com/wp-content/uploads/2023/07/swim-e1689015869465.png
ORGANIZER;CN="STMA Community Education":MAILTO:janetm@mystma.org
END:VEVENT
BEGIN:VEVENT
DTSTART;TZID=America/Chicago:20250703T150000
DTEND;TZID=America/Chicago:20250703T180000
DTSTAMP:20260425T104246
CREATED:20250630T232348Z
LAST-MODIFIED:20250630T232348Z
UID:9511-1751554800-1751565600@stmamom.com
SUMMARY:Kids Day at the Farmer's Market
DESCRIPTION:All kids are invited for an afternoon of fun with Albertville Lions Club at the Farmer’s Market. Activities include a ninja gym\, petting zoo\, balloon artist\, face painting\, magician\, and more! \nDon’t forget to stop by the FYCC booth at the Farmer’s Market to sign up for the Power of Produce program.
URL:https://stmamom.com/event/kids-day-at-the-farmers-market-2025/
LOCATION:Albertville Central Park\, 5801 Main Ave NE\, Albertville\, MN\, 55301\, United States
END:VEVENT
BEGIN:VEVENT
DTSTART;TZID=America/Chicago:20250703T150000
DTEND;TZID=America/Chicago:20250703T183000
DTSTAMP:20260425T104246
CREATED:20250523T213530Z
LAST-MODIFIED:20250523T213530Z
UID:9411-1751554800-1751567400@stmamom.com
SUMMARY:Power of Produce
DESCRIPTION:FYCC’s free “Power of Produce” program is open to kids ages 2–17. Each week that they visit the Albertville Farmer’s Market\, kids will receive a free fruit or vegetable of their choice that was provided by farmers from the market. The P.O.P. program runs every Thursday\, from July 3 through August 28. \nParent or guardian permission/signature required at signup.\nRegister in advance at https://secure.rec1.com/MN/family-youth-community-connections/catalog
URL:https://stmamom.com/event/power-of-produce-2/
LOCATION:Albertville Central Park\, 5801 Main Ave NE\, Albertville\, MN\, 55301\, United States
ATTACH;FMTTYPE=image/jpeg:https://stmamom.com/wp-content/uploads/2023/06/pop-e1686777338415.jpg
ORGANIZER;CN="FYCC":MAILTO:FYCCinformation@gmail.com
END:VEVENT
BEGIN:VEVENT
DTSTART;TZID=America/Chicago:20250704T220000
DTEND;TZID=America/Chicago:20250704T221500
DTSTAMP:20260425T104246
CREATED:20250630T234157Z
LAST-MODIFIED:20250630T234157Z
UID:9513-1751666400-1751667300@stmamom.com
SUMMARY:Elk River Fireworks
DESCRIPTION:The City of Elk River will be hosting a fireworks display to celebrate Independence Day. Fireworks will be launched at 10pm from the Oak Knoll Athletic Complex. Official viewing areas include the Elk River High School parking lot\, Salk Middle School parking lot\, Lion John Weicht Park. \nIf there is a postponement due to weather\, the city will provide an update on its website and social media channels: https://facebook.com/CityofElkRiver
URL:https://stmamom.com/event/elk-river-fireworks-2/
LOCATION:Oak Knoll Athletic Complex\, 999 Proctor Ave NW\, Elk River\, MN\, 55330\, United States
ATTACH;FMTTYPE=image/png:https://stmamom.com/wp-content/uploads/2021/06/elkriver-e1625079605468.png
END:VEVENT
BEGIN:VEVENT
DTSTART;VALUE=DATE:20250705
DTEND;VALUE=DATE:20250711
DTSTAMP:20260425T104246
CREATED:20250523T180512Z
LAST-MODIFIED:20250528T030410Z
UID:9337-1751673600-1752191999@stmamom.com
SUMMARY:$1 Kids Movie: Spirit Untamed
DESCRIPTION:Visit St. Michael Cinema for great kid-friendly movies all summer long for just $1 per person! Showtimes and tickets available at stmichaelcinema.com. \nComplete list of movies:
URL:https://stmamom.com/event/summer-movies-2025-spirit-untamed/
LOCATION:St. Michael Cinema\, 4300 O'Day Ave NE\, St. Michael\, MN\, 55376\, United States
ATTACH;FMTTYPE=image/jpeg:https://stmamom.com/wp-content/uploads/2024/05/summermovies-header-e1716754266575.jpg
END:VEVENT
BEGIN:VEVENT
DTSTART;TZID=America/Chicago:20250705T090000
DTEND;TZID=America/Chicago:20250705T120000
DTSTAMP:20260425T104246
CREATED:20230627T221107Z
LAST-MODIFIED:20260325T211847Z
UID:9428-1751706000-1751716800@stmamom.com
SUMMARY:Home Depot Kids Workshop
DESCRIPTION:Bring your kids to Home Depot to complete a free\, hands-on building project created with them in mind! Workshops take place the 1st Saturday of each month and vary by theme. \nFind out more information and register for the workshop at https://www.homedepot.com/c/kids
URL:https://stmamom.com/event/home-depot-kids-workshop-2025-07-05/
LOCATION:Home Depot\, 1385 E 7th Street\, Monticello\, MN\, 55362\, United States
ATTACH;FMTTYPE=image/png:https://stmamom.com/wp-content/uploads/2023/06/home-depot-e1691001383784.png
END:VEVENT
END:VCALENDAR