BEGIN:VCALENDAR
VERSION:2.0
PRODID:-//STMAmom.com - ECPv6.15.16.1//NONSGML v1.0//EN
CALSCALE:GREGORIAN
METHOD:PUBLISH
X-ORIGINAL-URL:https://stmamom.com
X-WR-CALDESC:Events for STMAmom.com
REFRESH-INTERVAL;VALUE=DURATION:PT1H
X-Robots-Tag:noindex
X-PUBLISHED-TTL:PT1H
BEGIN:VTIMEZONE
TZID:America/Chicago
BEGIN:DAYLIGHT
TZOFFSETFROM:-0600
TZOFFSETTO:-0500
TZNAME:CDT
DTSTART:20240310T080000
END:DAYLIGHT
BEGIN:STANDARD
TZOFFSETFROM:-0500
TZOFFSETTO:-0600
TZNAME:CST
DTSTART:20241103T070000
END:STANDARD
BEGIN:DAYLIGHT
TZOFFSETFROM:-0600
TZOFFSETTO:-0500
TZNAME:CDT
DTSTART:20250309T080000
END:DAYLIGHT
BEGIN:STANDARD
TZOFFSETFROM:-0500
TZOFFSETTO:-0600
TZNAME:CST
DTSTART:20251102T070000
END:STANDARD
BEGIN:DAYLIGHT
TZOFFSETFROM:-0600
TZOFFSETTO:-0500
TZNAME:CDT
DTSTART:20260308T080000
END:DAYLIGHT
BEGIN:STANDARD
TZOFFSETFROM:-0500
TZOFFSETTO:-0600
TZNAME:CST
DTSTART:20261101T070000
END:STANDARD
END:VTIMEZONE
BEGIN:VEVENT
DTSTART;TZID=America/Chicago:20251103T103000
DTEND;TZID=America/Chicago:20251103T110000
DTSTAMP:20260425T110217
CREATED:20250827T140359Z
LAST-MODIFIED:20260325T212107Z
UID:9654-1762165800-1762167600@stmamom.com
SUMMARY:Library Storytime
DESCRIPTION:Start your week out right… at the library! Share books\, songs\, and rhymes with your children at this storytime designed to promote school readiness in 0- to 6-year-olds. Librarians\, caregivers\, and children will sing\, talk\, read\, write\, and play together to build early literacy skills. Siblings are also welcome.
URL:https://stmamom.com/event/library-storytime-2025-2025-11-03/
LOCATION:St. Michael Public Library\, 11800 Town Center Dr NE\, St. Michael\, MN\, 55376\, United States
ATTACH;FMTTYPE=image/jpeg:https://stmamom.com/wp-content/uploads/2024/08/storytime-e1725045078975.jpg
END:VEVENT
BEGIN:VEVENT
DTSTART;TZID=America/Chicago:20251106T100000
DTEND;TZID=America/Chicago:20251106T113000
DTSTAMP:20260425T110217
CREATED:20250827T152548Z
LAST-MODIFIED:20260325T211910Z
UID:9683-1762423200-1762428600@stmamom.com
SUMMARY:Otsego Open Playtime
DESCRIPTION:Kids ages 5 & under are invited to play and meet new friends at Otsego’s Open Playtime. This drop-in program offers an open play session full of toys\, crafts\, active equipment\, and activities. Come for the whole time or stay while you can. (Parent/guardian supervision is required.) \nCost: $3/child at the door\, or pick up a punch pass!\nPlease check Facebook for closures due to holidays or inclement weather: \nNot meeting October 30\, November 27\, December 25\, January 19 and February 16\nLast day is Thursday\, May 14
URL:https://stmamom.com/event/otsego-open-playtime-2025-2025-11-06/
LOCATION:Prairie Center\, 8899 Nashua Ave NE\, Otsego\, MN\, 55330\, United States
ATTACH;FMTTYPE=image/png:https://stmamom.com/wp-content/uploads/2021/04/otsego-parks-rec-e1619580266549.png
ORGANIZER;CN="Otsego Parks & Recreation":MAILTO:recreation@ci.otsego.mn.us
END:VEVENT
BEGIN:VEVENT
DTSTART;TZID=America/Chicago:20251110T100000
DTEND;TZID=America/Chicago:20251110T113000
DTSTAMP:20260425T110217
CREATED:20250827T152548Z
LAST-MODIFIED:20260325T211910Z
UID:9684-1762768800-1762774200@stmamom.com
SUMMARY:Otsego Open Playtime
DESCRIPTION:Kids ages 5 & under are invited to play and meet new friends at Otsego’s Open Playtime. This drop-in program offers an open play session full of toys\, crafts\, active equipment\, and activities. Come for the whole time or stay while you can. (Parent/guardian supervision is required.) \nCost: $3/child at the door\, or pick up a punch pass!\nPlease check Facebook for closures due to holidays or inclement weather: \nNot meeting October 30\, November 27\, December 25\, January 19 and February 16\nLast day is Thursday\, May 14
URL:https://stmamom.com/event/otsego-open-playtime-2025-2025-11-10/
LOCATION:Prairie Center\, 8899 Nashua Ave NE\, Otsego\, MN\, 55330\, United States
ATTACH;FMTTYPE=image/png:https://stmamom.com/wp-content/uploads/2021/04/otsego-parks-rec-e1619580266549.png
ORGANIZER;CN="Otsego Parks & Recreation":MAILTO:recreation@ci.otsego.mn.us
END:VEVENT
BEGIN:VEVENT
DTSTART;TZID=America/Chicago:20251110T103000
DTEND;TZID=America/Chicago:20251110T110000
DTSTAMP:20260425T110217
CREATED:20250827T140359Z
LAST-MODIFIED:20260325T212107Z
UID:9655-1762770600-1762772400@stmamom.com
SUMMARY:Library Storytime
DESCRIPTION:Start your week out right… at the library! Share books\, songs\, and rhymes with your children at this storytime designed to promote school readiness in 0- to 6-year-olds. Librarians\, caregivers\, and children will sing\, talk\, read\, write\, and play together to build early literacy skills. Siblings are also welcome.
URL:https://stmamom.com/event/library-storytime-2025-2025-11-10/
LOCATION:St. Michael Public Library\, 11800 Town Center Dr NE\, St. Michael\, MN\, 55376\, United States
ATTACH;FMTTYPE=image/jpeg:https://stmamom.com/wp-content/uploads/2024/08/storytime-e1725045078975.jpg
END:VEVENT
BEGIN:VEVENT
DTSTART;TZID=America/Chicago:20251113T100000
DTEND;TZID=America/Chicago:20251113T113000
DTSTAMP:20260425T110217
CREATED:20250827T152548Z
LAST-MODIFIED:20260325T211910Z
UID:9685-1763028000-1763033400@stmamom.com
SUMMARY:Otsego Open Playtime
DESCRIPTION:Kids ages 5 & under are invited to play and meet new friends at Otsego’s Open Playtime. This drop-in program offers an open play session full of toys\, crafts\, active equipment\, and activities. Come for the whole time or stay while you can. (Parent/guardian supervision is required.) \nCost: $3/child at the door\, or pick up a punch pass!\nPlease check Facebook for closures due to holidays or inclement weather: \nNot meeting October 30\, November 27\, December 25\, January 19 and February 16\nLast day is Thursday\, May 14
URL:https://stmamom.com/event/otsego-open-playtime-2025-2025-11-13/
LOCATION:Prairie Center\, 8899 Nashua Ave NE\, Otsego\, MN\, 55330\, United States
ATTACH;FMTTYPE=image/png:https://stmamom.com/wp-content/uploads/2021/04/otsego-parks-rec-e1619580266549.png
ORGANIZER;CN="Otsego Parks & Recreation":MAILTO:recreation@ci.otsego.mn.us
END:VEVENT
BEGIN:VEVENT
DTSTART;TZID=America/Chicago:20251113T101500
DTEND;TZID=America/Chicago:20251113T114500
DTSTAMP:20260425T110217
CREATED:20250903T180906Z
LAST-MODIFIED:20260105T220614Z
UID:9701-1763028900-1763034300@stmamom.com
SUMMARY:ECFE Drop In & Play
DESCRIPTION:Drop in and play with your friends at ECFE! This monthly drop-in class offers young children and their caregivers a relaxed\, unstructured setting for connection and play. With no formal activities\, the focus is on creativity\, curiosity\, and making memories! \nFall Dates: September 18\, October 2 & 30\, November 13\, December 4\nWinter/Spring Dates: January 15 & 29\, February 12 & 26\, March 12\, April 16\, May 14 \nLocation: Community Education room #203\nCost: $2 per child / max $5/family (no preregistration required)
URL:https://stmamom.com/event/ecfe-drop-in-play-2025-2025-11-13/
LOCATION:STMA Community Education Building\, 60 Central Avenue W\, St. Michael\, MN\, 55376\, United States
ATTACH;FMTTYPE=image/jpeg:https://stmamom.com/wp-content/uploads/2021/04/ecfe-e1619575280453.jpg
END:VEVENT
BEGIN:VEVENT
DTSTART;TZID=America/Chicago:20251117T100000
DTEND;TZID=America/Chicago:20251117T113000
DTSTAMP:20260425T110217
CREATED:20250827T152548Z
LAST-MODIFIED:20260325T211910Z
UID:9686-1763373600-1763379000@stmamom.com
SUMMARY:Otsego Open Playtime
DESCRIPTION:Kids ages 5 & under are invited to play and meet new friends at Otsego’s Open Playtime. This drop-in program offers an open play session full of toys\, crafts\, active equipment\, and activities. Come for the whole time or stay while you can. (Parent/guardian supervision is required.) \nCost: $3/child at the door\, or pick up a punch pass!\nPlease check Facebook for closures due to holidays or inclement weather: \nNot meeting October 30\, November 27\, December 25\, January 19 and February 16\nLast day is Thursday\, May 14
URL:https://stmamom.com/event/otsego-open-playtime-2025-2025-11-17/
LOCATION:Prairie Center\, 8899 Nashua Ave NE\, Otsego\, MN\, 55330\, United States
ATTACH;FMTTYPE=image/png:https://stmamom.com/wp-content/uploads/2021/04/otsego-parks-rec-e1619580266549.png
ORGANIZER;CN="Otsego Parks & Recreation":MAILTO:recreation@ci.otsego.mn.us
END:VEVENT
BEGIN:VEVENT
DTSTART;TZID=America/Chicago:20251117T103000
DTEND;TZID=America/Chicago:20251117T110000
DTSTAMP:20260425T110217
CREATED:20250827T140359Z
LAST-MODIFIED:20260325T212107Z
UID:9656-1763375400-1763377200@stmamom.com
SUMMARY:Library Storytime
DESCRIPTION:Start your week out right… at the library! Share books\, songs\, and rhymes with your children at this storytime designed to promote school readiness in 0- to 6-year-olds. Librarians\, caregivers\, and children will sing\, talk\, read\, write\, and play together to build early literacy skills. Siblings are also welcome.
URL:https://stmamom.com/event/library-storytime-2025-2025-11-17/
LOCATION:St. Michael Public Library\, 11800 Town Center Dr NE\, St. Michael\, MN\, 55376\, United States
ATTACH;FMTTYPE=image/jpeg:https://stmamom.com/wp-content/uploads/2024/08/storytime-e1725045078975.jpg
END:VEVENT
BEGIN:VEVENT
DTSTART;TZID=America/Chicago:20251118T140000
DTEND;TZID=America/Chicago:20251118T190000
DTSTAMP:20260425T110217
CREATED:20250827T144229Z
LAST-MODIFIED:20260105T221533Z
UID:9671-1763474400-1763492400@stmamom.com
SUMMARY:Library Sensory Stations
DESCRIPTION:Stop by the library for some self-led sensory fun! There will be mess-free activities and sensory bins out in the children’s area for free play. This activity is suitable for preschool ages and up.
URL:https://stmamom.com/event/library-sensory-stations-2025-11-18/
LOCATION:St. Michael Public Library\, 11800 Town Center Dr NE\, St. Michael\, MN\, 55376\, United States
ATTACH;FMTTYPE=image/jpeg:https://stmamom.com/wp-content/uploads/2019/09/st-michael-library.jpg
END:VEVENT
BEGIN:VEVENT
DTSTART;TZID=America/Chicago:20251120T100000
DTEND;TZID=America/Chicago:20251120T103000
DTSTAMP:20260425T110217
CREATED:20250827T141326Z
LAST-MODIFIED:20260325T212155Z
UID:9661-1763632800-1763634600@stmamom.com
SUMMARY:ECFE Storytime at the Library
DESCRIPTION:Come hang out at the library with your friends from ECFE! A staff member from STMA’s Early Childhood program will lead storytime along with crafts\, games\, songs. This event is intended for ages 0 to 6 along with their parent or caregiver.
URL:https://stmamom.com/event/ecfe-storytime-at-the-library-2-2025-11-20/
LOCATION:St. Michael Public Library\, 11800 Town Center Dr NE\, St. Michael\, MN\, 55376\, United States
ATTACH;FMTTYPE=image/jpeg:https://stmamom.com/wp-content/uploads/2021/04/ecfe-e1619575280453.jpg
END:VEVENT
BEGIN:VEVENT
DTSTART;TZID=America/Chicago:20251120T100000
DTEND;TZID=America/Chicago:20251120T113000
DTSTAMP:20260425T110217
CREATED:20250827T152548Z
LAST-MODIFIED:20260325T211910Z
UID:9687-1763632800-1763638200@stmamom.com
SUMMARY:Otsego Open Playtime
DESCRIPTION:Kids ages 5 & under are invited to play and meet new friends at Otsego’s Open Playtime. This drop-in program offers an open play session full of toys\, crafts\, active equipment\, and activities. Come for the whole time or stay while you can. (Parent/guardian supervision is required.) \nCost: $3/child at the door\, or pick up a punch pass!\nPlease check Facebook for closures due to holidays or inclement weather: \nNot meeting October 30\, November 27\, December 25\, January 19 and February 16\nLast day is Thursday\, May 14
URL:https://stmamom.com/event/otsego-open-playtime-2025-2025-11-20/
LOCATION:Prairie Center\, 8899 Nashua Ave NE\, Otsego\, MN\, 55330\, United States
ATTACH;FMTTYPE=image/png:https://stmamom.com/wp-content/uploads/2021/04/otsego-parks-rec-e1619580266549.png
ORGANIZER;CN="Otsego Parks & Recreation":MAILTO:recreation@ci.otsego.mn.us
END:VEVENT
BEGIN:VEVENT
DTSTART;TZID=America/Chicago:20251120T160000
DTEND;TZID=America/Chicago:20251120T180000
DTSTAMP:20260425T110217
CREATED:20251118T183659Z
LAST-MODIFIED:20251118T183659Z
UID:9792-1763654400-1763661600@stmamom.com
SUMMARY:Elk River Downtown Tree Lighting
DESCRIPTION:Begin the holiday season early at Elk River’s Downtown Tree Lighting! Bring your family and friends for a magical evening downtown at Rivers Edge Commons Park.– Kids can bring their letters to Santa to get them to him in time.– Enjoy carolers\, crafts\, and activities while you wait for the tree lighting.– View the tree lighting ceremony from 5:00 – 5:30 p.m.– Bring a toy for the annual Fill-a-Truck Toy Drive hosted by the Elk River Fire Foundation.– Warm up by stopping into downtown businesses for delicious drinks\, food\, and holiday shopping.
URL:https://stmamom.com/event/elk-river-downtown-tree-lighting/
LOCATION:Rivers Edge Commons Park\, 679 Main St NW\, Elk River\, MN\, 55330\, United States
ATTACH;FMTTYPE=image/png:https://stmamom.com/wp-content/uploads/2021/06/elkriver-e1625079605468.png
END:VEVENT
BEGIN:VEVENT
DTSTART;TZID=America/Chicago:20251120T170000
DTEND;TZID=America/Chicago:20251120T180000
DTSTAMP:20260425T110217
CREATED:20240830T194317Z
LAST-MODIFIED:20260325T212543Z
UID:9667-1763658000-1763661600@stmamom.com
SUMMARY:LEGO Fun at the Library
DESCRIPTION:School-age kids are invited to show off their LEGO building skills! The library will provide the bricks\, you provide the imagination. Come meet with other builders and have some fun.
URL:https://stmamom.com/event/lego-fun-at-the-library-2025-11-20/
LOCATION:St. Michael Public Library\, 11800 Town Center Dr NE\, St. Michael\, MN\, 55376\, United States
ATTACH;FMTTYPE=image/jpeg:https://stmamom.com/wp-content/uploads/2024/08/lego-scaled.jpg
END:VEVENT
BEGIN:VEVENT
DTSTART;TZID=America/Chicago:20251122T103000
DTEND;TZID=America/Chicago:20251122T113000
DTSTAMP:20260425T110217
CREATED:20250827T144925Z
LAST-MODIFIED:20260105T211806Z
UID:9674-1763807400-1763811000@stmamom.com
SUMMARY:Family Storytime
DESCRIPTION:This fun family storytime is aimed at welcoming new families to the library. It includes songs\, rhymes and stories that celebrate reading\, books and using the library as a family. For children of all ages and their families.
URL:https://stmamom.com/event/family-storytime-2025-2025-11-22/
LOCATION:St. Michael Public Library\, 11800 Town Center Dr NE\, St. Michael\, MN\, 55376\, United States
ATTACH;FMTTYPE=image/jpeg:https://stmamom.com/wp-content/uploads/2019/09/st-michael-library.jpg
END:VEVENT
BEGIN:VEVENT
DTSTART;TZID=America/Chicago:20251124T100000
DTEND;TZID=America/Chicago:20251124T113000
DTSTAMP:20260425T110217
CREATED:20250827T152548Z
LAST-MODIFIED:20260325T211910Z
UID:9688-1763978400-1763983800@stmamom.com
SUMMARY:Otsego Open Playtime
DESCRIPTION:Kids ages 5 & under are invited to play and meet new friends at Otsego’s Open Playtime. This drop-in program offers an open play session full of toys\, crafts\, active equipment\, and activities. Come for the whole time or stay while you can. (Parent/guardian supervision is required.) \nCost: $3/child at the door\, or pick up a punch pass!\nPlease check Facebook for closures due to holidays or inclement weather: \nNot meeting October 30\, November 27\, December 25\, January 19 and February 16\nLast day is Thursday\, May 14
URL:https://stmamom.com/event/otsego-open-playtime-2025-2025-11-24/
LOCATION:Prairie Center\, 8899 Nashua Ave NE\, Otsego\, MN\, 55330\, United States
ATTACH;FMTTYPE=image/png:https://stmamom.com/wp-content/uploads/2021/04/otsego-parks-rec-e1619580266549.png
ORGANIZER;CN="Otsego Parks & Recreation":MAILTO:recreation@ci.otsego.mn.us
END:VEVENT
BEGIN:VEVENT
DTSTART;TZID=America/Chicago:20251124T103000
DTEND;TZID=America/Chicago:20251124T113000
DTSTAMP:20260425T110217
CREATED:20230901T200258Z
LAST-MODIFIED:20260325T212238Z
UID:9664-1763980200-1763983800@stmamom.com
SUMMARY:Preschooler Play & Learn Workshop
DESCRIPTION:Encourage a love of learning as you and your child play\, explore\, discover\, count\, and create. Join the library staff anytime during the hour for an open-ended play session. Activities are designed for ages 1 to 5. Registration is not required\, but room limits may be enforced.
URL:https://stmamom.com/event/preschooler-play-learn-workshop-2025-11-24/
LOCATION:St. Michael Public Library\, 11800 Town Center Dr NE\, St. Michael\, MN\, 55376\, United States
ATTACH;FMTTYPE=image/jpeg:https://stmamom.com/wp-content/uploads/2019/09/st-michael-library.jpg
END:VEVENT
BEGIN:VEVENT
DTSTART;TZID=America/Chicago:20251125T180000
DTEND;TZID=America/Chicago:20251125T190000
DTSTAMP:20260425T110217
CREATED:20251022T162507Z
LAST-MODIFIED:20251022T162507Z
UID:9749-1764093600-1764097200@stmamom.com
SUMMARY:Otsego Tree Lighting
DESCRIPTION:Kick off the holiday season with the Otsego Tree Lighting! Join Mayor Stockamp as she lights the tree\, accompanied by the joyful sounds of holiday carols from SOAR Regional Arts. Afterward\, Sprinkles the Elf will lead everyone inside Prairie Center to warm up with hot chocolate and enjoy a delightful storytime. Kids will also have the special opportunity to write and mail their letters to Santa.
URL:https://stmamom.com/event/otsego-tree-lighting-2025/
LOCATION:Prairie Park\, Otsego\, 13355 90th Street NE\, Otsego\, MN\, 55330\, United States
ATTACH;FMTTYPE=image/png:https://stmamom.com/wp-content/uploads/2021/04/otsego-parks-rec-e1619580266549.png
ORGANIZER;CN="Otsego Parks & Recreation":MAILTO:recreation@ci.otsego.mn.us
END:VEVENT
BEGIN:VEVENT
DTSTART;TZID=America/Chicago:20251126T180000
DTEND;TZID=America/Chicago:20251126T191000
DTSTAMP:20260425T110217
CREATED:20250903T190403Z
LAST-MODIFIED:20260105T221114Z
UID:9717-1764180000-1764184200@stmamom.com
SUMMARY:Glow-n-Skate
DESCRIPTION:The coolest event in town! Glow-n-Skate is a special nighttime open skating event with the lights down and the music up. \nCost: $6/skater (includes glow necklace)\nRental skates: $2/pair
URL:https://stmamom.com/event/glow-n-skate-2025-2025-11-26/
LOCATION:Rogers Trustone Ice Arena\, 21080 141st Ave N\, Rogers\, MN\, 55374\, United States
ORGANIZER;CN="City of Rogers":MAILTO:info@rogersmn.gov
END:VEVENT
BEGIN:VEVENT
DTSTART;TZID=America/Chicago:20251130T140000
DTEND;TZID=America/Chicago:20251130T180000
DTSTAMP:20260425T110217
CREATED:20251022T160026Z
LAST-MODIFIED:20251022T160026Z
UID:9746-1764511200-1764525600@stmamom.com
SUMMARY:Albertville Christmas in the Park
DESCRIPTION:Join Albertville Lions Club for its annual “Christmas in the Park” event! \n\nShare your wish list with Santa and Mrs. Claus inside the Depot\nEnjoy hot chocolate or hot cider served by Albertville Royalty\nWarm up over an open fire and enjoy a s’more with local Boy Scouts and Cub Scouts\nTake a horse-drawn wagon ride around the park\nHear the STMA High School and SOAR Regional Arts choirs singing carols\nTree lighting ceremony at 5:00
URL:https://stmamom.com/event/albertville-christmas-in-the-park-2025/
LOCATION:Albertville Central Park\, 5801 Main Ave NE\, Albertville\, MN\, 55301\, United States
END:VEVENT
BEGIN:VEVENT
DTSTART;TZID=America/Chicago:20251201T100000
DTEND;TZID=America/Chicago:20251201T113000
DTSTAMP:20260425T110217
CREATED:20250827T152548Z
LAST-MODIFIED:20260325T211910Z
UID:9803-1764583200-1764588600@stmamom.com
SUMMARY:Otsego Open Playtime
DESCRIPTION:Kids ages 5 & under are invited to play and meet new friends at Otsego’s Open Playtime. This drop-in program offers an open play session full of toys\, crafts\, active equipment\, and activities. Come for the whole time or stay while you can. (Parent/guardian supervision is required.) \nCost: $3/child at the door\, or pick up a punch pass!\nPlease check Facebook for closures due to holidays or inclement weather: \nNot meeting October 30\, November 27\, December 25\, January 19 and February 16\nLast day is Thursday\, May 14
URL:https://stmamom.com/event/otsego-open-playtime-2025-2025-12-01/
LOCATION:Prairie Center\, 8899 Nashua Ave NE\, Otsego\, MN\, 55330\, United States
ATTACH;FMTTYPE=image/png:https://stmamom.com/wp-content/uploads/2021/04/otsego-parks-rec-e1619580266549.png
ORGANIZER;CN="Otsego Parks & Recreation":MAILTO:recreation@ci.otsego.mn.us
END:VEVENT
BEGIN:VEVENT
DTSTART;TZID=America/Chicago:20251201T103000
DTEND;TZID=America/Chicago:20251201T110000
DTSTAMP:20260425T110217
CREATED:20250827T140359Z
LAST-MODIFIED:20260325T212107Z
UID:9825-1764585000-1764586800@stmamom.com
SUMMARY:Library Storytime
DESCRIPTION:Start your week out right… at the library! Share books\, songs\, and rhymes with your children at this storytime designed to promote school readiness in 0- to 6-year-olds. Librarians\, caregivers\, and children will sing\, talk\, read\, write\, and play together to build early literacy skills. Siblings are also welcome.
URL:https://stmamom.com/event/library-storytime-2025-2025-12-01/
LOCATION:St. Michael Public Library\, 11800 Town Center Dr NE\, St. Michael\, MN\, 55376\, United States
ATTACH;FMTTYPE=image/jpeg:https://stmamom.com/wp-content/uploads/2024/08/storytime-e1725045078975.jpg
END:VEVENT
BEGIN:VEVENT
DTSTART;TZID=America/Chicago:20251204T081500
DTEND;TZID=America/Chicago:20251204T101500
DTSTAMP:20260425T110217
CREATED:20260105T210622Z
LAST-MODIFIED:20260105T210622Z
UID:9917-1764836100-1764843300@stmamom.com
SUMMARY:ECFE Dome Day
DESCRIPTION:Kids ages 6 and under are invited to run and play with friends at the STMA Dome from December 4 through March 20 on alternating Thursdays & Friday mornings. The cost is just $2 per child (max $5 per family)\, payable by cash at the door. No registration required.
URL:https://stmamom.com/event/ecfe-dome-day-2026/
LOCATION:STMA High School\, 5800 Jamison Ave NE\, St. Michael\, MN\, 55376\, United States
ATTACH;FMTTYPE=image/jpeg:https://stmamom.com/wp-content/uploads/2018/11/stmadome.jpg
END:VEVENT
BEGIN:VEVENT
DTSTART;TZID=America/Chicago:20251204T100000
DTEND;TZID=America/Chicago:20251204T113000
DTSTAMP:20260425T110217
CREATED:20250827T152548Z
LAST-MODIFIED:20260325T211910Z
UID:9804-1764842400-1764847800@stmamom.com
SUMMARY:Otsego Open Playtime
DESCRIPTION:Kids ages 5 & under are invited to play and meet new friends at Otsego’s Open Playtime. This drop-in program offers an open play session full of toys\, crafts\, active equipment\, and activities. Come for the whole time or stay while you can. (Parent/guardian supervision is required.) \nCost: $3/child at the door\, or pick up a punch pass!\nPlease check Facebook for closures due to holidays or inclement weather: \nNot meeting October 30\, November 27\, December 25\, January 19 and February 16\nLast day is Thursday\, May 14
URL:https://stmamom.com/event/otsego-open-playtime-2025-2025-12-04/
LOCATION:Prairie Center\, 8899 Nashua Ave NE\, Otsego\, MN\, 55330\, United States
ATTACH;FMTTYPE=image/png:https://stmamom.com/wp-content/uploads/2021/04/otsego-parks-rec-e1619580266549.png
ORGANIZER;CN="Otsego Parks & Recreation":MAILTO:recreation@ci.otsego.mn.us
END:VEVENT
BEGIN:VEVENT
DTSTART;TZID=America/Chicago:20251204T101500
DTEND;TZID=America/Chicago:20251204T114500
DTSTAMP:20260425T110217
CREATED:20250903T180906Z
LAST-MODIFIED:20260105T220614Z
UID:9845-1764843300-1764848700@stmamom.com
SUMMARY:ECFE Drop In & Play
DESCRIPTION:Drop in and play with your friends at ECFE! This monthly drop-in class offers young children and their caregivers a relaxed\, unstructured setting for connection and play. With no formal activities\, the focus is on creativity\, curiosity\, and making memories! \nFall Dates: September 18\, October 2 & 30\, November 13\, December 4\nWinter/Spring Dates: January 15 & 29\, February 12 & 26\, March 12\, April 16\, May 14 \nLocation: Community Education room #203\nCost: $2 per child / max $5/family (no preregistration required)
URL:https://stmamom.com/event/ecfe-drop-in-play-2025-2025-12-04/
LOCATION:STMA Community Education Building\, 60 Central Avenue W\, St. Michael\, MN\, 55376\, United States
ATTACH;FMTTYPE=image/jpeg:https://stmamom.com/wp-content/uploads/2021/04/ecfe-e1619575280453.jpg
END:VEVENT
BEGIN:VEVENT
DTSTART;TZID=America/Chicago:20251205T180000
DTEND;TZID=America/Chicago:20251205T193000
DTSTAMP:20260425T110217
CREATED:20251201T222102Z
LAST-MODIFIED:20251201T224544Z
UID:9868-1764957600-1764963000@stmamom.com
SUMMARY:Hanover Caroling at the Historic Bridge
DESCRIPTION:Join the Hanover Historical Society at the historic pedestrian bridge in downtown Hanover to revive a Victorian community Christmas past. This free\, family-friendly event is features area church and school choirs singing lively renditions of familiar songs and carols. Everyone is invited to enjoy hot cider and cookies. Bring your cameras for instant memories of your child bundled up in an authentic one-horse open sleigh and meet one-on-one with Old St. Nick.\n\nBridge location: 98 Mill Pond Trl\, Hanover\, MN 55341
URL:https://stmamom.com/event/hanover-caroling-at-the-bridge/
LOCATION:MN
ATTACH;FMTTYPE=image/png:https://stmamom.com/wp-content/uploads/2021/06/hanover-historical-e1625099604568.png
ORGANIZER;CN="Hanover Historical Society":MAILTO:info@hanoverhistoricalsociety.org
END:VEVENT
BEGIN:VEVENT
DTSTART;TZID=America/Chicago:20251206T090000
DTEND;TZID=America/Chicago:20251206T120000
DTSTAMP:20260425T110217
CREATED:20230627T221107Z
LAST-MODIFIED:20260325T211849Z
UID:9910-1765011600-1765022400@stmamom.com
SUMMARY:Home Depot Kids Workshop
DESCRIPTION:Bring your kids to Home Depot to complete a free\, hands-on building project created with them in mind! Workshops take place the 1st Saturday of each month and vary by theme. \nFind out more information and register for the workshop at https://www.homedepot.com/c/kids
URL:https://stmamom.com/event/home-depot-kids-workshop-2025-12-06/
LOCATION:Home Depot\, 1385 E 7th Street\, Monticello\, MN\, 55362\, United States
ATTACH;FMTTYPE=image/png:https://stmamom.com/wp-content/uploads/2023/06/home-depot-e1691001383784.png
END:VEVENT
BEGIN:VEVENT
DTSTART;TZID=America/Chicago:20251206T090000
DTEND;TZID=America/Chicago:20251206T130000
DTSTAMP:20260425T110217
CREATED:20251201T225627Z
LAST-MODIFIED:20251201T225627Z
UID:9883-1765011600-1765026000@stmamom.com
SUMMARY:Girl Scouts Holiday Shopping Mall
DESCRIPTION:Let your children experience the gift of giving! Girl Scout troops and their families have been busy putting together inexpensive gifts that your children can purchase. All gifts are priced between 25¢ and $5. \nOlder Girl Scouts will escort children through the mall and assist them in their shopping experience. Troops will gift-wrap and tag the presents so that you can be surprised! \nAdvance registration is required to help separate start times of shoppers. Sign up for a time slot at https://www.signupgenius.com/go/5080945AEAB2EA6FA7-60279271-childrens
URL:https://stmamom.com/event/girl-scouts-holiday-shopping-mall-2/
LOCATION:Monticello Middle School\, 800 Broadway St E\, Monticello\, MN\, 55362\, United States
END:VEVENT
BEGIN:VEVENT
DTSTART;TZID=America/Chicago:20251206T093000
DTEND;TZID=America/Chicago:20251206T133000
DTSTAMP:20260425T110217
CREATED:20251201T224132Z
LAST-MODIFIED:20251201T224132Z
UID:9877-1765013400-1765027800@stmamom.com
SUMMARY:Visit Santa at Bertram
DESCRIPTION:Visit with Santa at Bertram Chain of Lakes Regional Park! A professional photographer will be on site to capture this special visit with Santa. Enjoy warm beverages and s’mores by the campfire. Come early for horse-drawn wagon rides\, available as time and space allows. \nCost: $30 per family\nRegister for a timeslot online at https://mnwrightcountyweb.myvscloud.com
URL:https://stmamom.com/event/visit-santa-at-bertram/
LOCATION:Bertram Chain of Lakes Regional Park\, 90th Street NE\, Monticello\, MN\, 55362\, United States
END:VEVENT
BEGIN:VEVENT
DTSTART;TZID=America/Chicago:20251206T100000
DTEND;TZID=America/Chicago:20251206T130000
DTSTAMP:20260425T110217
CREATED:20251201T215415Z
LAST-MODIFIED:20251201T215415Z
UID:9856-1765015200-1765026000@stmamom.com
SUMMARY:Santa at the Fire Station
DESCRIPTION:Come see Santa at the St. Michael fire station! Remember to bring your camera to snap a photo\, as well as a toys and/or food donation for local families in need.
URL:https://stmamom.com/event/santa-at-the-fire-station-2/
LOCATION:St. Michael Fire Department\, 216 Main Street South\, St. Michael\, MN\, 55376\, United States
END:VEVENT
BEGIN:VEVENT
DTSTART;TZID=America/Chicago:20251206T140000
DTEND;TZID=America/Chicago:20251206T170000
DTSTAMP:20260425T110217
CREATED:20251201T215916Z
LAST-MODIFIED:20251201T215916Z
UID:9858-1765029600-1765040400@stmamom.com
SUMMARY:WinterFest at Town Center Park
DESCRIPTION:Mark your calendars for this FREE community event! Dress for the day and enjoy dozens of activities both inside and outside.\n\nActivities include:\n\nVisits with Santa & Mrs. Claus\nHorse-Drawn Wagon Ride\nMarshmallow Manor\nElf Hut Mini Putt\nSanta’s Sleigh Relay\nFamily Competitions\nThe Grinch\, Anna\, Elsa & Olaf\nCaroling by the SOAR Singers\nPapa Johns & Jersey Mikes food stands\nand MORE!
URL:https://stmamom.com/event/winterfest-at-town-center-park/
LOCATION:Town Center Park\, 11800 Town Center Drive NE\, St. Michael\, MN\, 55376\, United States
ATTACH;FMTTYPE=image/jpeg:https://stmamom.com/wp-content/uploads/2023/11/winterfest-e1700757234481.jpg
ORGANIZER;CN="STMA Rotary Club":MAILTO:stmarotary@gmail.com
END:VEVENT
END:VCALENDAR