BEGIN:VCALENDAR
VERSION:2.0
PRODID:-//STMAmom.com - ECPv6.15.16.1//NONSGML v1.0//EN
CALSCALE:GREGORIAN
METHOD:PUBLISH
X-ORIGINAL-URL:https://stmamom.com
X-WR-CALDESC:Events for STMAmom.com
REFRESH-INTERVAL;VALUE=DURATION:PT1H
X-Robots-Tag:noindex
X-PUBLISHED-TTL:PT1H
BEGIN:VTIMEZONE
TZID:America/Chicago
BEGIN:DAYLIGHT
TZOFFSETFROM:-0600
TZOFFSETTO:-0500
TZNAME:CDT
DTSTART:20230312T080000
END:DAYLIGHT
BEGIN:STANDARD
TZOFFSETFROM:-0500
TZOFFSETTO:-0600
TZNAME:CST
DTSTART:20231105T070000
END:STANDARD
BEGIN:DAYLIGHT
TZOFFSETFROM:-0600
TZOFFSETTO:-0500
TZNAME:CDT
DTSTART:20240310T080000
END:DAYLIGHT
BEGIN:STANDARD
TZOFFSETFROM:-0500
TZOFFSETTO:-0600
TZNAME:CST
DTSTART:20241103T070000
END:STANDARD
BEGIN:DAYLIGHT
TZOFFSETFROM:-0600
TZOFFSETTO:-0500
TZNAME:CDT
DTSTART:20250309T080000
END:DAYLIGHT
BEGIN:STANDARD
TZOFFSETFROM:-0500
TZOFFSETTO:-0600
TZNAME:CST
DTSTART:20251102T070000
END:STANDARD
END:VTIMEZONE
BEGIN:VEVENT
DTSTART;VALUE=DATE:20240629
DTEND;VALUE=DATE:20240705
DTSTAMP:20260425T175758
CREATED:20240526T201238Z
LAST-MODIFIED:20240526T202032Z
UID:8315-1719619200-1720137599@stmamom.com
SUMMARY:$1 Kids Movie: The Little Rascals
DESCRIPTION:Visit St. Michael Cinema for great kids movies all summer long for just $1 per person! Tickets available at stmichaelcinema.com. \nThis week’s movie is The Little Rascals. \nShowtimes: \n\nSaturdays – 11:30am\nSundays – 12pm & 6pm\nMondays – 10am\nTuesdays – 2pm & 6:30pm\nWednesdays – 11:30am\nThursdays – 1pm\n\nComplete list of movies:
URL:https://stmamom.com/event/1-kids-movie-2024-06-29/
LOCATION:St. Michael Cinema\, 4300 O'Day Ave NE\, St. Michael\, MN\, 55376\, United States
ATTACH;FMTTYPE=image/jpeg:https://stmamom.com/wp-content/uploads/2024/05/summermovies-header-e1716754266575.jpg
END:VEVENT
BEGIN:VEVENT
DTSTART;TZID=America/Chicago:20240702T090000
DTEND;TZID=America/Chicago:20240702T103000
DTSTAMP:20260425T175758
CREATED:20240605T145616Z
LAST-MODIFIED:20240605T145616Z
UID:8463-1719910800-1719916200@stmamom.com
SUMMARY:Breakfast at the Playground (Albertville Primary)
DESCRIPTION:All school-aged children and adolescents in the STMA community are welcome to a FREE breakfast every Tuesday this summer. You can “grab and go” your breakfast or stay and hang out to play on the playground!\n\nIf you would like to donate towards breakfast items\, visit the Amazon Wish List: https://a.co/12WEmde\n\nAlbertville Primary\nJune 18\, July 2\, July 16\, July 30\, August 13\n\nSt. Michael Elementary\n\nJune 11\, June 25\, July 9\, July 23\, August 6
URL:https://stmamom.com/event/breakfast-at-the-playground-albertville-primary-2024-07-02/
LOCATION:Albertville Primary School\, 5386 Main Avenue NE\, Albertville\, MN\, 55301\, United States
ATTACH;FMTTYPE=image/jpeg:https://stmamom.com/wp-content/uploads/2024/06/batp-e1717596669906.jpg
ORGANIZER;CN="Alleluia Lutheran Church":MAILTO:office@alleluialutheranchurch.org
END:VEVENT
BEGIN:VEVENT
DTSTART;VALUE=DATE:20240703
DTEND;VALUE=DATE:20240707
DTSTAMP:20260425T175758
CREATED:20240626T193937Z
LAST-MODIFIED:20240626T193937Z
UID:8480-1719964800-1720310399@stmamom.com
SUMMARY:Delano 4th of July
DESCRIPTION:Bring your family to enjoy Delano’s Fourth of July celebration\, the oldest and largest Fourth of July celebration in Minnesota! Events take place over the course of four days\, including a 4th of July parade\, and culminating in fireworks on July 6th. \nCljck here for a complete schedule of events: Delano 4th of July – Events
URL:https://stmamom.com/event/delano-4th-of-july-2024/
LOCATION:Delano 4th of July Celebration\, 559 North River Street\, Delano\, 55328
END:VEVENT
BEGIN:VEVENT
DTSTART;TZID=America/Chicago:20240704T090000
DTEND;TZID=America/Chicago:20240704T100000
DTSTAMP:20260425T175758
CREATED:20240526T204551Z
LAST-MODIFIED:20240526T204551Z
UID:8369-1720083600-1720087200@stmamom.com
SUMMARY:Reading in the Park (Hanover)
DESCRIPTION:Join FYCC every Thursday at Settler’s Park in Hanover to hear some great stories read by local community leaders. After storytime\, each child will get to take home a free book! \nThis event is for infants through 8th grade. Please register at myfycc.com
URL:https://stmamom.com/event/reading-in-the-park-hanover-2024-2024-07-04/
LOCATION:Hanover Settlers Park\, 11250 5th St NE\, Hanover\, MN\, 55341\, United States
ATTACH;FMTTYPE=image/png:https://stmamom.com/wp-content/uploads/2021/04/fycc-e1697061396286.png
ORGANIZER;CN="FYCC":MAILTO:FYCCinformation@gmail.com
END:VEVENT
BEGIN:VEVENT
DTSTART;VALUE=DATE:20240706
DTEND;VALUE=DATE:20240712
DTSTAMP:20260425T175758
CREATED:20240526T201238Z
LAST-MODIFIED:20240526T202141Z
UID:8316-1720224000-1720742399@stmamom.com
SUMMARY:$1 Kids Movie: Puss in Boots: The Last Wish
DESCRIPTION:Visit St. Michael Cinema for great kids movies all summer long for just $1 per person! Tickets available at stmichaelcinema.com. \nThis week’s movie is Puss in Boots: The Last Wish. \nShowtimes: \n\nSaturdays – 11:30am\nSundays – 12pm & 6pm\nMondays – 10am\nTuesdays – 2pm & 6:30pm\nWednesdays – 11:30am\nThursdays – 1pm\n\nComplete list of movies:
URL:https://stmamom.com/event/1-kids-movie-2024-07-06/
LOCATION:St. Michael Cinema\, 4300 O'Day Ave NE\, St. Michael\, MN\, 55376\, United States
ATTACH;FMTTYPE=image/jpeg:https://stmamom.com/wp-content/uploads/2024/05/summermovies-header-e1716754266575.jpg
END:VEVENT
BEGIN:VEVENT
DTSTART;TZID=America/Chicago:20240706T090000
DTEND;TZID=America/Chicago:20240706T120000
DTSTAMP:20260425T175758
CREATED:20230627T221107Z
LAST-MODIFIED:20260325T211843Z
UID:8418-1720256400-1720267200@stmamom.com
SUMMARY:Home Depot Kids Workshop
DESCRIPTION:Bring your kids to Home Depot to complete a free\, hands-on building project created with them in mind! Workshops take place the 1st Saturday of each month and vary by theme. \nFind out more information and register for the workshop at https://www.homedepot.com/c/kids
URL:https://stmamom.com/event/home-depot-kids-workshop-2024-07-06/
LOCATION:Home Depot\, 1385 E 7th Street\, Monticello\, MN\, 55362\, United States
ATTACH;FMTTYPE=image/png:https://stmamom.com/wp-content/uploads/2023/06/home-depot-e1691001383784.png
END:VEVENT
BEGIN:VEVENT
DTSTART;TZID=America/Chicago:20240708T100000
DTEND;TZID=America/Chicago:20240708T190000
DTSTAMP:20260425T175758
CREATED:20240526T211934Z
LAST-MODIFIED:20240526T211934Z
UID:8390-1720432800-1720465200@stmamom.com
SUMMARY:Library Make & Take
DESCRIPTION:Kids ages 5–12 are invited to the library to make a free craft to take home\, while supplies last! Crafts will go along with the theme of the summer reading program: Read\, Renew\, Repeat
URL:https://stmamom.com/event/library-make-take-2024-07-08/
LOCATION:St. Michael Public Library\, 11800 Town Center Dr NE\, St. Michael\, MN\, 55376\, United States
ATTACH;FMTTYPE=image/jpeg:https://stmamom.com/wp-content/uploads/2019/09/st-michael-library.jpg
END:VEVENT
BEGIN:VEVENT
DTSTART;TZID=America/Chicago:20240708T103000
DTEND;TZID=America/Chicago:20240708T113000
DTSTAMP:20260425T175758
CREATED:20240526T212351Z
LAST-MODIFIED:20240526T212351Z
UID:8395-1720434600-1720438200@stmamom.com
SUMMARY:Library Storytime: Habitats Series
DESCRIPTION:Kids ages 3–7 are invited to the library for a special summer series featuring stories\, crafts\, and hands-on learning! \nLearn about what makes different habitats around the world special and find out what animals live there. Kids will explore Oceans\, Jungles\, the Artic\, and Deserts at this fun bimonthly program.
URL:https://stmamom.com/event/library-storytime-habitats-series-2024-07-08/
LOCATION:St. Michael Public Library\, 11800 Town Center Dr NE\, St. Michael\, MN\, 55376\, United States
ATTACH;FMTTYPE=image/jpeg:https://stmamom.com/wp-content/uploads/2019/09/st-michael-library.jpg
END:VEVENT
BEGIN:VEVENT
DTSTART;TZID=America/Chicago:20240709T090000
DTEND;TZID=America/Chicago:20240709T100000
DTSTAMP:20260425T175758
CREATED:20240526T204300Z
LAST-MODIFIED:20240526T204300Z
UID:8354-1720515600-1720519200@stmamom.com
SUMMARY:Reading in the Park (St. Michael)
DESCRIPTION:Join FYCC at St. Michael’s Town Center Park to hear some great stories read by local community leaders. After storytime\, each child will get to take home a free book! \nThis event is for infants through 8th grade. Please register at myfycc.com
URL:https://stmamom.com/event/reading-in-the-park-st-michael-2024-2024-07-09/
LOCATION:Town Center Park\, 11800 Town Center Drive NE\, St. Michael\, MN\, 55376\, United States
ATTACH;FMTTYPE=image/png:https://stmamom.com/wp-content/uploads/2021/04/fycc-e1697061396286.png
ORGANIZER;CN="FYCC":MAILTO:FYCCinformation@gmail.com
END:VEVENT
BEGIN:VEVENT
DTSTART;TZID=America/Chicago:20240709T090000
DTEND;TZID=America/Chicago:20240709T103000
DTSTAMP:20260425T175758
CREATED:20240605T150252Z
LAST-MODIFIED:20240605T150252Z
UID:8469-1720515600-1720521000@stmamom.com
SUMMARY:Breakfast at the Playground (STME)
DESCRIPTION:All school-aged children and adolescents in the STMA community are welcome to a FREE breakfast every Tuesday this summer. You can “grab and go” your breakfast or stay and hang out to play on the playground!\n\nIf you would like to donate towards breakfast items\, visit the Amazon Wish List: https://a.co/12WEmde\n\n\nSt. Michael Elementary\n\nJune 11\, June 25\, July 9\, July 23\, August 6\n\n\n\nAlbertville Primary\nJune 18\, July 2\, July 16\, July 30\, August 13
URL:https://stmamom.com/event/breakfast-at-the-playground-stme-2024-07-09/
LOCATION:St. Michael Elementary\, 101 Central Ave W\, St. Michael\, MN\, 55376\, United States
ATTACH;FMTTYPE=image/jpeg:https://stmamom.com/wp-content/uploads/2024/06/batp-e1717596669906.jpg
ORGANIZER;CN="Alleluia Lutheran Church":MAILTO:office@alleluialutheranchurch.org
END:VEVENT
BEGIN:VEVENT
DTSTART;TZID=America/Chicago:20240709T100000
DTEND;TZID=America/Chicago:20240709T110000
DTSTAMP:20260425T175759
CREATED:20240526T214302Z
LAST-MODIFIED:20240626T201015Z
UID:8404-1720519200-1720522800@stmamom.com
SUMMARY:Splash & Play Tuesday (Otsego)
DESCRIPTION:Cool off at the Otsego Splash Pad and enjoy free family entertainment at Otsego’s Splash & Play Tuesdays. \nEntertainment will take place in the park shelter (or move inside the Prairie Center if there is inclement weather).
URL:https://stmamom.com/event/splash-play-tuesdays-2024-2024-07-09/
LOCATION:Prairie Park\, Otsego\, 13355 90th Street NE\, Otsego\, MN\, 55330\, United States
ATTACH;FMTTYPE=image/png:https://stmamom.com/wp-content/uploads/2021/04/otsego-parks-rec-e1619580266549.png
ORGANIZER;CN="Otsego Parks & Recreation":MAILTO:recreation@ci.otsego.mn.us
END:VEVENT
BEGIN:VEVENT
DTSTART;TZID=America/Chicago:20240710T110000
DTEND;TZID=America/Chicago:20240710T150000
DTSTAMP:20260425T175759
CREATED:20240526T231847Z
LAST-MODIFIED:20240526T231847Z
UID:8452-1720609200-1720623600@stmamom.com
SUMMARY:The SPOT
DESCRIPTION:FYCC’s “The SPOT” is a program where 5th\, 6th & 7th graders can hang out with friends in a safe\, social environment. Each SPOT session will offer a unique class or fun field trip at varying times and prices ranging from $15 to $30. This summer’s activities include bowling\, rock climbing\, Bunker Beach\, and more! \nVisit myfycc.com to view activities and sign up.
URL:https://stmamom.com/event/the-spot-2024-2024-07-10/
LOCATION:FYCC Building\, 5975 Main Ave NE\, Albertville\, MN\, 55301\, United States
ORGANIZER;CN="FYCC":MAILTO:FYCCinformation@gmail.com
END:VEVENT
BEGIN:VEVENT
DTSTART;TZID=America/Chicago:20240711T090000
DTEND;TZID=America/Chicago:20240711T100000
DTSTAMP:20260425T175759
CREATED:20240526T204551Z
LAST-MODIFIED:20240526T204551Z
UID:8370-1720688400-1720692000@stmamom.com
SUMMARY:Reading in the Park (Hanover)
DESCRIPTION:Join FYCC every Thursday at Settler’s Park in Hanover to hear some great stories read by local community leaders. After storytime\, each child will get to take home a free book! \nThis event is for infants through 8th grade. Please register at myfycc.com
URL:https://stmamom.com/event/reading-in-the-park-hanover-2024-2024-07-11/
LOCATION:Hanover Settlers Park\, 11250 5th St NE\, Hanover\, MN\, 55341\, United States
ATTACH;FMTTYPE=image/png:https://stmamom.com/wp-content/uploads/2021/04/fycc-e1697061396286.png
ORGANIZER;CN="FYCC":MAILTO:FYCCinformation@gmail.com
END:VEVENT
BEGIN:VEVENT
DTSTART;TZID=America/Chicago:20240711T130000
DTEND;TZID=America/Chicago:20240711T140000
DTSTAMP:20260425T175759
CREATED:20240526T230925Z
LAST-MODIFIED:20240626T201303Z
UID:8442-1720702800-1720706400@stmamom.com
SUMMARY:Open Swim
DESCRIPTION:Bring your family to enjoy lifeguard-supervised recreational swimming at STMA Middle School East. You can choose either to pay per visit or purchase a season pass. No registration required; pay on site at the pool. \nChildren 7 and under MUST be accompanied by an adult in the water. \nDaily Admission: \n\nChildren 4 and under – Free\nStudents and Adults – $3\nFamily (immediate family only) – $6\nActivity Center members – Free\n\nSummer Pool Pass: \n\nIndividual Pass – $50\nFamily Pass – $75
URL:https://stmamom.com/event/open-swim-2024-07-11/
LOCATION:STMA Middle School East\, 4862 Naber Avenue NE\, St. Michael\, MN\, 55376\, United States
ATTACH;FMTTYPE=image/png:https://stmamom.com/wp-content/uploads/2023/07/swim-e1689015869465.png
ORGANIZER;CN="STMA Community Education":MAILTO:janetm@mystma.org
END:VEVENT
BEGIN:VEVENT
DTSTART;TZID=America/Chicago:20240711T150000
DTEND;TZID=America/Chicago:20240711T183000
DTSTAMP:20260425T175759
CREATED:20240526T210415Z
LAST-MODIFIED:20240526T210415Z
UID:8377-1720710000-1720722600@stmamom.com
SUMMARY:Power of Produce
DESCRIPTION:FYCC’s free “Power of Produce” program is open to kids ages 2–17. Each week that they visit the Albertville Farmer’s Market\, kids will receive a free fruit or vegetable of their choice that was provided by farmers from the market. The P.O.P. program runs every Thursday\, from July 11 through August 29. \nParent or guardian permission/signature required at signup.\nRegister in advance at https://secure.rec1.com/MN/family-youth-community-connections/catalog
URL:https://stmamom.com/event/power-of-produce-2024/
LOCATION:Albertville Central Park\, 5801 Main Ave NE\, Albertville\, MN\, 55301\, United States
ATTACH;FMTTYPE=image/jpeg:https://stmamom.com/wp-content/uploads/2023/06/pop-e1686777338415.jpg
ORGANIZER;CN="FYCC":MAILTO:FYCCinformation@gmail.com
END:VEVENT
BEGIN:VEVENT
DTSTART;TZID=America/Chicago:20240711T150000
DTEND;TZID=America/Chicago:20240711T190000
DTSTAMP:20260425T175759
CREATED:20240627T030542Z
LAST-MODIFIED:20240627T030542Z
UID:8518-1720710000-1720724400@stmamom.com
SUMMARY:Kids Day at the Farmer's Market
DESCRIPTION:All kids are invited for an afternoon of fun with Albertville Lions Club at the Farmer’s Market. Activities include a ninja gym\, petting zoo\, balloon artist\, face painting\, magician\, and more!
URL:https://stmamom.com/event/kids-day-at-the-farmers-market-2024/
LOCATION:Albertville Central Park\, 5801 Main Ave NE\, Albertville\, MN\, 55301\, United States
END:VEVENT
BEGIN:VEVENT
DTSTART;VALUE=DATE:20240713
DTEND;VALUE=DATE:20240719
DTSTAMP:20260425T175759
CREATED:20240526T201238Z
LAST-MODIFIED:20240526T202230Z
UID:8317-1720828800-1721347199@stmamom.com
SUMMARY:$1 Kids Movie: Sing 2
DESCRIPTION:Visit St. Michael Cinema for great kids movies all summer long for just $1 per person! Tickets available at stmichaelcinema.com. \nThis week’s movie is Sing 2. \nShowtimes: \n\nSaturdays – 11:30am\nSundays – 12pm & 6pm\nMondays – 10am\nTuesdays – 2pm & 6:30pm\nWednesdays – 11:30am\nThursdays – 1pm\n\nComplete list of movies:
URL:https://stmamom.com/event/1-kids-movie-2024-07-13/
LOCATION:St. Michael Cinema\, 4300 O'Day Ave NE\, St. Michael\, MN\, 55376\, United States
ATTACH;FMTTYPE=image/jpeg:https://stmamom.com/wp-content/uploads/2024/05/summermovies-header-e1716754266575.jpg
END:VEVENT
BEGIN:VEVENT
DTSTART;TZID=America/Chicago:20240716T090000
DTEND;TZID=America/Chicago:20240716T103000
DTSTAMP:20260425T175759
CREATED:20240605T145616Z
LAST-MODIFIED:20240605T145616Z
UID:8464-1721120400-1721125800@stmamom.com
SUMMARY:Breakfast at the Playground (Albertville Primary)
DESCRIPTION:All school-aged children and adolescents in the STMA community are welcome to a FREE breakfast every Tuesday this summer. You can “grab and go” your breakfast or stay and hang out to play on the playground!\n\nIf you would like to donate towards breakfast items\, visit the Amazon Wish List: https://a.co/12WEmde\n\nAlbertville Primary\nJune 18\, July 2\, July 16\, July 30\, August 13\n\nSt. Michael Elementary\n\nJune 11\, June 25\, July 9\, July 23\, August 6
URL:https://stmamom.com/event/breakfast-at-the-playground-albertville-primary-2024-07-16/
LOCATION:Albertville Primary School\, 5386 Main Avenue NE\, Albertville\, MN\, 55301\, United States
ATTACH;FMTTYPE=image/jpeg:https://stmamom.com/wp-content/uploads/2024/06/batp-e1717596669906.jpg
ORGANIZER;CN="Alleluia Lutheran Church":MAILTO:office@alleluialutheranchurch.org
END:VEVENT
BEGIN:VEVENT
DTSTART;TZID=America/Chicago:20240716T180000
DTEND;TZID=America/Chicago:20240716T190000
DTSTAMP:20260425T175759
CREATED:20240526T214955Z
LAST-MODIFIED:20240526T214955Z
UID:8412-1721152800-1721156400@stmamom.com
SUMMARY:Otsego Evening in the Park
DESCRIPTION:Mark your calendar and plan a family fun night at Otsego’s Prairie Park. Bring a picnic\, play at the playground\, cool off at the splash pad\, and then enjoy some free family entertainment. All performances take place at the Prairie Park Shelter
URL:https://stmamom.com/event/otsego-evening-in-the-park-2024-07-16/
LOCATION:Prairie Park\, Otsego\, 13355 90th Street NE\, Otsego\, MN\, 55330\, United States
ATTACH;FMTTYPE=image/png:https://stmamom.com/wp-content/uploads/2021/04/otsego-parks-rec-e1619580266549.png
ORGANIZER;CN="Otsego Parks & Recreation":MAILTO:recreation@ci.otsego.mn.us
END:VEVENT
BEGIN:VEVENT
DTSTART;TZID=America/Chicago:20240717T110000
DTEND;TZID=America/Chicago:20240717T150000
DTSTAMP:20260425T175759
CREATED:20240526T231847Z
LAST-MODIFIED:20240526T231847Z
UID:8453-1721214000-1721228400@stmamom.com
SUMMARY:The SPOT
DESCRIPTION:FYCC’s “The SPOT” is a program where 5th\, 6th & 7th graders can hang out with friends in a safe\, social environment. Each SPOT session will offer a unique class or fun field trip at varying times and prices ranging from $15 to $30. This summer’s activities include bowling\, rock climbing\, Bunker Beach\, and more! \nVisit myfycc.com to view activities and sign up.
URL:https://stmamom.com/event/the-spot-2024-2024-07-17/
LOCATION:FYCC Building\, 5975 Main Ave NE\, Albertville\, MN\, 55301\, United States
ORGANIZER;CN="FYCC":MAILTO:FYCCinformation@gmail.com
END:VEVENT
BEGIN:VEVENT
DTSTART;TZID=America/Chicago:20240718T090000
DTEND;TZID=America/Chicago:20240718T100000
DTSTAMP:20260425T175759
CREATED:20240526T204551Z
LAST-MODIFIED:20240526T204551Z
UID:8371-1721293200-1721296800@stmamom.com
SUMMARY:Reading in the Park (Hanover)
DESCRIPTION:Join FYCC every Thursday at Settler’s Park in Hanover to hear some great stories read by local community leaders. After storytime\, each child will get to take home a free book! \nThis event is for infants through 8th grade. Please register at myfycc.com
URL:https://stmamom.com/event/reading-in-the-park-hanover-2024-2024-07-18/
LOCATION:Hanover Settlers Park\, 11250 5th St NE\, Hanover\, MN\, 55341\, United States
ATTACH;FMTTYPE=image/png:https://stmamom.com/wp-content/uploads/2021/04/fycc-e1697061396286.png
ORGANIZER;CN="FYCC":MAILTO:FYCCinformation@gmail.com
END:VEVENT
BEGIN:VEVENT
DTSTART;TZID=America/Chicago:20240718T130000
DTEND;TZID=America/Chicago:20240718T140000
DTSTAMP:20260425T175759
CREATED:20240526T230925Z
LAST-MODIFIED:20240626T201303Z
UID:8443-1721307600-1721311200@stmamom.com
SUMMARY:Open Swim
DESCRIPTION:Bring your family to enjoy lifeguard-supervised recreational swimming at STMA Middle School East. You can choose either to pay per visit or purchase a season pass. No registration required; pay on site at the pool. \nChildren 7 and under MUST be accompanied by an adult in the water. \nDaily Admission: \n\nChildren 4 and under – Free\nStudents and Adults – $3\nFamily (immediate family only) – $6\nActivity Center members – Free\n\nSummer Pool Pass: \n\nIndividual Pass – $50\nFamily Pass – $75
URL:https://stmamom.com/event/open-swim-2024-07-18/
LOCATION:STMA Middle School East\, 4862 Naber Avenue NE\, St. Michael\, MN\, 55376\, United States
ATTACH;FMTTYPE=image/png:https://stmamom.com/wp-content/uploads/2023/07/swim-e1689015869465.png
ORGANIZER;CN="STMA Community Education":MAILTO:janetm@mystma.org
END:VEVENT
BEGIN:VEVENT
DTSTART;TZID=America/Chicago:20240718T150000
DTEND;TZID=America/Chicago:20240718T183000
DTSTAMP:20260425T175759
CREATED:20240526T210415Z
LAST-MODIFIED:20240526T210415Z
UID:8378-1721314800-1721327400@stmamom.com
SUMMARY:Power of Produce
DESCRIPTION:FYCC’s free “Power of Produce” program is open to kids ages 2–17. Each week that they visit the Albertville Farmer’s Market\, kids will receive a free fruit or vegetable of their choice that was provided by farmers from the market. The P.O.P. program runs every Thursday\, from July 11 through August 29. \nParent or guardian permission/signature required at signup.\nRegister in advance at https://secure.rec1.com/MN/family-youth-community-connections/catalog
URL:https://stmamom.com/event/power-of-produce-2024-2024-07-18/
LOCATION:Albertville Central Park\, 5801 Main Ave NE\, Albertville\, MN\, 55301\, United States
ATTACH;FMTTYPE=image/jpeg:https://stmamom.com/wp-content/uploads/2023/06/pop-e1686777338415.jpg
ORGANIZER;CN="FYCC":MAILTO:FYCCinformation@gmail.com
END:VEVENT
BEGIN:VEVENT
DTSTART;TZID=America/Chicago:20240719T100000
DTEND;TZID=America/Chicago:20240719T120000
DTSTAMP:20260425T175759
CREATED:20240712T200734Z
LAST-MODIFIED:20240712T200734Z
UID:8521-1721383200-1721390400@stmamom.com
SUMMARY:Penny Carnival
DESCRIPTION:Kids\, bring your pennies to Albertville Central Park for the annual FYCC Penny Carnival! Local businesses and organizations will be hosting booths where kids can spend their pennies to play games and win prizes. (Games range from 1 to 5 pennies)  Please register online at myfycc.com \nBox lunches will be available for purchase on site. \nIn the case of rain\, this event will be held indoors at Albertville City Hall.
URL:https://stmamom.com/event/penny-carnival-2024/
LOCATION:Albertville Central Park\, 5801 Main Ave NE\, Albertville\, MN\, 55301\, United States
ATTACH;FMTTYPE=image/png:https://stmamom.com/wp-content/uploads/2021/04/fycc-e1697061396286.png
ORGANIZER;CN="FYCC":MAILTO:FYCCinformation@gmail.com
END:VEVENT
BEGIN:VEVENT
DTSTART;VALUE=DATE:20240720
DTEND;VALUE=DATE:20240726
DTSTAMP:20260425T175759
CREATED:20240526T201238Z
LAST-MODIFIED:20240526T202435Z
UID:8318-1721433600-1721951999@stmamom.com
SUMMARY:$1 Kids Movie: Trolls Band Together
DESCRIPTION:Visit St. Michael Cinema for great kids movies all summer long for just $1 per person! Tickets available at stmichaelcinema.com. \nThis week’s movie is Trolls Band Together. \nShowtimes: \n\nSaturdays – 11:30am\nSundays – 12pm & 6pm\nMondays – 10am\nTuesdays – 2pm & 6:30pm\nWednesdays – 11:30am\nThursdays – 1pm\n\nComplete list of movies:
URL:https://stmamom.com/event/1-kids-movie-2024-07-20/
LOCATION:St. Michael Cinema\, 4300 O'Day Ave NE\, St. Michael\, MN\, 55376\, United States
ATTACH;FMTTYPE=image/jpeg:https://stmamom.com/wp-content/uploads/2024/05/summermovies-header-e1716754266575.jpg
END:VEVENT
BEGIN:VEVENT
DTSTART;TZID=America/Chicago:20240722T100000
DTEND;TZID=America/Chicago:20240722T190000
DTSTAMP:20260425T175759
CREATED:20240526T211934Z
LAST-MODIFIED:20240526T211934Z
UID:8391-1721642400-1721674800@stmamom.com
SUMMARY:Library Make & Take
DESCRIPTION:Kids ages 5–12 are invited to the library to make a free craft to take home\, while supplies last! Crafts will go along with the theme of the summer reading program: Read\, Renew\, Repeat
URL:https://stmamom.com/event/library-make-take-2024-07-22/
LOCATION:St. Michael Public Library\, 11800 Town Center Dr NE\, St. Michael\, MN\, 55376\, United States
ATTACH;FMTTYPE=image/jpeg:https://stmamom.com/wp-content/uploads/2019/09/st-michael-library.jpg
END:VEVENT
BEGIN:VEVENT
DTSTART;TZID=America/Chicago:20240722T103000
DTEND;TZID=America/Chicago:20240722T113000
DTSTAMP:20260425T175759
CREATED:20240526T212351Z
LAST-MODIFIED:20240526T212351Z
UID:8396-1721644200-1721647800@stmamom.com
SUMMARY:Library Storytime: Habitats Series
DESCRIPTION:Kids ages 3–7 are invited to the library for a special summer series featuring stories\, crafts\, and hands-on learning! \nLearn about what makes different habitats around the world special and find out what animals live there. Kids will explore Oceans\, Jungles\, the Artic\, and Deserts at this fun bimonthly program.
URL:https://stmamom.com/event/library-storytime-habitats-series-2024-07-22/
LOCATION:St. Michael Public Library\, 11800 Town Center Dr NE\, St. Michael\, MN\, 55376\, United States
ATTACH;FMTTYPE=image/jpeg:https://stmamom.com/wp-content/uploads/2019/09/st-michael-library.jpg
END:VEVENT
BEGIN:VEVENT
DTSTART;TZID=America/Chicago:20240722T190000
DTEND;TZID=America/Chicago:20240722T200000
DTSTAMP:20260425T175759
CREATED:20240526T214955Z
LAST-MODIFIED:20240526T214955Z
UID:8413-1721674800-1721678400@stmamom.com
SUMMARY:Otsego Evening in the Park
DESCRIPTION:Mark your calendar and plan a family fun night at Otsego’s Prairie Park. Bring a picnic\, play at the playground\, cool off at the splash pad\, and then enjoy some free family entertainment. All performances take place at the Prairie Park Shelter
URL:https://stmamom.com/event/otsego-evening-in-the-park-2024-07-22/
LOCATION:Prairie Park\, Otsego\, 13355 90th Street NE\, Otsego\, MN\, 55330\, United States
ATTACH;FMTTYPE=image/png:https://stmamom.com/wp-content/uploads/2021/04/otsego-parks-rec-e1619580266549.png
ORGANIZER;CN="Otsego Parks & Recreation":MAILTO:recreation@ci.otsego.mn.us
END:VEVENT
BEGIN:VEVENT
DTSTART;TZID=America/Chicago:20240723T090000
DTEND;TZID=America/Chicago:20240723T103000
DTSTAMP:20260425T175759
CREATED:20240605T150252Z
LAST-MODIFIED:20240605T150252Z
UID:8470-1721725200-1721730600@stmamom.com
SUMMARY:Breakfast at the Playground (STME)
DESCRIPTION:All school-aged children and adolescents in the STMA community are welcome to a FREE breakfast every Tuesday this summer. You can “grab and go” your breakfast or stay and hang out to play on the playground!\n\nIf you would like to donate towards breakfast items\, visit the Amazon Wish List: https://a.co/12WEmde\n\n\nSt. Michael Elementary\n\nJune 11\, June 25\, July 9\, July 23\, August 6\n\n\n\nAlbertville Primary\nJune 18\, July 2\, July 16\, July 30\, August 13
URL:https://stmamom.com/event/breakfast-at-the-playground-stme-2024-07-23/
LOCATION:St. Michael Elementary\, 101 Central Ave W\, St. Michael\, MN\, 55376\, United States
ATTACH;FMTTYPE=image/jpeg:https://stmamom.com/wp-content/uploads/2024/06/batp-e1717596669906.jpg
ORGANIZER;CN="Alleluia Lutheran Church":MAILTO:office@alleluialutheranchurch.org
END:VEVENT
BEGIN:VEVENT
DTSTART;TZID=America/Chicago:20240723T190000
DTEND;TZID=America/Chicago:20240723T200000
DTSTAMP:20260425T175759
CREATED:20240526T214955Z
LAST-MODIFIED:20240526T214955Z
UID:8414-1721761200-1721764800@stmamom.com
SUMMARY:Otsego Evening in the Park
DESCRIPTION:Mark your calendar and plan a family fun night at Otsego’s Prairie Park. Bring a picnic\, play at the playground\, cool off at the splash pad\, and then enjoy some free family entertainment. All performances take place at the Prairie Park Shelter
URL:https://stmamom.com/event/otsego-evening-in-the-park-2024-07-23/
LOCATION:Prairie Park\, Otsego\, 13355 90th Street NE\, Otsego\, MN\, 55330\, United States
ATTACH;FMTTYPE=image/png:https://stmamom.com/wp-content/uploads/2021/04/otsego-parks-rec-e1619580266549.png
ORGANIZER;CN="Otsego Parks & Recreation":MAILTO:recreation@ci.otsego.mn.us
END:VEVENT
END:VCALENDAR