BEGIN:VCALENDAR
VERSION:2.0
PRODID:-//STMAmom.com - ECPv6.15.16.1//NONSGML v1.0//EN
CALSCALE:GREGORIAN
METHOD:PUBLISH
X-WR-CALNAME:STMAmom.com
X-ORIGINAL-URL:https://stmamom.com
X-WR-CALDESC:Events for STMAmom.com
REFRESH-INTERVAL;VALUE=DURATION:PT1H
X-Robots-Tag:noindex
X-PUBLISHED-TTL:PT1H
BEGIN:VTIMEZONE
TZID:America/Chicago
BEGIN:DAYLIGHT
TZOFFSETFROM:-0600
TZOFFSETTO:-0500
TZNAME:CDT
DTSTART:20240310T080000
END:DAYLIGHT
BEGIN:STANDARD
TZOFFSETFROM:-0500
TZOFFSETTO:-0600
TZNAME:CST
DTSTART:20241103T070000
END:STANDARD
BEGIN:DAYLIGHT
TZOFFSETFROM:-0600
TZOFFSETTO:-0500
TZNAME:CDT
DTSTART:20250309T080000
END:DAYLIGHT
BEGIN:STANDARD
TZOFFSETFROM:-0500
TZOFFSETTO:-0600
TZNAME:CST
DTSTART:20251102T070000
END:STANDARD
BEGIN:DAYLIGHT
TZOFFSETFROM:-0600
TZOFFSETTO:-0500
TZNAME:CDT
DTSTART:20260308T080000
END:DAYLIGHT
BEGIN:STANDARD
TZOFFSETFROM:-0500
TZOFFSETTO:-0600
TZNAME:CST
DTSTART:20261101T070000
END:STANDARD
END:VTIMEZONE
BEGIN:VEVENT
DTSTART;TZID=America/Chicago:20251201T100000
DTEND;TZID=America/Chicago:20251201T113000
DTSTAMP:20260423T191932
CREATED:20250827T152548Z
LAST-MODIFIED:20260325T211910Z
UID:9803-1764583200-1764588600@stmamom.com
SUMMARY:Otsego Open Playtime
DESCRIPTION:Kids ages 5 & under are invited to play and meet new friends at Otsego’s Open Playtime. This drop-in program offers an open play session full of toys\, crafts\, active equipment\, and activities. Come for the whole time or stay while you can. (Parent/guardian supervision is required.) \nCost: $3/child at the door\, or pick up a punch pass!\nPlease check Facebook for closures due to holidays or inclement weather: \nNot meeting October 30\, November 27\, December 25\, January 19 and February 16\nLast day is Thursday\, May 14
URL:https://stmamom.com/event/otsego-open-playtime-2025-2025-12-01/
LOCATION:Prairie Center\, 8899 Nashua Ave NE\, Otsego\, MN\, 55330\, United States
ATTACH;FMTTYPE=image/png:https://stmamom.com/wp-content/uploads/2021/04/otsego-parks-rec-e1619580266549.png
ORGANIZER;CN="Otsego Parks & Recreation":MAILTO:recreation@ci.otsego.mn.us
END:VEVENT
BEGIN:VEVENT
DTSTART;TZID=America/Chicago:20251201T103000
DTEND;TZID=America/Chicago:20251201T110000
DTSTAMP:20260423T191932
CREATED:20250827T140359Z
LAST-MODIFIED:20260325T212107Z
UID:9825-1764585000-1764586800@stmamom.com
SUMMARY:Library Storytime
DESCRIPTION:Start your week out right… at the library! Share books\, songs\, and rhymes with your children at this storytime designed to promote school readiness in 0- to 6-year-olds. Librarians\, caregivers\, and children will sing\, talk\, read\, write\, and play together to build early literacy skills. Siblings are also welcome.
URL:https://stmamom.com/event/library-storytime-2025-2025-12-01/
LOCATION:St. Michael Public Library\, 11800 Town Center Dr NE\, St. Michael\, MN\, 55376\, United States
ATTACH;FMTTYPE=image/jpeg:https://stmamom.com/wp-content/uploads/2024/08/storytime-e1725045078975.jpg
END:VEVENT
BEGIN:VEVENT
DTSTART;TZID=America/Chicago:20251204T081500
DTEND;TZID=America/Chicago:20251204T101500
DTSTAMP:20260423T191932
CREATED:20260105T210622Z
LAST-MODIFIED:20260105T210622Z
UID:9917-1764836100-1764843300@stmamom.com
SUMMARY:ECFE Dome Day
DESCRIPTION:Kids ages 6 and under are invited to run and play with friends at the STMA Dome from December 4 through March 20 on alternating Thursdays & Friday mornings. The cost is just $2 per child (max $5 per family)\, payable by cash at the door. No registration required.
URL:https://stmamom.com/event/ecfe-dome-day-2026/
LOCATION:STMA High School\, 5800 Jamison Ave NE\, St. Michael\, MN\, 55376\, United States
ATTACH;FMTTYPE=image/jpeg:https://stmamom.com/wp-content/uploads/2018/11/stmadome.jpg
END:VEVENT
BEGIN:VEVENT
DTSTART;TZID=America/Chicago:20251204T100000
DTEND;TZID=America/Chicago:20251204T113000
DTSTAMP:20260423T191932
CREATED:20250827T152548Z
LAST-MODIFIED:20260325T211910Z
UID:9804-1764842400-1764847800@stmamom.com
SUMMARY:Otsego Open Playtime
DESCRIPTION:Kids ages 5 & under are invited to play and meet new friends at Otsego’s Open Playtime. This drop-in program offers an open play session full of toys\, crafts\, active equipment\, and activities. Come for the whole time or stay while you can. (Parent/guardian supervision is required.) \nCost: $3/child at the door\, or pick up a punch pass!\nPlease check Facebook for closures due to holidays or inclement weather: \nNot meeting October 30\, November 27\, December 25\, January 19 and February 16\nLast day is Thursday\, May 14
URL:https://stmamom.com/event/otsego-open-playtime-2025-2025-12-04/
LOCATION:Prairie Center\, 8899 Nashua Ave NE\, Otsego\, MN\, 55330\, United States
ATTACH;FMTTYPE=image/png:https://stmamom.com/wp-content/uploads/2021/04/otsego-parks-rec-e1619580266549.png
ORGANIZER;CN="Otsego Parks & Recreation":MAILTO:recreation@ci.otsego.mn.us
END:VEVENT
BEGIN:VEVENT
DTSTART;TZID=America/Chicago:20251204T101500
DTEND;TZID=America/Chicago:20251204T114500
DTSTAMP:20260423T191932
CREATED:20250903T180906Z
LAST-MODIFIED:20260105T220614Z
UID:9845-1764843300-1764848700@stmamom.com
SUMMARY:ECFE Drop In & Play
DESCRIPTION:Drop in and play with your friends at ECFE! This monthly drop-in class offers young children and their caregivers a relaxed\, unstructured setting for connection and play. With no formal activities\, the focus is on creativity\, curiosity\, and making memories! \nFall Dates: September 18\, October 2 & 30\, November 13\, December 4\nWinter/Spring Dates: January 15 & 29\, February 12 & 26\, March 12\, April 16\, May 14 \nLocation: Community Education room #203\nCost: $2 per child / max $5/family (no preregistration required)
URL:https://stmamom.com/event/ecfe-drop-in-play-2025-2025-12-04/
LOCATION:STMA Community Education Building\, 60 Central Avenue W\, St. Michael\, MN\, 55376\, United States
ATTACH;FMTTYPE=image/jpeg:https://stmamom.com/wp-content/uploads/2021/04/ecfe-e1619575280453.jpg
END:VEVENT
BEGIN:VEVENT
DTSTART;TZID=America/Chicago:20251205T180000
DTEND;TZID=America/Chicago:20251205T193000
DTSTAMP:20260423T191932
CREATED:20251201T222102Z
LAST-MODIFIED:20251201T224544Z
UID:9868-1764957600-1764963000@stmamom.com
SUMMARY:Hanover Caroling at the Historic Bridge
DESCRIPTION:Join the Hanover Historical Society at the historic pedestrian bridge in downtown Hanover to revive a Victorian community Christmas past. This free\, family-friendly event is features area church and school choirs singing lively renditions of familiar songs and carols. Everyone is invited to enjoy hot cider and cookies. Bring your cameras for instant memories of your child bundled up in an authentic one-horse open sleigh and meet one-on-one with Old St. Nick.\n\nBridge location: 98 Mill Pond Trl\, Hanover\, MN 55341
URL:https://stmamom.com/event/hanover-caroling-at-the-bridge/
LOCATION:MN
ATTACH;FMTTYPE=image/png:https://stmamom.com/wp-content/uploads/2021/06/hanover-historical-e1625099604568.png
ORGANIZER;CN="Hanover Historical Society":MAILTO:info@hanoverhistoricalsociety.org
END:VEVENT
BEGIN:VEVENT
DTSTART;TZID=America/Chicago:20251206T090000
DTEND;TZID=America/Chicago:20251206T120000
DTSTAMP:20260423T191932
CREATED:20230627T221107Z
LAST-MODIFIED:20260325T211849Z
UID:9910-1765011600-1765022400@stmamom.com
SUMMARY:Home Depot Kids Workshop
DESCRIPTION:Bring your kids to Home Depot to complete a free\, hands-on building project created with them in mind! Workshops take place the 1st Saturday of each month and vary by theme. \nFind out more information and register for the workshop at https://www.homedepot.com/c/kids
URL:https://stmamom.com/event/home-depot-kids-workshop-2025-12-06/
LOCATION:Home Depot\, 1385 E 7th Street\, Monticello\, MN\, 55362\, United States
ATTACH;FMTTYPE=image/png:https://stmamom.com/wp-content/uploads/2023/06/home-depot-e1691001383784.png
END:VEVENT
BEGIN:VEVENT
DTSTART;TZID=America/Chicago:20251206T090000
DTEND;TZID=America/Chicago:20251206T130000
DTSTAMP:20260423T191932
CREATED:20251201T225627Z
LAST-MODIFIED:20251201T225627Z
UID:9883-1765011600-1765026000@stmamom.com
SUMMARY:Girl Scouts Holiday Shopping Mall
DESCRIPTION:Let your children experience the gift of giving! Girl Scout troops and their families have been busy putting together inexpensive gifts that your children can purchase. All gifts are priced between 25¢ and $5. \nOlder Girl Scouts will escort children through the mall and assist them in their shopping experience. Troops will gift-wrap and tag the presents so that you can be surprised! \nAdvance registration is required to help separate start times of shoppers. Sign up for a time slot at https://www.signupgenius.com/go/5080945AEAB2EA6FA7-60279271-childrens
URL:https://stmamom.com/event/girl-scouts-holiday-shopping-mall-2/
LOCATION:Monticello Middle School\, 800 Broadway St E\, Monticello\, MN\, 55362\, United States
END:VEVENT
BEGIN:VEVENT
DTSTART;TZID=America/Chicago:20251206T093000
DTEND;TZID=America/Chicago:20251206T133000
DTSTAMP:20260423T191932
CREATED:20251201T224132Z
LAST-MODIFIED:20251201T224132Z
UID:9877-1765013400-1765027800@stmamom.com
SUMMARY:Visit Santa at Bertram
DESCRIPTION:Visit with Santa at Bertram Chain of Lakes Regional Park! A professional photographer will be on site to capture this special visit with Santa. Enjoy warm beverages and s’mores by the campfire. Come early for horse-drawn wagon rides\, available as time and space allows. \nCost: $30 per family\nRegister for a timeslot online at https://mnwrightcountyweb.myvscloud.com
URL:https://stmamom.com/event/visit-santa-at-bertram/
LOCATION:Bertram Chain of Lakes Regional Park\, 90th Street NE\, Monticello\, MN\, 55362\, United States
END:VEVENT
BEGIN:VEVENT
DTSTART;TZID=America/Chicago:20251206T100000
DTEND;TZID=America/Chicago:20251206T130000
DTSTAMP:20260423T191932
CREATED:20251201T215415Z
LAST-MODIFIED:20251201T215415Z
UID:9856-1765015200-1765026000@stmamom.com
SUMMARY:Santa at the Fire Station
DESCRIPTION:Come see Santa at the St. Michael fire station! Remember to bring your camera to snap a photo\, as well as a toys and/or food donation for local families in need.
URL:https://stmamom.com/event/santa-at-the-fire-station-2/
LOCATION:St. Michael Fire Department\, 216 Main Street South\, St. Michael\, MN\, 55376\, United States
END:VEVENT
BEGIN:VEVENT
DTSTART;TZID=America/Chicago:20251206T140000
DTEND;TZID=America/Chicago:20251206T170000
DTSTAMP:20260423T191932
CREATED:20251201T215916Z
LAST-MODIFIED:20251201T215916Z
UID:9858-1765029600-1765040400@stmamom.com
SUMMARY:WinterFest at Town Center Park
DESCRIPTION:Mark your calendars for this FREE community event! Dress for the day and enjoy dozens of activities both inside and outside.\n\nActivities include:\n\nVisits with Santa & Mrs. Claus\nHorse-Drawn Wagon Ride\nMarshmallow Manor\nElf Hut Mini Putt\nSanta’s Sleigh Relay\nFamily Competitions\nThe Grinch\, Anna\, Elsa & Olaf\nCaroling by the SOAR Singers\nPapa Johns & Jersey Mikes food stands\nand MORE!
URL:https://stmamom.com/event/winterfest-at-town-center-park/
LOCATION:Town Center Park\, 11800 Town Center Drive NE\, St. Michael\, MN\, 55376\, United States
ATTACH;FMTTYPE=image/jpeg:https://stmamom.com/wp-content/uploads/2023/11/winterfest-e1700757234481.jpg
ORGANIZER;CN="STMA Rotary Club":MAILTO:stmarotary@gmail.com
END:VEVENT
BEGIN:VEVENT
DTSTART;TZID=America/Chicago:20251206T170000
DTEND;TZID=America/Chicago:20251206T200000
DTSTAMP:20260423T191932
CREATED:20251203T172416Z
LAST-MODIFIED:20251203T172416Z
UID:9906-1765040400-1765051200@stmamom.com
SUMMARY:A Night in Bethlehem
DESCRIPTION:Step back in time and experience the wonder of Jesus’ birth! At A Night in Bethlehem\, kids and their families will explore the city as it might have been when Jesus was born. Through fun\, hands-on activities\, you’ll discover the story of the most important baby ever—and learn that Jesus came to save us. \nChoose a main session to begin your evening! Sessions start at 5:00\, 6:00\, and 7:00. After the main session\, families are free to visit the interactive stations around Bethlehem in any order. Each stop offers a unique experience of life in the time of Jesus. \nThis event is FREE\, but please register for a time slot at https://northridgefellowship.churchcenter.com/registrations/events/3282817
URL:https://stmamom.com/event/a-night-in-bethlehem-2/
LOCATION:NorthRidge Fellowship\, 12522 Main Street\, Rogers\, MN\, 55374\, United States
END:VEVENT
BEGIN:VEVENT
DTSTART;TZID=America/Chicago:20251207T080000
DTEND;TZID=America/Chicago:20251207T120000
DTSTAMP:20260423T191932
CREATED:20251201T223853Z
LAST-MODIFIED:20251201T223853Z
UID:9875-1765094400-1765108800@stmamom.com
SUMMARY:Breakfast with Santa (Rogers)
DESCRIPTION:Join Rogers Lions Club for its annual Breakfast with Santa at the 21st Century Bank Event Center. They’ll be serving pancakes\, French toast and sausage in exchange for a free-will donation. All proceeds from the event will be donated to CROSS Services.\n\nTake your own photos with Mr. & Mrs. Claus when you bring in a non-perishable food donation for CROSS Services.\n\nBuy a $5 raffle ticket for a chance to win an electric scooter\, iPad 128G\, or a $50 gift card.
URL:https://stmamom.com/event/breakfast-with-santa-rogers/
LOCATION:Rogers Lions Central Park\, 21354 Rouillard Ave\, Rogers\, MN\, 55374\, United States
END:VEVENT
BEGIN:VEVENT
DTSTART;TZID=America/Chicago:20251207T160000
DTEND;TZID=America/Chicago:20251207T171000
DTSTAMP:20260423T191932
CREATED:20251201T221653Z
LAST-MODIFIED:20251201T221653Z
UID:9866-1765123200-1765127400@stmamom.com
SUMMARY:Skate with Santa
DESCRIPTION:You’re invited to skate with Santa at the TruStone Center ice arena! Cost is $5/skater (ages 5 & under free) and includes free hot chocolate with paid admission. Skate rentals available for $2/pair.
URL:https://stmamom.com/event/skate-with-santa-2/
LOCATION:Rogers Trustone Ice Arena\, 21080 141st Ave N\, Rogers\, MN\, 55374\, United States
ATTACH;FMTTYPE=image/png:https://stmamom.com/wp-content/uploads/2021/05/rogersmn.png
ORGANIZER;CN="City of Rogers":MAILTO:info@rogersmn.gov
END:VEVENT
BEGIN:VEVENT
DTSTART;TZID=America/Chicago:20251207T160000
DTEND;TZID=America/Chicago:20251207T190000
DTSTAMP:20260423T191932
CREATED:20251201T223437Z
LAST-MODIFIED:20251201T223437Z
UID:9873-1765123200-1765134000@stmamom.com
SUMMARY:Santa Photos at Fleet Farm
DESCRIPTION:Grab your family and visit Fleet Farm in Monticello for FREE pictures with Santa! Bring your camera and a smile for some memorable holiday photos.
URL:https://stmamom.com/event/santa-photos-at-fleet-farm/
LOCATION:Fleet Farm\, 320 Chelsea Road\, Monticello\, MN\, 55362\, United States
END:VEVENT
BEGIN:VEVENT
DTSTART;TZID=America/Chicago:20251208T100000
DTEND;TZID=America/Chicago:20251208T113000
DTSTAMP:20260423T191932
CREATED:20250827T152548Z
LAST-MODIFIED:20260325T211910Z
UID:9805-1765188000-1765193400@stmamom.com
SUMMARY:Otsego Open Playtime
DESCRIPTION:Kids ages 5 & under are invited to play and meet new friends at Otsego’s Open Playtime. This drop-in program offers an open play session full of toys\, crafts\, active equipment\, and activities. Come for the whole time or stay while you can. (Parent/guardian supervision is required.) \nCost: $3/child at the door\, or pick up a punch pass!\nPlease check Facebook for closures due to holidays or inclement weather: \nNot meeting October 30\, November 27\, December 25\, January 19 and February 16\nLast day is Thursday\, May 14
URL:https://stmamom.com/event/otsego-open-playtime-2025-2025-12-08/
LOCATION:Prairie Center\, 8899 Nashua Ave NE\, Otsego\, MN\, 55330\, United States
ATTACH;FMTTYPE=image/png:https://stmamom.com/wp-content/uploads/2021/04/otsego-parks-rec-e1619580266549.png
ORGANIZER;CN="Otsego Parks & Recreation":MAILTO:recreation@ci.otsego.mn.us
END:VEVENT
BEGIN:VEVENT
DTSTART;TZID=America/Chicago:20251208T103000
DTEND;TZID=America/Chicago:20251208T110000
DTSTAMP:20260423T191932
CREATED:20250827T140359Z
LAST-MODIFIED:20260325T212107Z
UID:9826-1765189800-1765191600@stmamom.com
SUMMARY:Library Storytime
DESCRIPTION:Start your week out right… at the library! Share books\, songs\, and rhymes with your children at this storytime designed to promote school readiness in 0- to 6-year-olds. Librarians\, caregivers\, and children will sing\, talk\, read\, write\, and play together to build early literacy skills. Siblings are also welcome.
URL:https://stmamom.com/event/library-storytime-2025-2025-12-08/
LOCATION:St. Michael Public Library\, 11800 Town Center Dr NE\, St. Michael\, MN\, 55376\, United States
ATTACH;FMTTYPE=image/jpeg:https://stmamom.com/wp-content/uploads/2024/08/storytime-e1725045078975.jpg
END:VEVENT
BEGIN:VEVENT
DTSTART;TZID=America/Chicago:20251208T173000
DTEND;TZID=America/Chicago:20251208T200000
DTSTAMP:20260423T191932
CREATED:20251203T172124Z
LAST-MODIFIED:20251203T172124Z
UID:9904-1765215000-1765224000@stmamom.com
SUMMARY:Meet Santa at St. Michael Cinema
DESCRIPTION:Gather the family for a cozy\, festive evening at St. Michael Cinema! Mr. and Mrs. Claus are stopping by to spread Christmas cheer\, share warm smiles\, and take photos with your little ones. A professional photographer will be on site capturing the moment—every family receives FREE digital images to download and keep.\nNo tickets required\, all ages welcome!\nSponsored by: Knights PlumbingPhotos by: Legendary Studios
URL:https://stmamom.com/event/meet-santa-at-st-michael-cinema/
LOCATION:St. Michael Cinema\, 4300 O'Day Ave NE\, St. Michael\, MN\, 55376\, United States
ATTACH;FMTTYPE=image/png:https://stmamom.com/wp-content/uploads/2021/07/stmichaelcinema.png
END:VEVENT
BEGIN:VEVENT
DTSTART;TZID=America/Chicago:20251211T100000
DTEND;TZID=America/Chicago:20251211T103000
DTSTAMP:20260423T191932
CREATED:20250827T141326Z
LAST-MODIFIED:20260325T212155Z
UID:9841-1765447200-1765449000@stmamom.com
SUMMARY:ECFE Storytime at the Library
DESCRIPTION:Come hang out at the library with your friends from ECFE! A staff member from STMA’s Early Childhood program will lead storytime along with crafts\, games\, songs. This event is intended for ages 0 to 6 along with their parent or caregiver.
URL:https://stmamom.com/event/ecfe-storytime-at-the-library-2-2025-12-11/
LOCATION:St. Michael Public Library\, 11800 Town Center Dr NE\, St. Michael\, MN\, 55376\, United States
ATTACH;FMTTYPE=image/jpeg:https://stmamom.com/wp-content/uploads/2021/04/ecfe-e1619575280453.jpg
END:VEVENT
BEGIN:VEVENT
DTSTART;TZID=America/Chicago:20251211T100000
DTEND;TZID=America/Chicago:20251211T113000
DTSTAMP:20260423T191932
CREATED:20250827T152548Z
LAST-MODIFIED:20260325T211910Z
UID:9806-1765447200-1765452600@stmamom.com
SUMMARY:Otsego Open Playtime
DESCRIPTION:Kids ages 5 & under are invited to play and meet new friends at Otsego’s Open Playtime. This drop-in program offers an open play session full of toys\, crafts\, active equipment\, and activities. Come for the whole time or stay while you can. (Parent/guardian supervision is required.) \nCost: $3/child at the door\, or pick up a punch pass!\nPlease check Facebook for closures due to holidays or inclement weather: \nNot meeting October 30\, November 27\, December 25\, January 19 and February 16\nLast day is Thursday\, May 14
URL:https://stmamom.com/event/otsego-open-playtime-2025-2025-12-11/
LOCATION:Prairie Center\, 8899 Nashua Ave NE\, Otsego\, MN\, 55330\, United States
ATTACH;FMTTYPE=image/png:https://stmamom.com/wp-content/uploads/2021/04/otsego-parks-rec-e1619580266549.png
ORGANIZER;CN="Otsego Parks & Recreation":MAILTO:recreation@ci.otsego.mn.us
END:VEVENT
BEGIN:VEVENT
DTSTART;TZID=America/Chicago:20251211T173000
DTEND;TZID=America/Chicago:20251211T193000
DTSTAMP:20260423T191932
CREATED:20251203T171627Z
LAST-MODIFIED:20251203T171627Z
UID:9902-1765474200-1765481400@stmamom.com
SUMMARY:FYCC Santa Bingo
DESCRIPTION:Have fun playing bingo with your family. Everyone is guaranteed to win a prize! Santa himself will be there from 5:30 to 6:30 for pictures\, so be sure to bring your camera. Bingo starts at 6:30. \nCost: $25/family (includes grandparents)\nRegister online at https://secure.rec1.com/MN/family-youth-community-connections/catalog
URL:https://stmamom.com/event/fycc-santa-bingo-4/
LOCATION:Albertville City Hall\, 5959 Main Ave NE\, Albertville\, MN\, 55301\, United States
ATTACH;FMTTYPE=image/png:https://stmamom.com/wp-content/uploads/2021/04/fycc-e1697061396286.png
ORGANIZER;CN="FYCC":MAILTO:FYCCinformation@gmail.com
END:VEVENT
BEGIN:VEVENT
DTSTART;TZID=America/Chicago:20251212T081500
DTEND;TZID=America/Chicago:20251212T101500
DTSTAMP:20260423T191932
CREATED:20260105T210622Z
LAST-MODIFIED:20260105T210622Z
UID:9918-1765527300-1765534500@stmamom.com
SUMMARY:ECFE Dome Day
DESCRIPTION:Kids ages 6 and under are invited to run and play with friends at the STMA Dome from December 4 through March 20 on alternating Thursdays & Friday mornings. The cost is just $2 per child (max $5 per family)\, payable by cash at the door. No registration required.
URL:https://stmamom.com/event/ecfe-dome-day-2026-2025-12-12/
LOCATION:STMA High School\, 5800 Jamison Ave NE\, St. Michael\, MN\, 55376\, United States
ATTACH;FMTTYPE=image/jpeg:https://stmamom.com/wp-content/uploads/2018/11/stmadome.jpg
END:VEVENT
BEGIN:VEVENT
DTSTART;TZID=America/Chicago:20251213T100000
DTEND;TZID=America/Chicago:20251213T130000
DTSTAMP:20260423T191932
CREATED:20251201T220347Z
LAST-MODIFIED:20251201T220347Z
UID:9860-1765620000-1765630800@stmamom.com
SUMMARY:Otsego Santa Day
DESCRIPTION:The North Pole is coming to Otsego! The elves are busy transforming the City Shop into a winter wonderland for you and your friends/family to walk through. The kids will get to listen to carolers\, meet some of Santa’s friends and say hi to Santa himself with an opportunity to take a selfie with him. Kids are allowed to hand a letter to Santa. \nThis event is FREE\, but be sure to register early as the limited space at the North Pole fills up fast! \n\n10:00-10:45am Time slot\n11:00-11:45am Time slot\n12:00-12:45 PM Time slot
URL:https://stmamom.com/event/otsego-santa-day-5/
LOCATION:Otsego City Hall\, 13400 90th Street NE\, Otsego\, MN\, 55330\, United States
ATTACH;FMTTYPE=image/png:https://stmamom.com/wp-content/uploads/2021/04/otsego-parks-rec-e1619580266549.png
ORGANIZER;CN="Otsego Parks & Recreation":MAILTO:recreation@ci.otsego.mn.us
END:VEVENT
BEGIN:VEVENT
DTSTART;TZID=America/Chicago:20251213T120000
DTEND;TZID=America/Chicago:20251213T140000
DTSTAMP:20260423T191932
CREATED:20251201T220507Z
LAST-MODIFIED:20251201T220507Z
UID:9862-1765627200-1765634400@stmamom.com
SUMMARY:Santa & Sleigh at Albertville Outlets
DESCRIPTION:Ho ho ho! Santa Claus is coming to town! \n\nWhat: FREE photos with Santa and his sleighWhen: Saturday 12/13 from 12-2PM Where: Albertville Premium Outlets\, near Gregory’s Coffee and CrocsWho: Everyone on the nice list! The first 100 children will receive a free hot chocolate coupon
URL:https://stmamom.com/event/santa-sleigh-at-albertville-outlets/
LOCATION:Albertville Premium Outlets\, 6415 Labeaux Ave NE\, Albertville\, MN\, 55301\, United States
END:VEVENT
BEGIN:VEVENT
DTSTART;TZID=America/Chicago:20251213T140000
DTEND;TZID=America/Chicago:20251213T180000
DTSTAMP:20260423T191932
CREATED:20251201T223230Z
LAST-MODIFIED:20251201T223230Z
UID:9870-1765634400-1765648800@stmamom.com
SUMMARY:Santa at Kremer's Toy & Hobby
DESCRIPTION:Santa is ready and excited to visit all his friends at Kremer’s Toy & Hobby! STMA’s favorite toy store will offer visits on a pre-registration basis to allow for a more relaxing visit and the ability to visit Santa without the line. Kremer’s elves will be on hand to help take a photo with your camera.\n\nStop by the store or call 763-497-2777 to reserve your timeslot.\n$10 registration fee applies\, and you will receive a $10 voucher for the store upon arrival.
URL:https://stmamom.com/event/santa-at-kremers-toy-hobby-3/
LOCATION:Kremer’s Toy & Hobby\, 11011 61st Street NE #120\, Albertville\, 55301\, United States
END:VEVENT
BEGIN:VEVENT
DTSTART;TZID=America/Chicago:20251213T150000
DTEND;TZID=America/Chicago:20251213T173000
DTSTAMP:20260423T191932
CREATED:20251203T172809Z
LAST-MODIFIED:20251203T172809Z
UID:9908-1765638000-1765647000@stmamom.com
SUMMARY:Santa visits The River Inn
DESCRIPTION:Bring the whole family to River Inn on Saturday\, December 13th from 3–5:30pm for a magical afternoon with Santa & Mrs. Claus. There will be hot chocolate\, s’mores\, and photos with Santa — the perfect way to celebrate the season!
URL:https://stmamom.com/event/santa-visits-the-river-inn/
LOCATION:MN
END:VEVENT
BEGIN:VEVENT
DTSTART;TZID=America/Chicago:20251215T100000
DTEND;TZID=America/Chicago:20251215T113000
DTSTAMP:20260423T191932
CREATED:20250827T152548Z
LAST-MODIFIED:20260325T211910Z
UID:9807-1765792800-1765798200@stmamom.com
SUMMARY:Otsego Open Playtime
DESCRIPTION:Kids ages 5 & under are invited to play and meet new friends at Otsego’s Open Playtime. This drop-in program offers an open play session full of toys\, crafts\, active equipment\, and activities. Come for the whole time or stay while you can. (Parent/guardian supervision is required.) \nCost: $3/child at the door\, or pick up a punch pass!\nPlease check Facebook for closures due to holidays or inclement weather: \nNot meeting October 30\, November 27\, December 25\, January 19 and February 16\nLast day is Thursday\, May 14
URL:https://stmamom.com/event/otsego-open-playtime-2025-2025-12-15/
LOCATION:Prairie Center\, 8899 Nashua Ave NE\, Otsego\, MN\, 55330\, United States
ATTACH;FMTTYPE=image/png:https://stmamom.com/wp-content/uploads/2021/04/otsego-parks-rec-e1619580266549.png
ORGANIZER;CN="Otsego Parks & Recreation":MAILTO:recreation@ci.otsego.mn.us
END:VEVENT
BEGIN:VEVENT
DTSTART;TZID=America/Chicago:20251215T103000
DTEND;TZID=America/Chicago:20251215T110000
DTSTAMP:20260423T191932
CREATED:20250827T140359Z
LAST-MODIFIED:20260325T212107Z
UID:9827-1765794600-1765796400@stmamom.com
SUMMARY:Library Storytime
DESCRIPTION:Start your week out right… at the library! Share books\, songs\, and rhymes with your children at this storytime designed to promote school readiness in 0- to 6-year-olds. Librarians\, caregivers\, and children will sing\, talk\, read\, write\, and play together to build early literacy skills. Siblings are also welcome.
URL:https://stmamom.com/event/library-storytime-2025-2025-12-15/
LOCATION:St. Michael Public Library\, 11800 Town Center Dr NE\, St. Michael\, MN\, 55376\, United States
ATTACH;FMTTYPE=image/jpeg:https://stmamom.com/wp-content/uploads/2024/08/storytime-e1725045078975.jpg
END:VEVENT
BEGIN:VEVENT
DTSTART;TZID=America/Chicago:20251216T140000
DTEND;TZID=America/Chicago:20251216T190000
DTSTAMP:20260423T191932
CREATED:20250827T144229Z
LAST-MODIFIED:20260105T221533Z
UID:9837-1765893600-1765911600@stmamom.com
SUMMARY:Library Sensory Stations
DESCRIPTION:Stop by the library for some self-led sensory fun! There will be mess-free activities and sensory bins out in the children’s area for free play. This activity is suitable for preschool ages and up.
URL:https://stmamom.com/event/library-sensory-stations-2025-12-16/
LOCATION:St. Michael Public Library\, 11800 Town Center Dr NE\, St. Michael\, MN\, 55376\, United States
ATTACH;FMTTYPE=image/jpeg:https://stmamom.com/wp-content/uploads/2019/09/st-michael-library.jpg
END:VEVENT
BEGIN:VEVENT
DTSTART;TZID=America/Chicago:20251218T100000
DTEND;TZID=America/Chicago:20251218T113000
DTSTAMP:20260423T191932
CREATED:20250827T152548Z
LAST-MODIFIED:20260325T211910Z
UID:9808-1766052000-1766057400@stmamom.com
SUMMARY:Otsego Open Playtime
DESCRIPTION:Kids ages 5 & under are invited to play and meet new friends at Otsego’s Open Playtime. This drop-in program offers an open play session full of toys\, crafts\, active equipment\, and activities. Come for the whole time or stay while you can. (Parent/guardian supervision is required.) \nCost: $3/child at the door\, or pick up a punch pass!\nPlease check Facebook for closures due to holidays or inclement weather: \nNot meeting October 30\, November 27\, December 25\, January 19 and February 16\nLast day is Thursday\, May 14
URL:https://stmamom.com/event/otsego-open-playtime-2025-2025-12-18/
LOCATION:Prairie Center\, 8899 Nashua Ave NE\, Otsego\, MN\, 55330\, United States
ATTACH;FMTTYPE=image/png:https://stmamom.com/wp-content/uploads/2021/04/otsego-parks-rec-e1619580266549.png
ORGANIZER;CN="Otsego Parks & Recreation":MAILTO:recreation@ci.otsego.mn.us
END:VEVENT
END:VCALENDAR