BEGIN:VCALENDAR
VERSION:2.0
PRODID:-//STMAmom.com - ECPv6.15.16.1//NONSGML v1.0//EN
CALSCALE:GREGORIAN
METHOD:PUBLISH
X-WR-CALNAME:STMAmom.com
X-ORIGINAL-URL:https://stmamom.com
X-WR-CALDESC:Events for STMAmom.com
REFRESH-INTERVAL;VALUE=DURATION:PT1H
X-Robots-Tag:noindex
X-PUBLISHED-TTL:PT1H
BEGIN:VTIMEZONE
TZID:America/Chicago
BEGIN:DAYLIGHT
TZOFFSETFROM:-0600
TZOFFSETTO:-0500
TZNAME:CDT
DTSTART:20250309T080000
END:DAYLIGHT
BEGIN:STANDARD
TZOFFSETFROM:-0500
TZOFFSETTO:-0600
TZNAME:CST
DTSTART:20251102T070000
END:STANDARD
BEGIN:DAYLIGHT
TZOFFSETFROM:-0600
TZOFFSETTO:-0500
TZNAME:CDT
DTSTART:20260308T080000
END:DAYLIGHT
BEGIN:STANDARD
TZOFFSETFROM:-0500
TZOFFSETTO:-0600
TZNAME:CST
DTSTART:20261101T070000
END:STANDARD
BEGIN:DAYLIGHT
TZOFFSETFROM:-0600
TZOFFSETTO:-0500
TZNAME:CDT
DTSTART:20270314T080000
END:DAYLIGHT
BEGIN:STANDARD
TZOFFSETFROM:-0500
TZOFFSETTO:-0600
TZNAME:CST
DTSTART:20271107T070000
END:STANDARD
END:VTIMEZONE
BEGIN:VEVENT
DTSTART;TZID=America/Chicago:20260202T100000
DTEND;TZID=America/Chicago:20260202T113000
DTSTAMP:20260423T161358
CREATED:20250827T152548Z
LAST-MODIFIED:20260325T211911Z
UID:9963-1770026400-1770031800@stmamom.com
SUMMARY:Otsego Open Playtime
DESCRIPTION:Kids ages 5 & under are invited to play and meet new friends at Otsego’s Open Playtime. This drop-in program offers an open play session full of toys\, crafts\, active equipment\, and activities. Come for the whole time or stay while you can. (Parent/guardian supervision is required.) \nCost: $3/child at the door\, or pick up a punch pass!\nPlease check Facebook for closures due to holidays or inclement weather: \nNot meeting October 30\, November 27\, December 25\, January 19 and February 16\nLast day is Thursday\, May 14
URL:https://stmamom.com/event/otsego-open-playtime-2025-2026-02-02/
LOCATION:Prairie Center\, 8899 Nashua Ave NE\, Otsego\, MN\, 55330\, United States
ATTACH;FMTTYPE=image/png:https://stmamom.com/wp-content/uploads/2021/04/otsego-parks-rec-e1619580266549.png
ORGANIZER;CN="Otsego Parks & Recreation":MAILTO:recreation@ci.otsego.mn.us
END:VEVENT
BEGIN:VEVENT
DTSTART;TZID=America/Chicago:20260202T103000
DTEND;TZID=America/Chicago:20260202T110000
DTSTAMP:20260423T161358
CREATED:20250827T140359Z
LAST-MODIFIED:20260325T212107Z
UID:9936-1770028200-1770030000@stmamom.com
SUMMARY:Library Storytime
DESCRIPTION:Start your week out right… at the library! Share books\, songs\, and rhymes with your children at this storytime designed to promote school readiness in 0- to 6-year-olds. Librarians\, caregivers\, and children will sing\, talk\, read\, write\, and play together to build early literacy skills. Siblings are also welcome.
URL:https://stmamom.com/event/library-storytime-2025-2026-02-02/
LOCATION:St. Michael Public Library\, 11800 Town Center Dr NE\, St. Michael\, MN\, 55376\, United States
ATTACH;FMTTYPE=image/jpeg:https://stmamom.com/wp-content/uploads/2024/08/storytime-e1725045078975.jpg
END:VEVENT
BEGIN:VEVENT
DTSTART;TZID=America/Chicago:20260205T100000
DTEND;TZID=America/Chicago:20260205T103000
DTSTAMP:20260423T161358
CREATED:20250827T141326Z
LAST-MODIFIED:20260325T212157Z
UID:9949-1770285600-1770287400@stmamom.com
SUMMARY:ECFE Storytime at the Library
DESCRIPTION:Come hang out at the library with your friends from ECFE! A staff member from STMA’s Early Childhood program will lead storytime along with crafts\, games\, songs. This event is intended for ages 0 to 6 along with their parent or caregiver.
URL:https://stmamom.com/event/ecfe-storytime-at-the-library-2-2026-02-05/
LOCATION:St. Michael Public Library\, 11800 Town Center Dr NE\, St. Michael\, MN\, 55376\, United States
ATTACH;FMTTYPE=image/jpeg:https://stmamom.com/wp-content/uploads/2021/04/ecfe-e1619575280453.jpg
END:VEVENT
BEGIN:VEVENT
DTSTART;TZID=America/Chicago:20260205T100000
DTEND;TZID=America/Chicago:20260205T113000
DTSTAMP:20260423T161358
CREATED:20250827T152548Z
LAST-MODIFIED:20260325T211912Z
UID:9964-1770285600-1770291000@stmamom.com
SUMMARY:Otsego Open Playtime
DESCRIPTION:Kids ages 5 & under are invited to play and meet new friends at Otsego’s Open Playtime. This drop-in program offers an open play session full of toys\, crafts\, active equipment\, and activities. Come for the whole time or stay while you can. (Parent/guardian supervision is required.) \nCost: $3/child at the door\, or pick up a punch pass!\nPlease check Facebook for closures due to holidays or inclement weather: \nNot meeting October 30\, November 27\, December 25\, January 19 and February 16\nLast day is Thursday\, May 14
URL:https://stmamom.com/event/otsego-open-playtime-2025-2026-02-05/
LOCATION:Prairie Center\, 8899 Nashua Ave NE\, Otsego\, MN\, 55330\, United States
ATTACH;FMTTYPE=image/png:https://stmamom.com/wp-content/uploads/2021/04/otsego-parks-rec-e1619580266549.png
ORGANIZER;CN="Otsego Parks & Recreation":MAILTO:recreation@ci.otsego.mn.us
END:VEVENT
BEGIN:VEVENT
DTSTART;TZID=America/Chicago:20260206T081500
DTEND;TZID=America/Chicago:20260206T101500
DTSTAMP:20260423T161358
CREATED:20260105T210622Z
LAST-MODIFIED:20260105T210622Z
UID:9923-1770365700-1770372900@stmamom.com
SUMMARY:ECFE Dome Day
DESCRIPTION:Kids ages 6 and under are invited to run and play with friends at the STMA Dome from December 4 through March 20 on alternating Thursdays & Friday mornings. The cost is just $2 per child (max $5 per family)\, payable by cash at the door. No registration required.
URL:https://stmamom.com/event/ecfe-dome-day-2026-2026-02-06/
LOCATION:STMA High School\, 5800 Jamison Ave NE\, St. Michael\, MN\, 55376\, United States
ATTACH;FMTTYPE=image/jpeg:https://stmamom.com/wp-content/uploads/2018/11/stmadome.jpg
END:VEVENT
BEGIN:VEVENT
DTSTART;TZID=America/Chicago:20260207T090000
DTEND;TZID=America/Chicago:20260207T120000
DTSTAMP:20260423T161358
CREATED:20230627T221107Z
LAST-MODIFIED:20260325T211849Z
UID:10045-1770454800-1770465600@stmamom.com
SUMMARY:Home Depot Kids Workshop
DESCRIPTION:Bring your kids to Home Depot to complete a free\, hands-on building project created with them in mind! Workshops take place the 1st Saturday of each month and vary by theme. \nFind out more information and register for the workshop at https://www.homedepot.com/c/kids
URL:https://stmamom.com/event/home-depot-kids-workshop-2026-02-07/
LOCATION:Home Depot\, 1385 E 7th Street\, Monticello\, MN\, 55362\, United States
ATTACH;FMTTYPE=image/png:https://stmamom.com/wp-content/uploads/2023/06/home-depot-e1691001383784.png
END:VEVENT
BEGIN:VEVENT
DTSTART;TZID=America/Chicago:20260207T093000
DTEND;TZID=America/Chicago:20260207T130000
DTSTAMP:20260423T161358
CREATED:20260105T221742Z
LAST-MODIFIED:20260105T221742Z
UID:10060-1770456600-1770469200@stmamom.com
SUMMARY:"Take Your Child to the Library" Day
DESCRIPTION:It’s National Take Your Child to the Library Day\, and the St. Michael Library is celebrating with a Winter Carnival! There will be winter themed activities\, games\, stories\, crafts\, a snow princess\, and more. Registration not required; drop in anytime.
URL:https://stmamom.com/event/take-your-child-to-the-library-day-2/
LOCATION:St. Michael Public Library\, 11800 Town Center Dr NE\, St. Michael\, MN\, 55376\, United States
ATTACH;FMTTYPE=image/jpeg:https://stmamom.com/wp-content/uploads/2019/09/st-michael-library.jpg
END:VEVENT
BEGIN:VEVENT
DTSTART;TZID=America/Chicago:20260207T100000
DTEND;TZID=America/Chicago:20260207T130000
DTSTAMP:20260423T161358
CREATED:20260128T195054Z
LAST-MODIFIED:20260128T195054Z
UID:10073-1770458400-1770469200@stmamom.com
SUMMARY:Otsego Winter Festival
DESCRIPTION:Bundle up for some frosty fun! Wright County Parks and Otsego Parks & Recreation are teaming up to offer the 2nd annual Otsego Winter Festival. \n\nEvent Highlights include snowshoe adventures\, wagon rides\, art projects\, and a magical meet-and-greet with Princess Elsa. Then\, warm up around the campfire with a s’more and a cup of hot cocoa. In addition\, your family can search for hidden medallions and win a cash prize of up to $125!
URL:https://stmamom.com/event/otsego-winter-festival-2026/
LOCATION:Prairie Center\, 8899 Nashua Ave NE\, Otsego\, MN\, 55330\, United States
ATTACH;FMTTYPE=image/png:https://stmamom.com/wp-content/uploads/2021/04/otsego-parks-rec-e1619580266549.png
ORGANIZER;CN="Otsego Parks & Recreation":MAILTO:recreation@ci.otsego.mn.us
END:VEVENT
BEGIN:VEVENT
DTSTART;TZID=America/Chicago:20260209T100000
DTEND;TZID=America/Chicago:20260209T113000
DTSTAMP:20260423T161358
CREATED:20250827T152548Z
LAST-MODIFIED:20260325T211912Z
UID:9965-1770631200-1770636600@stmamom.com
SUMMARY:Otsego Open Playtime
DESCRIPTION:Kids ages 5 & under are invited to play and meet new friends at Otsego’s Open Playtime. This drop-in program offers an open play session full of toys\, crafts\, active equipment\, and activities. Come for the whole time or stay while you can. (Parent/guardian supervision is required.) \nCost: $3/child at the door\, or pick up a punch pass!\nPlease check Facebook for closures due to holidays or inclement weather: \nNot meeting October 30\, November 27\, December 25\, January 19 and February 16\nLast day is Thursday\, May 14
URL:https://stmamom.com/event/otsego-open-playtime-2025-2026-02-09/
LOCATION:Prairie Center\, 8899 Nashua Ave NE\, Otsego\, MN\, 55330\, United States
ATTACH;FMTTYPE=image/png:https://stmamom.com/wp-content/uploads/2021/04/otsego-parks-rec-e1619580266549.png
ORGANIZER;CN="Otsego Parks & Recreation":MAILTO:recreation@ci.otsego.mn.us
END:VEVENT
BEGIN:VEVENT
DTSTART;TZID=America/Chicago:20260209T103000
DTEND;TZID=America/Chicago:20260209T110000
DTSTAMP:20260423T161358
CREATED:20250827T140359Z
LAST-MODIFIED:20260325T212107Z
UID:9937-1770633000-1770634800@stmamom.com
SUMMARY:Library Storytime
DESCRIPTION:Start your week out right… at the library! Share books\, songs\, and rhymes with your children at this storytime designed to promote school readiness in 0- to 6-year-olds. Librarians\, caregivers\, and children will sing\, talk\, read\, write\, and play together to build early literacy skills. Siblings are also welcome.
URL:https://stmamom.com/event/library-storytime-2025-2026-02-09/
LOCATION:St. Michael Public Library\, 11800 Town Center Dr NE\, St. Michael\, MN\, 55376\, United States
ATTACH;FMTTYPE=image/jpeg:https://stmamom.com/wp-content/uploads/2024/08/storytime-e1725045078975.jpg
END:VEVENT
BEGIN:VEVENT
DTSTART;TZID=America/Chicago:20260209T180000
DTEND;TZID=America/Chicago:20260209T190000
DTSTAMP:20260423T161358
CREATED:20260105T210846Z
LAST-MODIFIED:20260105T210846Z
UID:9931-1770660000-1770663600@stmamom.com
SUMMARY:Dome Night
DESCRIPTION:Join your friends from ECFE for Dome Night\, a fantastic evening of fun for the whole family at the STMA Multipurpose Facility! Designed for children ages 8 and under\, this event features an array of inflatables and age-appropriate toys that will keep your little ones active and entertained. Come bounce\, slide\, and play in a safe and exciting environment\, where families can enjoy quality time together and socialize with other families while letting the kids burn off some energy! \nCost: $5/family\nRegister & pay online at https://stma.ce.eleyo.com/course/ecfe/7389/fall-2025%E2%80%941/ecfe-dome-nights
URL:https://stmamom.com/event/dome-night-2-2026-02-09/
LOCATION:STMA High School\, 5800 Jamison Ave NE\, St. Michael\, MN\, 55376\, United States
ATTACH;FMTTYPE=image/jpeg:https://stmamom.com/wp-content/uploads/2018/11/stmadome.jpg
END:VEVENT
BEGIN:VEVENT
DTSTART;TZID=America/Chicago:20260212T081500
DTEND;TZID=America/Chicago:20260212T101500
DTSTAMP:20260423T161358
CREATED:20260105T210622Z
LAST-MODIFIED:20260105T210622Z
UID:9924-1770884100-1770891300@stmamom.com
SUMMARY:ECFE Dome Day
DESCRIPTION:Kids ages 6 and under are invited to run and play with friends at the STMA Dome from December 4 through March 20 on alternating Thursdays & Friday mornings. The cost is just $2 per child (max $5 per family)\, payable by cash at the door. No registration required.
URL:https://stmamom.com/event/ecfe-dome-day-2026-2026-02-12/
LOCATION:STMA High School\, 5800 Jamison Ave NE\, St. Michael\, MN\, 55376\, United States
ATTACH;FMTTYPE=image/jpeg:https://stmamom.com/wp-content/uploads/2018/11/stmadome.jpg
END:VEVENT
BEGIN:VEVENT
DTSTART;TZID=America/Chicago:20260212T100000
DTEND;TZID=America/Chicago:20260212T113000
DTSTAMP:20260423T161358
CREATED:20250827T152548Z
LAST-MODIFIED:20260325T211912Z
UID:9966-1770890400-1770895800@stmamom.com
SUMMARY:Otsego Open Playtime
DESCRIPTION:Kids ages 5 & under are invited to play and meet new friends at Otsego’s Open Playtime. This drop-in program offers an open play session full of toys\, crafts\, active equipment\, and activities. Come for the whole time or stay while you can. (Parent/guardian supervision is required.) \nCost: $3/child at the door\, or pick up a punch pass!\nPlease check Facebook for closures due to holidays or inclement weather: \nNot meeting October 30\, November 27\, December 25\, January 19 and February 16\nLast day is Thursday\, May 14
URL:https://stmamom.com/event/otsego-open-playtime-2025-2026-02-12/
LOCATION:Prairie Center\, 8899 Nashua Ave NE\, Otsego\, MN\, 55330\, United States
ATTACH;FMTTYPE=image/png:https://stmamom.com/wp-content/uploads/2021/04/otsego-parks-rec-e1619580266549.png
ORGANIZER;CN="Otsego Parks & Recreation":MAILTO:recreation@ci.otsego.mn.us
END:VEVENT
BEGIN:VEVENT
DTSTART;TZID=America/Chicago:20260212T101500
DTEND;TZID=America/Chicago:20260212T114500
DTSTAMP:20260423T161358
CREATED:20250903T180906Z
LAST-MODIFIED:20250903T180906Z
UID:10036-1770891300-1770896700@stmamom.com
SUMMARY:ECFE Drop In & Play
DESCRIPTION:Drop in and play with your friends at ECFE! This monthly drop-in class offers young children and their caregivers a relaxed\, unstructured setting for connection and play. With no formal activities\, the focus is on creativity\, curiosity\, and making memories! \nFall Dates: September 18\, October 2 & 30\, November 13\, December 4\nWinter/Spring Dates: January 15 & 29\, February 12 & 26\, March 12\, April 16\, May 14 \nLocation: Community Education room #203\nCost: $2 per child / max $5/family (no preregistration required)
URL:https://stmamom.com/event/ecfe-drop-in-play-2025-2026-02-12/
LOCATION:STMA Community Education Building\, 60 Central Avenue W\, St. Michael\, MN\, 55376\, United States
ATTACH;FMTTYPE=image/jpeg:https://stmamom.com/wp-content/uploads/2021/04/ecfe-e1619575280453.jpg
END:VEVENT
BEGIN:VEVENT
DTSTART;TZID=America/Chicago:20260212T183000
DTEND;TZID=America/Chicago:20260212T193000
DTSTAMP:20260423T161358
CREATED:20260105T220246Z
LAST-MODIFIED:20260105T220246Z
UID:10030-1770921000-1770924600@stmamom.com
SUMMARY:FYCC Valentine Bingo
DESCRIPTION:Bring your family (grandparents included) for a fun night of bingo with FYCC. Have fun playing together and win some great prizes! \nCost: $25/family\nRegister at: https://secure.rec1.com/MN/family-youth-community-connections/catalog
URL:https://stmamom.com/event/fycc-valentine-bingo/
LOCATION:Albertville City Hall\, 5959 Main Ave NE\, Albertville\, MN\, 55301\, United States
ATTACH;FMTTYPE=image/png:https://stmamom.com/wp-content/uploads/2021/04/fycc-e1697061396286.png
ORGANIZER;CN="FYCC":MAILTO:FYCCinformation@gmail.com
END:VEVENT
BEGIN:VEVENT
DTSTART;VALUE=DATE:20260216
DTEND;VALUE=DATE:20260217
DTSTAMP:20260423T161358
CREATED:20260105T215659Z
LAST-MODIFIED:20260105T215659Z
UID:10026-1771200000-1771286399@stmamom.com
SUMMARY:NO SCHOOL STMA (Presidents Day)
DESCRIPTION:
URL:https://stmamom.com/event/no-school-stma-presidents-day/
LOCATION:MN
END:VEVENT
BEGIN:VEVENT
DTSTART;TZID=America/Chicago:20260217T140000
DTEND;TZID=America/Chicago:20260217T190000
DTSTAMP:20260423T161358
CREATED:20250827T144229Z
LAST-MODIFIED:20250827T144229Z
UID:10058-1771336800-1771354800@stmamom.com
SUMMARY:Library Sensory Stations
DESCRIPTION:Stop by the library for some self-led sensory fun! There will be mess-free activities and sensory bins out in the children’s area for free play. This activity is suitable for preschool ages and up.
URL:https://stmamom.com/event/library-sensory-stations-2026-02-17/
LOCATION:St. Michael Public Library\, 11800 Town Center Dr NE\, St. Michael\, MN\, 55376\, United States
ATTACH;FMTTYPE=image/jpeg:https://stmamom.com/wp-content/uploads/2019/09/st-michael-library.jpg
END:VEVENT
BEGIN:VEVENT
DTSTART;VALUE=DATE:20260219
DTEND;VALUE=DATE:20260223
DTSTAMP:20260423T161358
CREATED:20260128T202239Z
LAST-MODIFIED:20260128T202239Z
UID:10075-1771459200-1771804799@stmamom.com
SUMMARY:SOAR Presents: The SpongeBob Musical
DESCRIPTION:SOAR Regional Arts invites you to its upcoming production of The SpongeBob Musical\, a high-energy\, family-friendly stage event that brings the beloved world of Bikini Bottom to life. Bursting with color\, creativity\, and positivity\, this exciting youth production celebrates friendship\, courage\, and the power of believing in yourself. \n\nPerformance Dates & TimesThursday\, February 19 at 7pm\n(no performances on Friday)Saturday\, February 21 at 2pm and 7pm* (ASL interpreted performance)Sunday\, February 22 at 1pm & 4pm \nTickets: $12 online / $14 at the door\nPurchase online at soararts.org/tickets-academy
URL:https://stmamom.com/event/soar-presents-the-spongebob-musical/
LOCATION:STMA Middle School West\, 11343 50th St NE\, Albertville\, MN\, 55301\, United States
ATTACH;FMTTYPE=image/png:https://stmamom.com/wp-content/uploads/2021/04/soar-e1725544174724.png
ORGANIZER;CN="SOAR Regional Arts":MAILTO:laurynwhite@gmail.com
END:VEVENT
BEGIN:VEVENT
DTSTART;TZID=America/Chicago:20260219T100000
DTEND;TZID=America/Chicago:20260219T103000
DTSTAMP:20260423T161358
CREATED:20250827T141326Z
LAST-MODIFIED:20260325T212157Z
UID:9950-1771495200-1771497000@stmamom.com
SUMMARY:ECFE Storytime at the Library
DESCRIPTION:Come hang out at the library with your friends from ECFE! A staff member from STMA’s Early Childhood program will lead storytime along with crafts\, games\, songs. This event is intended for ages 0 to 6 along with their parent or caregiver.
URL:https://stmamom.com/event/ecfe-storytime-at-the-library-2-2026-02-19/
LOCATION:St. Michael Public Library\, 11800 Town Center Dr NE\, St. Michael\, MN\, 55376\, United States
ATTACH;FMTTYPE=image/jpeg:https://stmamom.com/wp-content/uploads/2021/04/ecfe-e1619575280453.jpg
END:VEVENT
BEGIN:VEVENT
DTSTART;TZID=America/Chicago:20260219T100000
DTEND;TZID=America/Chicago:20260219T113000
DTSTAMP:20260423T161358
CREATED:20250827T152548Z
LAST-MODIFIED:20260325T211912Z
UID:9968-1771495200-1771500600@stmamom.com
SUMMARY:Otsego Open Playtime
DESCRIPTION:Kids ages 5 & under are invited to play and meet new friends at Otsego’s Open Playtime. This drop-in program offers an open play session full of toys\, crafts\, active equipment\, and activities. Come for the whole time or stay while you can. (Parent/guardian supervision is required.) \nCost: $3/child at the door\, or pick up a punch pass!\nPlease check Facebook for closures due to holidays or inclement weather: \nNot meeting October 30\, November 27\, December 25\, January 19 and February 16\nLast day is Thursday\, May 14
URL:https://stmamom.com/event/otsego-open-playtime-2025-2026-02-19/
LOCATION:Prairie Center\, 8899 Nashua Ave NE\, Otsego\, MN\, 55330\, United States
ATTACH;FMTTYPE=image/png:https://stmamom.com/wp-content/uploads/2021/04/otsego-parks-rec-e1619580266549.png
ORGANIZER;CN="Otsego Parks & Recreation":MAILTO:recreation@ci.otsego.mn.us
END:VEVENT
BEGIN:VEVENT
DTSTART;TZID=America/Chicago:20260219T170000
DTEND;TZID=America/Chicago:20260219T180000
DTSTAMP:20260423T161358
CREATED:20240830T194317Z
LAST-MODIFIED:20260325T212543Z
UID:10055-1771520400-1771524000@stmamom.com
SUMMARY:LEGO Fun at the Library
DESCRIPTION:School-age kids are invited to show off their LEGO building skills! The library will provide the bricks\, you provide the imagination. Come meet with other builders and have some fun.
URL:https://stmamom.com/event/lego-fun-at-the-library-2026-02-19/
LOCATION:St. Michael Public Library\, 11800 Town Center Dr NE\, St. Michael\, MN\, 55376\, United States
ATTACH;FMTTYPE=image/jpeg:https://stmamom.com/wp-content/uploads/2024/08/lego-scaled.jpg
END:VEVENT
BEGIN:VEVENT
DTSTART;TZID=America/Chicago:20260220T081500
DTEND;TZID=America/Chicago:20260220T101500
DTSTAMP:20260423T161358
CREATED:20260105T210622Z
LAST-MODIFIED:20260105T210622Z
UID:9925-1771575300-1771582500@stmamom.com
SUMMARY:ECFE Dome Day
DESCRIPTION:Kids ages 6 and under are invited to run and play with friends at the STMA Dome from December 4 through March 20 on alternating Thursdays & Friday mornings. The cost is just $2 per child (max $5 per family)\, payable by cash at the door. No registration required.
URL:https://stmamom.com/event/ecfe-dome-day-2026-2026-02-20/
LOCATION:STMA High School\, 5800 Jamison Ave NE\, St. Michael\, MN\, 55376\, United States
ATTACH;FMTTYPE=image/jpeg:https://stmamom.com/wp-content/uploads/2018/11/stmadome.jpg
END:VEVENT
BEGIN:VEVENT
DTSTART;TZID=America/Chicago:20260223T100000
DTEND;TZID=America/Chicago:20260223T113000
DTSTAMP:20260423T161358
CREATED:20250827T152548Z
LAST-MODIFIED:20260325T211912Z
UID:9969-1771840800-1771846200@stmamom.com
SUMMARY:Otsego Open Playtime
DESCRIPTION:Kids ages 5 & under are invited to play and meet new friends at Otsego’s Open Playtime. This drop-in program offers an open play session full of toys\, crafts\, active equipment\, and activities. Come for the whole time or stay while you can. (Parent/guardian supervision is required.) \nCost: $3/child at the door\, or pick up a punch pass!\nPlease check Facebook for closures due to holidays or inclement weather: \nNot meeting October 30\, November 27\, December 25\, January 19 and February 16\nLast day is Thursday\, May 14
URL:https://stmamom.com/event/otsego-open-playtime-2025-2026-02-23/
LOCATION:Prairie Center\, 8899 Nashua Ave NE\, Otsego\, MN\, 55330\, United States
ATTACH;FMTTYPE=image/png:https://stmamom.com/wp-content/uploads/2021/04/otsego-parks-rec-e1619580266549.png
ORGANIZER;CN="Otsego Parks & Recreation":MAILTO:recreation@ci.otsego.mn.us
END:VEVENT
BEGIN:VEVENT
DTSTART;TZID=America/Chicago:20260223T103000
DTEND;TZID=America/Chicago:20260223T113000
DTSTAMP:20260423T161358
CREATED:20230901T200258Z
LAST-MODIFIED:20260325T212238Z
UID:9943-1771842600-1771846200@stmamom.com
SUMMARY:Preschooler Play & Learn Workshop
DESCRIPTION:Encourage a love of learning as you and your child play\, explore\, discover\, count\, and create. Join the library staff anytime during the hour for an open-ended play session. Activities are designed for ages 1 to 5. Registration is not required\, but room limits may be enforced.
URL:https://stmamom.com/event/preschooler-play-learn-workshop-2026-02-23/
LOCATION:St. Michael Public Library\, 11800 Town Center Dr NE\, St. Michael\, MN\, 55376\, United States
ATTACH;FMTTYPE=image/jpeg:https://stmamom.com/wp-content/uploads/2019/09/st-michael-library.jpg
END:VEVENT
BEGIN:VEVENT
DTSTART;TZID=America/Chicago:20260223T180000
DTEND;TZID=America/Chicago:20260223T190000
DTSTAMP:20260423T161358
CREATED:20260128T193158Z
LAST-MODIFIED:20260128T193158Z
UID:10065-1771869600-1771873200@stmamom.com
SUMMARY:Pete the Cat's Groovy Adventures
DESCRIPTION:Join your friends at ECFE for a groovy good time with Pete the Cat! This literacy-based event invites children and their caregivers to step into the world of everyone’s favorite cool cat. Through interactive storytelling\, creative activities\, and playful moments\, families will explore early literacy skills in a fun and engaging way. “It’s all good” as you read\, play\, and learn together on this colorful adventure. \nCost: $10/family\nRegister online at stma.ce.eleyo.com/course/ecfe/7442/winter-spring-2026%E2%80%942/pete-the-cat-s-groovy-adventures
URL:https://stmamom.com/event/pete-the-cats-groovy-adventures/
LOCATION:STMA Community Education Building\, 60 Central Avenue W\, St. Michael\, MN\, 55376\, United States
ATTACH;FMTTYPE=image/jpeg:https://stmamom.com/wp-content/uploads/2021/04/ecfe-e1619575280453.jpg
END:VEVENT
BEGIN:VEVENT
DTSTART;TZID=America/Chicago:20260225T180000
DTEND;TZID=America/Chicago:20260225T191000
DTSTAMP:20260423T161358
CREATED:20250903T190403Z
LAST-MODIFIED:20250903T190403Z
UID:10050-1772042400-1772046600@stmamom.com
SUMMARY:Glow-n-Skate
DESCRIPTION:The coolest event in town! Glow-n-Skate is a special nighttime open skating event with the lights down and the music up. \nCost: $6/skater (includes glow necklace)\nRental skates: $2/pair
URL:https://stmamom.com/event/glow-n-skate-2025-2026-02-25/
LOCATION:Rogers Trustone Ice Arena\, 21080 141st Ave N\, Rogers\, MN\, 55374\, United States
ORGANIZER;CN="City of Rogers":MAILTO:info@rogersmn.gov
END:VEVENT
BEGIN:VEVENT
DTSTART;TZID=America/Chicago:20260226T081500
DTEND;TZID=America/Chicago:20260226T101500
DTSTAMP:20260423T161358
CREATED:20260105T210622Z
LAST-MODIFIED:20260105T210622Z
UID:9926-1772093700-1772100900@stmamom.com
SUMMARY:ECFE Dome Day
DESCRIPTION:Kids ages 6 and under are invited to run and play with friends at the STMA Dome from December 4 through March 20 on alternating Thursdays & Friday mornings. The cost is just $2 per child (max $5 per family)\, payable by cash at the door. No registration required.
URL:https://stmamom.com/event/ecfe-dome-day-2026-2026-02-26/
LOCATION:STMA High School\, 5800 Jamison Ave NE\, St. Michael\, MN\, 55376\, United States
ATTACH;FMTTYPE=image/jpeg:https://stmamom.com/wp-content/uploads/2018/11/stmadome.jpg
END:VEVENT
BEGIN:VEVENT
DTSTART;TZID=America/Chicago:20260226T100000
DTEND;TZID=America/Chicago:20260226T113000
DTSTAMP:20260423T161358
CREATED:20250827T152548Z
LAST-MODIFIED:20260325T211912Z
UID:9970-1772100000-1772105400@stmamom.com
SUMMARY:Otsego Open Playtime
DESCRIPTION:Kids ages 5 & under are invited to play and meet new friends at Otsego’s Open Playtime. This drop-in program offers an open play session full of toys\, crafts\, active equipment\, and activities. Come for the whole time or stay while you can. (Parent/guardian supervision is required.) \nCost: $3/child at the door\, or pick up a punch pass!\nPlease check Facebook for closures due to holidays or inclement weather: \nNot meeting October 30\, November 27\, December 25\, January 19 and February 16\nLast day is Thursday\, May 14
URL:https://stmamom.com/event/otsego-open-playtime-2025-2026-02-26/
LOCATION:Prairie Center\, 8899 Nashua Ave NE\, Otsego\, MN\, 55330\, United States
ATTACH;FMTTYPE=image/png:https://stmamom.com/wp-content/uploads/2021/04/otsego-parks-rec-e1619580266549.png
ORGANIZER;CN="Otsego Parks & Recreation":MAILTO:recreation@ci.otsego.mn.us
END:VEVENT
BEGIN:VEVENT
DTSTART;TZID=America/Chicago:20260226T101500
DTEND;TZID=America/Chicago:20260226T114500
DTSTAMP:20260423T161358
CREATED:20250903T180906Z
LAST-MODIFIED:20250903T180906Z
UID:10037-1772100900-1772106300@stmamom.com
SUMMARY:ECFE Drop In & Play
DESCRIPTION:Drop in and play with your friends at ECFE! This monthly drop-in class offers young children and their caregivers a relaxed\, unstructured setting for connection and play. With no formal activities\, the focus is on creativity\, curiosity\, and making memories! \nFall Dates: September 18\, October 2 & 30\, November 13\, December 4\nWinter/Spring Dates: January 15 & 29\, February 12 & 26\, March 12\, April 16\, May 14 \nLocation: Community Education room #203\nCost: $2 per child / max $5/family (no preregistration required)
URL:https://stmamom.com/event/ecfe-drop-in-play-2025-2026-02-26/
LOCATION:STMA Community Education Building\, 60 Central Avenue W\, St. Michael\, MN\, 55376\, United States
ATTACH;FMTTYPE=image/jpeg:https://stmamom.com/wp-content/uploads/2021/04/ecfe-e1619575280453.jpg
END:VEVENT
BEGIN:VEVENT
DTSTART;TZID=America/Chicago:20260227T100000
DTEND;TZID=America/Chicago:20260227T193000
DTSTAMP:20260423T161358
CREATED:20260227T192230Z
LAST-MODIFIED:20260227T192230Z
UID:10179-1772186400-1772220600@stmamom.com
SUMMARY:Egg Dive Pool Party (Monticello)
DESCRIPTION:Join Monticello Community Center for the best pool party of the year! The Egg Dive is a fun activity for ages 6 months to 12 years. Plastic eggs are dropped in the pool\, and swimmers collect the eggs and use them to “purchase” prizes. (Children 6 and younger must be accompanied by an adult within arm’s reach at all times.) \nCost: $10 for MCC members\, $18 non-members \nThis event takes place throughout the day and is broken up into three time slots: 10–11:30 am\, 4–5:30pm\, and 6–7:30pm.\nRegister online for a time slot: https://mymonti.clubautomation.com
URL:https://stmamom.com/event/egg-dive-pool-party-monticello-2/
LOCATION:Monticello Community Center\, 505 Walnut Street\, Monticello\, MN\, 55362\, United States
ATTACH;FMTTYPE=image/jpeg:https://stmamom.com/wp-content/uploads/2021/06/monticello.jpg
ORGANIZER;CN="City of Monticello":MAILTO:info@ci.monticello.mn.us
END:VEVENT
END:VCALENDAR